BEGIN:VCALENDAR
VERSION:2.0
PRODID:-//Unity Center DC - ECPv6.15.20//NONSGML v1.0//EN
CALSCALE:GREGORIAN
METHOD:PUBLISH
X-WR-CALNAME:Unity Center DC
X-ORIGINAL-URL:https://www.unitycenterdc.org
X-WR-CALDESC:Events for Unity Center DC
REFRESH-INTERVAL;VALUE=DURATION:PT1H
X-Robots-Tag:noindex
X-PUBLISHED-TTL:PT1H
BEGIN:VTIMEZONE
TZID:America/New_York
BEGIN:DAYLIGHT
TZOFFSETFROM:-0500
TZOFFSETTO:-0400
TZNAME:EDT
DTSTART:20240310T070000
END:DAYLIGHT
BEGIN:STANDARD
TZOFFSETFROM:-0400
TZOFFSETTO:-0500
TZNAME:EST
DTSTART:20241103T060000
END:STANDARD
BEGIN:DAYLIGHT
TZOFFSETFROM:-0500
TZOFFSETTO:-0400
TZNAME:EDT
DTSTART:20250309T070000
END:DAYLIGHT
BEGIN:STANDARD
TZOFFSETFROM:-0400
TZOFFSETTO:-0500
TZNAME:EST
DTSTART:20251102T060000
END:STANDARD
BEGIN:DAYLIGHT
TZOFFSETFROM:-0500
TZOFFSETTO:-0400
TZNAME:EDT
DTSTART:20260308T070000
END:DAYLIGHT
BEGIN:STANDARD
TZOFFSETFROM:-0400
TZOFFSETTO:-0500
TZNAME:EST
DTSTART:20261101T060000
END:STANDARD
END:VTIMEZONE
BEGIN:VEVENT
DTSTART;TZID=America/New_York:20251113T193000
DTEND;TZID=America/New_York:20251113T203000
DTSTAMP:20260423T183052
CREATED:20240502T184851Z
LAST-MODIFIED:20251215T020735Z
UID:10002439-1763062200-1763065800@www.unitycenterdc.org
SUMMARY:Book Group—Divine Audacity
DESCRIPTION:Book Group—Divine Audacity\n \nRev Linda Martella-Whitsett’s new book\, Divine Audacity makes the audacious claim that each of us can be “the light of the world” Jesus instructed his followers to be. She offers a path for living a deep and authentic life outside of the strictures of traditional religious categories. A refreshing approach\, in essence\, on how to be spiritual without being religious. \nWe need to jettison the idea of a God who is out there and above us. God is not a super-human who gives and takes\, punishes and rewards. God does not require human suffering and repentance. \nWe truly find God when we go inside to connect with divine light\, realize our oneness with God and others\, and let our light shine in the world. Martella-Whittset looks at what “divine light” is and how it is both audacious and normal to claim it for ourselves. Next she introduces us to 12 spiritual powers we can all develop and learn to use on a daily basis: faith\, understanding\, will\, imagination\, zeal power\, love\, wisdom\, strength\, order\, release\, and life itself. When we consciously shine our spiritual powers on ourselves\, not only are our lives improved\, but all of humanity can be enriched and transformed. Let your light shine! \nKindle\, new and used versions available at Amazon. \n((•)) Zoom to Meeting. \nMeeting ID: 896 6201 4678\nPasscode: book
URL:https://www.unitycenterdc.org/calendar/book-group-divine-audacity/2025-11-13/
LOCATION:Unity Center DC on Zoom\, Washington\, DC\, 20007
CATEGORIES:Class
ATTACH;FMTTYPE=image/jpeg:https://www.unitycenterdc.org/wp-content/uploads/2024/05/Divine-Audacity.jpg
GEO:38.9228637;-77.0720087
END:VEVENT
END:VCALENDAR