BEGIN:VCALENDAR
VERSION:2.0
PRODID:-//Unity Center DC - ECPv6.15.20//NONSGML v1.0//EN
CALSCALE:GREGORIAN
METHOD:PUBLISH
X-ORIGINAL-URL:https://www.unitycenterdc.org
X-WR-CALDESC:Events for Unity Center DC
REFRESH-INTERVAL;VALUE=DURATION:PT1H
X-Robots-Tag:noindex
X-PUBLISHED-TTL:PT1H
BEGIN:VTIMEZONE
TZID:America/New_York
BEGIN:DAYLIGHT
TZOFFSETFROM:-0500
TZOFFSETTO:-0400
TZNAME:EDT
DTSTART:20160313T070000
END:DAYLIGHT
BEGIN:STANDARD
TZOFFSETFROM:-0400
TZOFFSETTO:-0500
TZNAME:EST
DTSTART:20161106T060000
END:STANDARD
BEGIN:DAYLIGHT
TZOFFSETFROM:-0500
TZOFFSETTO:-0400
TZNAME:EDT
DTSTART:20170312T070000
END:DAYLIGHT
BEGIN:STANDARD
TZOFFSETFROM:-0400
TZOFFSETTO:-0500
TZNAME:EST
DTSTART:20171105T060000
END:STANDARD
BEGIN:DAYLIGHT
TZOFFSETFROM:-0500
TZOFFSETTO:-0400
TZNAME:EDT
DTSTART:20180311T070000
END:DAYLIGHT
BEGIN:STANDARD
TZOFFSETFROM:-0400
TZOFFSETTO:-0500
TZNAME:EST
DTSTART:20181104T060000
END:STANDARD
BEGIN:DAYLIGHT
TZOFFSETFROM:-0500
TZOFFSETTO:-0400
TZNAME:EDT
DTSTART:20190310T070000
END:DAYLIGHT
BEGIN:STANDARD
TZOFFSETFROM:-0400
TZOFFSETTO:-0500
TZNAME:EST
DTSTART:20191103T060000
END:STANDARD
BEGIN:DAYLIGHT
TZOFFSETFROM:-0500
TZOFFSETTO:-0400
TZNAME:EDT
DTSTART:20200308T070000
END:DAYLIGHT
BEGIN:STANDARD
TZOFFSETFROM:-0400
TZOFFSETTO:-0500
TZNAME:EST
DTSTART:20201101T060000
END:STANDARD
BEGIN:DAYLIGHT
TZOFFSETFROM:-0500
TZOFFSETTO:-0400
TZNAME:EDT
DTSTART:20210314T070000
END:DAYLIGHT
BEGIN:STANDARD
TZOFFSETFROM:-0400
TZOFFSETTO:-0500
TZNAME:EST
DTSTART:20211107T060000
END:STANDARD
BEGIN:DAYLIGHT
TZOFFSETFROM:-0500
TZOFFSETTO:-0400
TZNAME:EDT
DTSTART:20220313T070000
END:DAYLIGHT
BEGIN:STANDARD
TZOFFSETFROM:-0400
TZOFFSETTO:-0500
TZNAME:EST
DTSTART:20221106T060000
END:STANDARD
BEGIN:DAYLIGHT
TZOFFSETFROM:-0500
TZOFFSETTO:-0400
TZNAME:EDT
DTSTART:20230312T070000
END:DAYLIGHT
BEGIN:STANDARD
TZOFFSETFROM:-0400
TZOFFSETTO:-0500
TZNAME:EST
DTSTART:20231105T060000
END:STANDARD
BEGIN:DAYLIGHT
TZOFFSETFROM:-0500
TZOFFSETTO:-0400
TZNAME:EDT
DTSTART:20240310T070000
END:DAYLIGHT
BEGIN:STANDARD
TZOFFSETFROM:-0400
TZOFFSETTO:-0500
TZNAME:EST
DTSTART:20241103T060000
END:STANDARD
END:VTIMEZONE
BEGIN:VEVENT
DTSTART;TZID=America/New_York:20171211T100000
DTEND;TZID=America/New_York:20171211T120000
DTSTAMP:20260424T061607
CREATED:20170110T033550Z
LAST-MODIFIED:20170110T033550Z
UID:10000399-1512986400-1512993600@www.unitycenterdc.org
SUMMARY:Board of Trustees Meeting
DESCRIPTION:Monthly meeting of the COTH Board of Trustees.
URL:https://www.unitycenterdc.org/calendar/board-of-trustees-meeting/2017-12-11/
LOCATION:Unity Center DC on Zoom\, Washington\, DC\, 20007
CATEGORIES:Board of Trustees
ATTACH;FMTTYPE=image/jpeg:https://www.unitycenterdc.org/wp-content/uploads/2015/12/Board-Meeting.jpg
GEO:38.9228637;-77.0720087
END:VEVENT
BEGIN:VEVENT
DTSTART;TZID=America/New_York:20180106T093000
DTEND;TZID=America/New_York:20180106T113000
DTSTAMP:20260424T061607
CREATED:20180111T211018Z
LAST-MODIFIED:20181025T181359Z
UID:10000680-1515231000-1515238200@www.unitycenterdc.org
SUMMARY:Board of Trustees Meeting
DESCRIPTION:Monthly meeting of UCDC’s Board of Trustees. These meetings are open to members for observation.
URL:https://www.unitycenterdc.org/calendar/board-of-trustees-meeting-2/2018-01-06/
LOCATION:3655 Calvert St\, NW\, Washington\, DC\, 20007\, United States
CATEGORIES:Board of Trustees
ATTACH;FMTTYPE=image/jpeg:https://www.unitycenterdc.org/wp-content/uploads/2015/12/Board-Meeting.jpg
END:VEVENT
BEGIN:VEVENT
DTSTART;TZID=America/New_York:20180203T093000
DTEND;TZID=America/New_York:20180203T113000
DTSTAMP:20260424T061607
CREATED:20180111T211018Z
LAST-MODIFIED:20181025T181359Z
UID:10000681-1517650200-1517657400@www.unitycenterdc.org
SUMMARY:Board of Trustees Meeting
DESCRIPTION:Monthly meeting of UCDC’s Board of Trustees. These meetings are open to members for observation.
URL:https://www.unitycenterdc.org/calendar/board-of-trustees-meeting-2/2018-02-03/
LOCATION:3655 Calvert St\, NW\, Washington\, DC\, 20007\, United States
CATEGORIES:Board of Trustees
ATTACH;FMTTYPE=image/jpeg:https://www.unitycenterdc.org/wp-content/uploads/2015/12/Board-Meeting.jpg
END:VEVENT
BEGIN:VEVENT
DTSTART;TZID=America/New_York:20180303T093000
DTEND;TZID=America/New_York:20180303T113000
DTSTAMP:20260424T061607
CREATED:20180111T211018Z
LAST-MODIFIED:20181025T181359Z
UID:10000682-1520069400-1520076600@www.unitycenterdc.org
SUMMARY:Board of Trustees Meeting
DESCRIPTION:Monthly meeting of UCDC’s Board of Trustees. These meetings are open to members for observation.
URL:https://www.unitycenterdc.org/calendar/board-of-trustees-meeting-2/2018-03-03/
LOCATION:3655 Calvert St\, NW\, Washington\, DC\, 20007\, United States
CATEGORIES:Board of Trustees
ATTACH;FMTTYPE=image/jpeg:https://www.unitycenterdc.org/wp-content/uploads/2015/12/Board-Meeting.jpg
END:VEVENT
BEGIN:VEVENT
DTSTART;TZID=America/New_York:20180407T093000
DTEND;TZID=America/New_York:20180407T113000
DTSTAMP:20260424T061607
CREATED:20180111T211018Z
LAST-MODIFIED:20181025T181359Z
UID:10000683-1523093400-1523100600@www.unitycenterdc.org
SUMMARY:Board of Trustees Meeting
DESCRIPTION:Monthly meeting of UCDC’s Board of Trustees. These meetings are open to members for observation.
URL:https://www.unitycenterdc.org/calendar/board-of-trustees-meeting-2/2018-04-07/
LOCATION:3655 Calvert St\, NW\, Washington\, DC\, 20007\, United States
CATEGORIES:Board of Trustees
ATTACH;FMTTYPE=image/jpeg:https://www.unitycenterdc.org/wp-content/uploads/2015/12/Board-Meeting.jpg
END:VEVENT
BEGIN:VEVENT
DTSTART;TZID=America/New_York:20180505T093000
DTEND;TZID=America/New_York:20180505T113000
DTSTAMP:20260424T061607
CREATED:20180111T211018Z
LAST-MODIFIED:20181025T181359Z
UID:10000684-1525512600-1525519800@www.unitycenterdc.org
SUMMARY:Board of Trustees Meeting
DESCRIPTION:Monthly meeting of UCDC’s Board of Trustees. These meetings are open to members for observation.
URL:https://www.unitycenterdc.org/calendar/board-of-trustees-meeting-2/2018-05-05/
LOCATION:3655 Calvert St\, NW\, Washington\, DC\, 20007\, United States
CATEGORIES:Board of Trustees
ATTACH;FMTTYPE=image/jpeg:https://www.unitycenterdc.org/wp-content/uploads/2015/12/Board-Meeting.jpg
END:VEVENT
BEGIN:VEVENT
DTSTART;TZID=America/New_York:20180602T093000
DTEND;TZID=America/New_York:20180602T113000
DTSTAMP:20260424T061607
CREATED:20180111T211018Z
LAST-MODIFIED:20181025T181359Z
UID:10000685-1527931800-1527939000@www.unitycenterdc.org
SUMMARY:Board of Trustees Meeting
DESCRIPTION:Monthly meeting of UCDC’s Board of Trustees. These meetings are open to members for observation.
URL:https://www.unitycenterdc.org/calendar/board-of-trustees-meeting-2/2018-06-02/
LOCATION:3655 Calvert St\, NW\, Washington\, DC\, 20007\, United States
CATEGORIES:Board of Trustees
ATTACH;FMTTYPE=image/jpeg:https://www.unitycenterdc.org/wp-content/uploads/2015/12/Board-Meeting.jpg
END:VEVENT
BEGIN:VEVENT
DTSTART;TZID=America/New_York:20180707T093000
DTEND;TZID=America/New_York:20180707T113000
DTSTAMP:20260424T061607
CREATED:20180111T211018Z
LAST-MODIFIED:20181025T181359Z
UID:10000686-1530955800-1530963000@www.unitycenterdc.org
SUMMARY:Board of Trustees Meeting
DESCRIPTION:Monthly meeting of UCDC’s Board of Trustees. These meetings are open to members for observation.
URL:https://www.unitycenterdc.org/calendar/board-of-trustees-meeting-2/2018-07-07/
LOCATION:3655 Calvert St\, NW\, Washington\, DC\, 20007\, United States
CATEGORIES:Board of Trustees
ATTACH;FMTTYPE=image/jpeg:https://www.unitycenterdc.org/wp-content/uploads/2015/12/Board-Meeting.jpg
END:VEVENT
BEGIN:VEVENT
DTSTART;TZID=America/New_York:20180804T093000
DTEND;TZID=America/New_York:20180804T113000
DTSTAMP:20260424T061607
CREATED:20180111T211018Z
LAST-MODIFIED:20181025T181359Z
UID:10000687-1533375000-1533382200@www.unitycenterdc.org
SUMMARY:Board of Trustees Meeting
DESCRIPTION:Monthly meeting of UCDC’s Board of Trustees. These meetings are open to members for observation.
URL:https://www.unitycenterdc.org/calendar/board-of-trustees-meeting-2/2018-08-04/
LOCATION:3655 Calvert St\, NW\, Washington\, DC\, 20007\, United States
CATEGORIES:Board of Trustees
ATTACH;FMTTYPE=image/jpeg:https://www.unitycenterdc.org/wp-content/uploads/2015/12/Board-Meeting.jpg
END:VEVENT
BEGIN:VEVENT
DTSTART;TZID=America/New_York:20180901T093000
DTEND;TZID=America/New_York:20180901T113000
DTSTAMP:20260424T061607
CREATED:20180111T211018Z
LAST-MODIFIED:20181025T181359Z
UID:10000688-1535794200-1535801400@www.unitycenterdc.org
SUMMARY:Board of Trustees Meeting
DESCRIPTION:Monthly meeting of UCDC’s Board of Trustees. These meetings are open to members for observation.
URL:https://www.unitycenterdc.org/calendar/board-of-trustees-meeting-2/2018-09-01/
LOCATION:3655 Calvert St\, NW\, Washington\, DC\, 20007\, United States
CATEGORIES:Board of Trustees
ATTACH;FMTTYPE=image/jpeg:https://www.unitycenterdc.org/wp-content/uploads/2015/12/Board-Meeting.jpg
END:VEVENT
BEGIN:VEVENT
DTSTART;TZID=America/New_York:20180909T123000
DTEND;TZID=America/New_York:20180909T143000
DTSTAMP:20260424T061607
CREATED:20180111T211018Z
LAST-MODIFIED:20180830T191404Z
UID:10000694-1536496200-1536503400@www.unitycenterdc.org
SUMMARY:Board of Trustees Meeting
DESCRIPTION:Monthly meeting of COTH’s Board of Trustees. These meetings are open to members for observation.
URL:https://www.unitycenterdc.org/calendar/board-of-trustees-meeting-2-2018-09-01/
LOCATION:3655 Calvert St\, NW\, Washington\, DC\, 20007\, United States
CATEGORIES:Board of Trustees
ATTACH;FMTTYPE=image/jpeg:https://www.unitycenterdc.org/wp-content/uploads/2015/12/Board-Meeting.jpg
GEO:38.9229551;-77.0719611
X-APPLE-STRUCTURED-LOCATION;VALUE=URI;X-ADDRESS=3655 Calvert St NW Washington DC 20007 United States;X-APPLE-RADIUS=500;X-TITLE=3655 Calvert St\, NW:geo:-77.0719611,38.9229551
END:VEVENT
BEGIN:VEVENT
DTSTART;TZID=America/New_York:20181006T093000
DTEND;TZID=America/New_York:20181006T113000
DTSTAMP:20260424T061607
CREATED:20180111T211018Z
LAST-MODIFIED:20181025T181359Z
UID:10000689-1538818200-1538825400@www.unitycenterdc.org
SUMMARY:Board of Trustees Meeting
DESCRIPTION:Monthly meeting of UCDC’s Board of Trustees. These meetings are open to members for observation.
URL:https://www.unitycenterdc.org/calendar/board-of-trustees-meeting-2/2018-10-06/
LOCATION:3655 Calvert St\, NW\, Washington\, DC\, 20007\, United States
CATEGORIES:Board of Trustees
ATTACH;FMTTYPE=image/jpeg:https://www.unitycenterdc.org/wp-content/uploads/2015/12/Board-Meeting.jpg
END:VEVENT
BEGIN:VEVENT
DTSTART;TZID=America/New_York:20181103T093000
DTEND;TZID=America/New_York:20181103T113000
DTSTAMP:20260424T061607
CREATED:20180111T211018Z
LAST-MODIFIED:20181025T181359Z
UID:10000690-1541237400-1541244600@www.unitycenterdc.org
SUMMARY:Board of Trustees Meeting
DESCRIPTION:Monthly meeting of UCDC’s Board of Trustees. These meetings are open to members for observation.
URL:https://www.unitycenterdc.org/calendar/board-of-trustees-meeting-2/2018-11-03/
LOCATION:3655 Calvert St\, NW\, Washington\, DC\, 20007\, United States
CATEGORIES:Board of Trustees
ATTACH;FMTTYPE=image/jpeg:https://www.unitycenterdc.org/wp-content/uploads/2015/12/Board-Meeting.jpg
END:VEVENT
BEGIN:VEVENT
DTSTART;TZID=America/New_York:20181201T093000
DTEND;TZID=America/New_York:20181201T113000
DTSTAMP:20260424T061607
CREATED:20180111T211018Z
LAST-MODIFIED:20181025T181359Z
UID:10000691-1543656600-1543663800@www.unitycenterdc.org
SUMMARY:Board of Trustees Meeting
DESCRIPTION:Monthly meeting of UCDC’s Board of Trustees. These meetings are open to members for observation.
URL:https://www.unitycenterdc.org/calendar/board-of-trustees-meeting-2/2018-12-01/
LOCATION:3655 Calvert St\, NW\, Washington\, DC\, 20007\, United States
CATEGORIES:Board of Trustees
ATTACH;FMTTYPE=image/jpeg:https://www.unitycenterdc.org/wp-content/uploads/2015/12/Board-Meeting.jpg
END:VEVENT
BEGIN:VEVENT
DTSTART;TZID=America/New_York:20190105T093000
DTEND;TZID=America/New_York:20190105T113000
DTSTAMP:20260424T061607
CREATED:20180111T211018Z
LAST-MODIFIED:20181025T181359Z
UID:10000692-1546680600-1546687800@www.unitycenterdc.org
SUMMARY:Board of Trustees Meeting
DESCRIPTION:Monthly meeting of UCDC’s Board of Trustees. These meetings are open to members for observation.
URL:https://www.unitycenterdc.org/calendar/board-of-trustees-meeting-2/2019-01-05/
LOCATION:3655 Calvert St\, NW\, Washington\, DC\, 20007\, United States
CATEGORIES:Board of Trustees
ATTACH;FMTTYPE=image/jpeg:https://www.unitycenterdc.org/wp-content/uploads/2015/12/Board-Meeting.jpg
END:VEVENT
BEGIN:VEVENT
DTSTART;TZID=America/New_York:20190202T093000
DTEND;TZID=America/New_York:20190202T113000
DTSTAMP:20260424T061607
CREATED:20180111T211018Z
LAST-MODIFIED:20181025T181359Z
UID:10000693-1549099800-1549107000@www.unitycenterdc.org
SUMMARY:Board of Trustees Meeting
DESCRIPTION:Monthly meeting of UCDC’s Board of Trustees. These meetings are open to members for observation.
URL:https://www.unitycenterdc.org/calendar/board-of-trustees-meeting-2/2019-02-02/
LOCATION:3655 Calvert St\, NW\, Washington\, DC\, 20007\, United States
CATEGORIES:Board of Trustees
ATTACH;FMTTYPE=image/jpeg:https://www.unitycenterdc.org/wp-content/uploads/2015/12/Board-Meeting.jpg
END:VEVENT
BEGIN:VEVENT
DTSTART;TZID=America/New_York:20200126T123000
DTEND;TZID=America/New_York:20200126T140000
DTSTAMP:20260424T061607
CREATED:20200115T221359Z
LAST-MODIFIED:20200115T221359Z
UID:10000841-1580041800-1580047200@www.unitycenterdc.org
SUMMARY:Board Meeting
DESCRIPTION:Board Meetings are held the last Sunday of each month.
URL:https://www.unitycenterdc.org/calendar/board-meeting-2020-jan/
LOCATION:Unity Center DC on Zoom\, Washington\, DC\, 20007
CATEGORIES:Board of Trustees
ATTACH;FMTTYPE=image/jpeg:https://www.unitycenterdc.org/wp-content/uploads/2015/12/Board-Meeting.jpg
GEO:38.9228637;-77.0720087
END:VEVENT
BEGIN:VEVENT
DTSTART;TZID=America/New_York:20210417T100000
DTEND;TZID=America/New_York:20210417T120000
DTSTAMP:20260424T061607
CREATED:20210409T170913Z
LAST-MODIFIED:20210409T171003Z
UID:10001358-1618653600-1618660800@www.unitycenterdc.org
SUMMARY:Board Meeting
DESCRIPTION:Board Meeting—special meeting to discuss hybrid services.
URL:https://www.unitycenterdc.org/calendar/board-meeting-4/
LOCATION:3655 Calvert St\, NW\, Washington\, DC\, 20007\, United States
CATEGORIES:Board of Trustees
ATTACH;FMTTYPE=image/jpeg:https://www.unitycenterdc.org/wp-content/uploads/2021/04/Zoom-Board-Meeting.jpg
GEO:38.9071923;-77.0368707
X-APPLE-STRUCTURED-LOCATION;VALUE=URI;X-ADDRESS=3655 Calvert St NW Washington DC 20007 United States;X-APPLE-RADIUS=500;X-TITLE=3655 Calvert St\, NW:geo:-77.0368707,38.9071923
END:VEVENT
BEGIN:VEVENT
DTSTART;TZID=America/New_York:20210425T124500
DTEND;TZID=America/New_York:20210425T144500
DTSTAMP:20260424T061607
CREATED:20210409T172652Z
LAST-MODIFIED:20210409T172652Z
UID:10001359-1619354700-1619361900@www.unitycenterdc.org
SUMMARY:Board Meeting
DESCRIPTION:Board of Trustees monthly meeting.
URL:https://www.unitycenterdc.org/calendar/board-meeting-5/2021-04-25/
LOCATION:Unity Center DC on Zoom\, Washington\, DC\, 20007
CATEGORIES:Board of Trustees
ATTACH;FMTTYPE=image/jpeg:https://www.unitycenterdc.org/wp-content/uploads/2021/04/Zoom-Board-Meeting.jpg
GEO:38.9228637;-77.0720087
END:VEVENT
BEGIN:VEVENT
DTSTART;TZID=America/New_York:20210530T124500
DTEND;TZID=America/New_York:20210530T144500
DTSTAMP:20260424T061607
CREATED:20210409T172652Z
LAST-MODIFIED:20210409T172652Z
UID:10001360-1622378700-1622385900@www.unitycenterdc.org
SUMMARY:Board Meeting
DESCRIPTION:Board of Trustees monthly meeting.
URL:https://www.unitycenterdc.org/calendar/board-meeting-5/2021-05-30/
LOCATION:Unity Center DC on Zoom\, Washington\, DC\, 20007
CATEGORIES:Board of Trustees
ATTACH;FMTTYPE=image/jpeg:https://www.unitycenterdc.org/wp-content/uploads/2021/04/Zoom-Board-Meeting.jpg
GEO:38.9228637;-77.0720087
END:VEVENT
BEGIN:VEVENT
DTSTART;TZID=America/New_York:20210619T130000
DTEND;TZID=America/New_York:20210619T170000
DTSTAMP:20260424T061607
CREATED:20210412T145808Z
LAST-MODIFIED:20210412T145808Z
UID:10001368-1624107600-1624122000@www.unitycenterdc.org
SUMMARY:Board Retreat
DESCRIPTION:The Board of Trustees will hold a virtual retreat with Rev Clive deLaporte.
URL:https://www.unitycenterdc.org/calendar/board-retreat/
LOCATION:Unity Center DC on Zoom\, Washington\, DC\, 20007
CATEGORIES:Board of Trustees
ATTACH;FMTTYPE=image/jpeg:https://www.unitycenterdc.org/wp-content/uploads/2021/04/Zoom-Board-Meeting.jpg
GEO:38.9228637;-77.0720087
END:VEVENT
BEGIN:VEVENT
DTSTART;TZID=America/New_York:20210627T124500
DTEND;TZID=America/New_York:20210627T144500
DTSTAMP:20260424T061607
CREATED:20210409T172652Z
LAST-MODIFIED:20210409T172652Z
UID:10001361-1624797900-1624805100@www.unitycenterdc.org
SUMMARY:Board Meeting
DESCRIPTION:Board of Trustees monthly meeting.
URL:https://www.unitycenterdc.org/calendar/board-meeting-5/2021-06-27/
LOCATION:Unity Center DC on Zoom\, Washington\, DC\, 20007
CATEGORIES:Board of Trustees
ATTACH;FMTTYPE=image/jpeg:https://www.unitycenterdc.org/wp-content/uploads/2021/04/Zoom-Board-Meeting.jpg
GEO:38.9228637;-77.0720087
END:VEVENT
BEGIN:VEVENT
DTSTART;TZID=America/New_York:20210725T124500
DTEND;TZID=America/New_York:20210725T144500
DTSTAMP:20260424T061607
CREATED:20210409T172652Z
LAST-MODIFIED:20210409T172652Z
UID:10001362-1627217100-1627224300@www.unitycenterdc.org
SUMMARY:Board Meeting
DESCRIPTION:Board of Trustees monthly meeting.
URL:https://www.unitycenterdc.org/calendar/board-meeting-5/2021-07-25/
LOCATION:Unity Center DC on Zoom\, Washington\, DC\, 20007
CATEGORIES:Board of Trustees
ATTACH;FMTTYPE=image/jpeg:https://www.unitycenterdc.org/wp-content/uploads/2021/04/Zoom-Board-Meeting.jpg
GEO:38.9228637;-77.0720087
END:VEVENT
BEGIN:VEVENT
DTSTART;TZID=America/New_York:20210829T124500
DTEND;TZID=America/New_York:20210829T144500
DTSTAMP:20260424T061607
CREATED:20210409T172652Z
LAST-MODIFIED:20210409T172652Z
UID:10001363-1630241100-1630248300@www.unitycenterdc.org
SUMMARY:Board Meeting
DESCRIPTION:Board of Trustees monthly meeting.
URL:https://www.unitycenterdc.org/calendar/board-meeting-5/2021-08-29/
LOCATION:Unity Center DC on Zoom\, Washington\, DC\, 20007
CATEGORIES:Board of Trustees
ATTACH;FMTTYPE=image/jpeg:https://www.unitycenterdc.org/wp-content/uploads/2021/04/Zoom-Board-Meeting.jpg
GEO:38.9228637;-77.0720087
END:VEVENT
BEGIN:VEVENT
DTSTART;TZID=America/New_York:20210926T124500
DTEND;TZID=America/New_York:20210926T144500
DTSTAMP:20260424T061607
CREATED:20210409T172652Z
LAST-MODIFIED:20210409T172652Z
UID:10001364-1632660300-1632667500@www.unitycenterdc.org
SUMMARY:Board Meeting
DESCRIPTION:Board of Trustees monthly meeting.
URL:https://www.unitycenterdc.org/calendar/board-meeting-5/2021-09-26/
LOCATION:Unity Center DC on Zoom\, Washington\, DC\, 20007
CATEGORIES:Board of Trustees
ATTACH;FMTTYPE=image/jpeg:https://www.unitycenterdc.org/wp-content/uploads/2021/04/Zoom-Board-Meeting.jpg
GEO:38.9228637;-77.0720087
END:VEVENT
BEGIN:VEVENT
DTSTART;TZID=America/New_York:20211031T124500
DTEND;TZID=America/New_York:20211031T144500
DTSTAMP:20260424T061607
CREATED:20210409T172652Z
LAST-MODIFIED:20210409T172652Z
UID:10001365-1635684300-1635691500@www.unitycenterdc.org
SUMMARY:Board Meeting
DESCRIPTION:Board of Trustees monthly meeting.
URL:https://www.unitycenterdc.org/calendar/board-meeting-5/2021-10-31/
LOCATION:Unity Center DC on Zoom\, Washington\, DC\, 20007
CATEGORIES:Board of Trustees
ATTACH;FMTTYPE=image/jpeg:https://www.unitycenterdc.org/wp-content/uploads/2021/04/Zoom-Board-Meeting.jpg
GEO:38.9228637;-77.0720087
END:VEVENT
BEGIN:VEVENT
DTSTART;TZID=America/New_York:20211128T124500
DTEND;TZID=America/New_York:20211128T144500
DTSTAMP:20260424T061607
CREATED:20210409T172652Z
LAST-MODIFIED:20210409T172652Z
UID:10001366-1638103500-1638110700@www.unitycenterdc.org
SUMMARY:Board Meeting
DESCRIPTION:Board of Trustees monthly meeting.
URL:https://www.unitycenterdc.org/calendar/board-meeting-5/2021-11-28/
LOCATION:Unity Center DC on Zoom\, Washington\, DC\, 20007
CATEGORIES:Board of Trustees
ATTACH;FMTTYPE=image/jpeg:https://www.unitycenterdc.org/wp-content/uploads/2021/04/Zoom-Board-Meeting.jpg
GEO:38.9228637;-77.0720087
END:VEVENT
BEGIN:VEVENT
DTSTART;TZID=America/New_York:20211226T124500
DTEND;TZID=America/New_York:20211226T144500
DTSTAMP:20260424T061607
CREATED:20210409T172652Z
LAST-MODIFIED:20210409T172652Z
UID:10001367-1640522700-1640529900@www.unitycenterdc.org
SUMMARY:Board Meeting
DESCRIPTION:Board of Trustees monthly meeting.
URL:https://www.unitycenterdc.org/calendar/board-meeting-5/2021-12-26/
LOCATION:Unity Center DC on Zoom\, Washington\, DC\, 20007
CATEGORIES:Board of Trustees
ATTACH;FMTTYPE=image/jpeg:https://www.unitycenterdc.org/wp-content/uploads/2021/04/Zoom-Board-Meeting.jpg
GEO:38.9228637;-77.0720087
END:VEVENT
BEGIN:VEVENT
DTSTART;TZID=America/New_York:20230326T121500
DTEND;TZID=America/New_York:20230326T130000
DTSTAMP:20260424T061607
CREATED:20230302T183412Z
LAST-MODIFIED:20230302T183412Z
UID:10001642-1679832900-1679835600@www.unitycenterdc.org
SUMMARY:Annual Membership Meeting
DESCRIPTION:Annual Membership Meeting\nSunday\, March 26\, 2023\, 12:15PM after service.\nJoin us for our President’s message\, Treasure’s report and the election of new members of the Board of Trustees.
URL:https://www.unitycenterdc.org/calendar/annual-membership-meeting-2/
LOCATION:Unity Center DC on Zoom\, Washington\, DC\, 20007
CATEGORIES:Board of Trustees
ATTACH;FMTTYPE=image/jpeg:https://www.unitycenterdc.org/wp-content/uploads/2021/04/Zoom-Board-Meeting.jpg
GEO:38.9228637;-77.0720087
END:VEVENT
END:VCALENDAR