BEGIN:VCALENDAR
VERSION:2.0
PRODID:-//Unity Center DC - ECPv6.15.20//NONSGML v1.0//EN
CALSCALE:GREGORIAN
METHOD:PUBLISH
X-WR-CALNAME:Unity Center DC
X-ORIGINAL-URL:https://www.unitycenterdc.org
X-WR-CALDESC:Events for Unity Center DC
REFRESH-INTERVAL;VALUE=DURATION:PT1H
X-Robots-Tag:noindex
X-PUBLISHED-TTL:PT1H
BEGIN:VTIMEZONE
TZID:America/New_York
BEGIN:DAYLIGHT
TZOFFSETFROM:-0500
TZOFFSETTO:-0400
TZNAME:EDT
DTSTART:20140309T070000
END:DAYLIGHT
BEGIN:STANDARD
TZOFFSETFROM:-0400
TZOFFSETTO:-0500
TZNAME:EST
DTSTART:20141102T060000
END:STANDARD
BEGIN:DAYLIGHT
TZOFFSETFROM:-0500
TZOFFSETTO:-0400
TZNAME:EDT
DTSTART:20150308T070000
END:DAYLIGHT
BEGIN:STANDARD
TZOFFSETFROM:-0400
TZOFFSETTO:-0500
TZNAME:EST
DTSTART:20151101T060000
END:STANDARD
BEGIN:DAYLIGHT
TZOFFSETFROM:-0500
TZOFFSETTO:-0400
TZNAME:EDT
DTSTART:20160313T070000
END:DAYLIGHT
BEGIN:STANDARD
TZOFFSETFROM:-0400
TZOFFSETTO:-0500
TZNAME:EST
DTSTART:20161106T060000
END:STANDARD
BEGIN:DAYLIGHT
TZOFFSETFROM:-0500
TZOFFSETTO:-0400
TZNAME:EDT
DTSTART:20170312T070000
END:DAYLIGHT
BEGIN:STANDARD
TZOFFSETFROM:-0400
TZOFFSETTO:-0500
TZNAME:EST
DTSTART:20171105T060000
END:STANDARD
END:VTIMEZONE
BEGIN:VEVENT
DTSTART;TZID=America/New_York:20161216T100000
DTEND;TZID=America/New_York:20161216T120000
DTSTAMP:20260424T080248
CREATED:20160906T043616Z
LAST-MODIFIED:20170110T033217Z
UID:10000351-1481882400-1481889600@www.unitycenterdc.org
SUMMARY:Board Meeting
DESCRIPTION:Monthly meeting of the COTH Board of Trustees.
URL:https://www.unitycenterdc.org/calendar/board-meeting-3/2016-12-16/
LOCATION:Unity Center DC on Zoom\, Washington\, DC\, 20007
CATEGORIES:Board of Trustees
ATTACH;FMTTYPE=image/jpeg:https://www.unitycenterdc.org/wp-content/uploads/2015/12/Board-Meeting.jpg
GEO:38.9228637;-77.0720087
END:VEVENT
BEGIN:VEVENT
DTSTART;TZID=America/New_York:20161210T130000
DTEND;TZID=America/New_York:20161210T150000
DTSTAMP:20260424T080248
CREATED:20160906T043616Z
LAST-MODIFIED:20161203T011603Z
UID:10000353-1481374800-1481382000@www.unitycenterdc.org
SUMMARY:Board Meeting
DESCRIPTION:Monthly meeting of the COTH Board of Trustees.
URL:https://www.unitycenterdc.org/calendar/board-meeting-3-2016-12-17/
LOCATION:Unity Center DC on Zoom\, Washington\, DC\, 20007
CATEGORIES:Board of Trustees
ATTACH;FMTTYPE=image/jpeg:https://www.unitycenterdc.org/wp-content/uploads/2015/12/Board-Meeting.jpg
GEO:38.9228637;-77.0720087
END:VEVENT
BEGIN:VEVENT
DTSTART;TZID=America/New_York:20161116T100000
DTEND;TZID=America/New_York:20161116T120000
DTSTAMP:20260424T080248
CREATED:20160906T043616Z
LAST-MODIFIED:20170110T033217Z
UID:10000350-1479290400-1479297600@www.unitycenterdc.org
SUMMARY:Board Meeting
DESCRIPTION:Monthly meeting of the COTH Board of Trustees.
URL:https://www.unitycenterdc.org/calendar/board-meeting-3/2016-11-16/
LOCATION:Unity Center DC on Zoom\, Washington\, DC\, 20007
CATEGORIES:Board of Trustees
ATTACH;FMTTYPE=image/jpeg:https://www.unitycenterdc.org/wp-content/uploads/2015/12/Board-Meeting.jpg
GEO:38.9228637;-77.0720087
END:VEVENT
BEGIN:VEVENT
DTSTART;TZID=America/New_York:20161016T100000
DTEND;TZID=America/New_York:20161016T120000
DTSTAMP:20260424T080248
CREATED:20160906T043616Z
LAST-MODIFIED:20170110T033217Z
UID:10000349-1476612000-1476619200@www.unitycenterdc.org
SUMMARY:Board Meeting
DESCRIPTION:Monthly meeting of the COTH Board of Trustees.
URL:https://www.unitycenterdc.org/calendar/board-meeting-3/2016-10-16/
LOCATION:Unity Center DC on Zoom\, Washington\, DC\, 20007
CATEGORIES:Board of Trustees
ATTACH;FMTTYPE=image/jpeg:https://www.unitycenterdc.org/wp-content/uploads/2015/12/Board-Meeting.jpg
GEO:38.9228637;-77.0720087
END:VEVENT
BEGIN:VEVENT
DTSTART;TZID=America/New_York:20160916T100000
DTEND;TZID=America/New_York:20160916T120000
DTSTAMP:20260424T080248
CREATED:20160906T043616Z
LAST-MODIFIED:20170110T033217Z
UID:10000348-1474020000-1474027200@www.unitycenterdc.org
SUMMARY:Board Meeting
DESCRIPTION:Monthly meeting of the COTH Board of Trustees.
URL:https://www.unitycenterdc.org/calendar/board-meeting-3/2016-09-16/
LOCATION:Unity Center DC on Zoom\, Washington\, DC\, 20007
CATEGORIES:Board of Trustees
ATTACH;FMTTYPE=image/jpeg:https://www.unitycenterdc.org/wp-content/uploads/2015/12/Board-Meeting.jpg
GEO:38.9228637;-77.0720087
END:VEVENT
BEGIN:VEVENT
DTSTART;TZID=America/New_York:20160816T100000
DTEND;TZID=America/New_York:20160816T120000
DTSTAMP:20260424T080248
CREATED:20160906T043616Z
LAST-MODIFIED:20170110T033217Z
UID:10000347-1471341600-1471348800@www.unitycenterdc.org
SUMMARY:Board Meeting
DESCRIPTION:Monthly meeting of the COTH Board of Trustees.
URL:https://www.unitycenterdc.org/calendar/board-meeting-3/2016-08-16/
LOCATION:Unity Center DC on Zoom\, Washington\, DC\, 20007
CATEGORIES:Board of Trustees
ATTACH;FMTTYPE=image/jpeg:https://www.unitycenterdc.org/wp-content/uploads/2015/12/Board-Meeting.jpg
GEO:38.9228637;-77.0720087
END:VEVENT
BEGIN:VEVENT
DTSTART;TZID=America/New_York:20160716T100000
DTEND;TZID=America/New_York:20160716T120000
DTSTAMP:20260424T080248
CREATED:20160906T043616Z
LAST-MODIFIED:20170110T033217Z
UID:10000346-1468663200-1468670400@www.unitycenterdc.org
SUMMARY:Board Meeting
DESCRIPTION:Monthly meeting of the COTH Board of Trustees.
URL:https://www.unitycenterdc.org/calendar/board-meeting-3/2016-07-16/
LOCATION:Unity Center DC on Zoom\, Washington\, DC\, 20007
CATEGORIES:Board of Trustees
ATTACH;FMTTYPE=image/jpeg:https://www.unitycenterdc.org/wp-content/uploads/2015/12/Board-Meeting.jpg
GEO:38.9228637;-77.0720087
END:VEVENT
BEGIN:VEVENT
DTSTART;TZID=America/New_York:20160102T100000
DTEND;TZID=America/New_York:20160102T120000
DTSTAMP:20260424T080248
CREATED:20160105T001613Z
LAST-MODIFIED:20160105T002021Z
UID:10000009-1451728800-1451736000@www.unitycenterdc.org
SUMMARY:Board Meeting
DESCRIPTION:Board Meeting: Minister Search Review\, Staff Agreements\, Special Events\, Red Basket.
URL:https://www.unitycenterdc.org/calendar/board-meeting-2/
CATEGORIES:Board of Trustees
ATTACH;FMTTYPE=image/jpeg:https://www.unitycenterdc.org/wp-content/uploads/2015/12/Board-Meeting.jpg
END:VEVENT
BEGIN:VEVENT
DTSTART;TZID=America/New_York:20151212T100000
DTEND;TZID=America/New_York:20151212T120000
DTSTAMP:20260424T080248
CREATED:20151215T012604Z
LAST-MODIFIED:20151215T013044Z
UID:10000008-1449914400-1449921600@www.unitycenterdc.org
SUMMARY:Board Meeting
DESCRIPTION:Board Meeting to elect new officers.
URL:https://www.unitycenterdc.org/calendar/board-meeting/
CATEGORIES:Board of Trustees
ATTACH;FMTTYPE=image/jpeg:https://www.unitycenterdc.org/wp-content/uploads/2015/12/Board-Meeting.jpg
END:VEVENT
END:VCALENDAR