BEGIN:VCALENDAR
VERSION:2.0
PRODID:-//Unity Center DC - ECPv6.15.20//NONSGML v1.0//EN
CALSCALE:GREGORIAN
METHOD:PUBLISH
X-ORIGINAL-URL:https://www.unitycenterdc.org
X-WR-CALDESC:Events for Unity Center DC
REFRESH-INTERVAL;VALUE=DURATION:PT1H
X-Robots-Tag:noindex
X-PUBLISHED-TTL:PT1H
BEGIN:VTIMEZONE
TZID:America/New_York
BEGIN:DAYLIGHT
TZOFFSETFROM:-0500
TZOFFSETTO:-0400
TZNAME:EDT
DTSTART:20250309T070000
END:DAYLIGHT
BEGIN:STANDARD
TZOFFSETFROM:-0400
TZOFFSETTO:-0500
TZNAME:EST
DTSTART:20251102T060000
END:STANDARD
BEGIN:DAYLIGHT
TZOFFSETFROM:-0500
TZOFFSETTO:-0400
TZNAME:EDT
DTSTART:20260308T070000
END:DAYLIGHT
BEGIN:STANDARD
TZOFFSETFROM:-0400
TZOFFSETTO:-0500
TZNAME:EST
DTSTART:20261101T060000
END:STANDARD
BEGIN:DAYLIGHT
TZOFFSETFROM:-0500
TZOFFSETTO:-0400
TZNAME:EDT
DTSTART:20270314T070000
END:DAYLIGHT
BEGIN:STANDARD
TZOFFSETFROM:-0400
TZOFFSETTO:-0500
TZNAME:EST
DTSTART:20271107T060000
END:STANDARD
END:VTIMEZONE
BEGIN:VEVENT
DTSTART;TZID=America/New_York:20260120T193000
DTEND;TZID=America/New_York:20260120T203000
DTSTAMP:20260423T192433
CREATED:20251002T013243Z
LAST-MODIFIED:20251215T020453Z
UID:10002324-1768937400-1768941000@www.unitycenterdc.org
SUMMARY:New Thought Prosperity Principles Class
DESCRIPTION:Rev Karen Gray will offer a 13-week class beginning Tuesday\, October 21. It’s personal! Participants will examine personal prosperity principles\, and discuss fortifying and “blocking” mindsets. \nContent: We will explore key prosperity teachings from New Thought leaders including Charles Fillmore\, Eric Butterworth\, Neville Goddard\, John Randolph Price\, David Spangler\, Edwene Gaines\, and others. \nMaterials: one small book\, easily available online for ~$7.00. \nStructure: 13 sessions. Each will include a lesson\, group discussion\, a meditation and an exercise. Occasional reading or follow ups may be assigned between classes. \nSchedule: 13 nearly consecutive Tuesdays. A list of meeting dates will be established as we begin. Please plan to attend all (or most) sessions. \nTuition: Love offering. \nRSVP: Please let Karen know\, if you plan to participate. Write karen@karengray.com or text 202-744-5771. \n((•)) Zoom to Meeting\nMeeting ID: 814 4834 0994\nPasscode: prosperity
URL:https://www.unitycenterdc.org/calendar/new-thought-prosperity-principles-class/2026-01-20/
LOCATION:Unity Center DC on Zoom\, Washington\, DC\, 20007
CATEGORIES:Class
GEO:38.9228637;-77.0720087
END:VEVENT
BEGIN:VEVENT
DTSTART;TZID=America/New_York:20260127T193000
DTEND;TZID=America/New_York:20260127T203000
DTSTAMP:20260423T192433
CREATED:20251002T013243Z
LAST-MODIFIED:20251215T020453Z
UID:10002325-1769542200-1769545800@www.unitycenterdc.org
SUMMARY:New Thought Prosperity Principles Class
DESCRIPTION:Rev Karen Gray will offer a 13-week class beginning Tuesday\, October 21. It’s personal! Participants will examine personal prosperity principles\, and discuss fortifying and “blocking” mindsets. \nContent: We will explore key prosperity teachings from New Thought leaders including Charles Fillmore\, Eric Butterworth\, Neville Goddard\, John Randolph Price\, David Spangler\, Edwene Gaines\, and others. \nMaterials: one small book\, easily available online for ~$7.00. \nStructure: 13 sessions. Each will include a lesson\, group discussion\, a meditation and an exercise. Occasional reading or follow ups may be assigned between classes. \nSchedule: 13 nearly consecutive Tuesdays. A list of meeting dates will be established as we begin. Please plan to attend all (or most) sessions. \nTuition: Love offering. \nRSVP: Please let Karen know\, if you plan to participate. Write karen@karengray.com or text 202-744-5771. \n((•)) Zoom to Meeting\nMeeting ID: 814 4834 0994\nPasscode: prosperity
URL:https://www.unitycenterdc.org/calendar/new-thought-prosperity-principles-class/2026-01-27/
LOCATION:Unity Center DC on Zoom\, Washington\, DC\, 20007
CATEGORIES:Class
GEO:38.9228637;-77.0720087
END:VEVENT
BEGIN:VEVENT
DTSTART;TZID=America/New_York:20260309T193000
DTEND;TZID=America/New_York:20260309T210000
DTSTAMP:20260423T192433
CREATED:20260308T143006Z
LAST-MODIFIED:20260325T231602Z
UID:10002519-1773084600-1773090000@www.unitycenterdc.org
SUMMARY:Foundations of Unity Class
DESCRIPTION:Join Unity Minister Rev Vernelle Nelson for this seven-week Foundations of Unity class on Monday nights\, 7:30 to 9:00 PM. Begins Monday\, March 9. The course serves as an introduction to the metaphysical teachings that underpin Unity’s spiritual practice. \nPlease signup to receive class handouts and assignments. Sign up | Add to your calendar \n((•)) Zoom to Meeting\nMeeting id: 850 9657 2016 | Passcode: unity \nRequired Books:\nYou may wish to purchase these books to add to your library or click on the download link for a free pdf version. \nDiscover the Power Within You\, Eric Butterworth\, Download PDF\nLessons in Truth\, H. Emilie Cady\, Download PDF\nThe Revealing Word\, Charles Fillmore\, Download PDF \nAdditional/Recommended Reading\nHow I Used TRUTH\, H. Emilie Cady\nGod\, A Present Help\, H. Emilie Cady\nSermon on the Mount\, Emmet Fox\nThe New Testament a Story of Regeneration\, Catherine Thomas
URL:https://www.unitycenterdc.org/calendar/foundations-of-unity-class/2026-03-09/
CATEGORIES:Class
ATTACH;FMTTYPE=image/jpeg:https://www.unitycenterdc.org/wp-content/uploads/2026/03/Rev-Vernelle-Nelson.jpeg
END:VEVENT
BEGIN:VEVENT
DTSTART;TZID=America/New_York:20260316T193000
DTEND;TZID=America/New_York:20260316T210000
DTSTAMP:20260423T192433
CREATED:20260308T143006Z
LAST-MODIFIED:20260325T231602Z
UID:10002520-1773689400-1773694800@www.unitycenterdc.org
SUMMARY:Foundations of Unity Class
DESCRIPTION:Join Unity Minister Rev Vernelle Nelson for this seven-week Foundations of Unity class on Monday nights\, 7:30 to 9:00 PM. Begins Monday\, March 9. The course serves as an introduction to the metaphysical teachings that underpin Unity’s spiritual practice. \nPlease signup to receive class handouts and assignments. Sign up | Add to your calendar \n((•)) Zoom to Meeting\nMeeting id: 850 9657 2016 | Passcode: unity \nRequired Books:\nYou may wish to purchase these books to add to your library or click on the download link for a free pdf version. \nDiscover the Power Within You\, Eric Butterworth\, Download PDF\nLessons in Truth\, H. Emilie Cady\, Download PDF\nThe Revealing Word\, Charles Fillmore\, Download PDF \nAdditional/Recommended Reading\nHow I Used TRUTH\, H. Emilie Cady\nGod\, A Present Help\, H. Emilie Cady\nSermon on the Mount\, Emmet Fox\nThe New Testament a Story of Regeneration\, Catherine Thomas
URL:https://www.unitycenterdc.org/calendar/foundations-of-unity-class/2026-03-16/
CATEGORIES:Class
ATTACH;FMTTYPE=image/jpeg:https://www.unitycenterdc.org/wp-content/uploads/2026/03/Rev-Vernelle-Nelson.jpeg
END:VEVENT
BEGIN:VEVENT
DTSTART;TZID=America/New_York:20260323T193000
DTEND;TZID=America/New_York:20260323T210000
DTSTAMP:20260423T192433
CREATED:20260308T143006Z
LAST-MODIFIED:20260325T231602Z
UID:10002521-1774294200-1774299600@www.unitycenterdc.org
SUMMARY:Foundations of Unity Class
DESCRIPTION:Join Unity Minister Rev Vernelle Nelson for this seven-week Foundations of Unity class on Monday nights\, 7:30 to 9:00 PM. Begins Monday\, March 9. The course serves as an introduction to the metaphysical teachings that underpin Unity’s spiritual practice. \nPlease signup to receive class handouts and assignments. Sign up | Add to your calendar \n((•)) Zoom to Meeting\nMeeting id: 850 9657 2016 | Passcode: unity \nRequired Books:\nYou may wish to purchase these books to add to your library or click on the download link for a free pdf version. \nDiscover the Power Within You\, Eric Butterworth\, Download PDF\nLessons in Truth\, H. Emilie Cady\, Download PDF\nThe Revealing Word\, Charles Fillmore\, Download PDF \nAdditional/Recommended Reading\nHow I Used TRUTH\, H. Emilie Cady\nGod\, A Present Help\, H. Emilie Cady\nSermon on the Mount\, Emmet Fox\nThe New Testament a Story of Regeneration\, Catherine Thomas
URL:https://www.unitycenterdc.org/calendar/foundations-of-unity-class/2026-03-23/
CATEGORIES:Class
ATTACH;FMTTYPE=image/jpeg:https://www.unitycenterdc.org/wp-content/uploads/2026/03/Rev-Vernelle-Nelson.jpeg
END:VEVENT
BEGIN:VEVENT
DTSTART;TZID=America/New_York:20260330T193000
DTEND;TZID=America/New_York:20260330T210000
DTSTAMP:20260423T192433
CREATED:20260308T143006Z
LAST-MODIFIED:20260325T231602Z
UID:10002522-1774899000-1774904400@www.unitycenterdc.org
SUMMARY:Foundations of Unity Class
DESCRIPTION:Join Unity Minister Rev Vernelle Nelson for this seven-week Foundations of Unity class on Monday nights\, 7:30 to 9:00 PM. Begins Monday\, March 9. The course serves as an introduction to the metaphysical teachings that underpin Unity’s spiritual practice. \nPlease signup to receive class handouts and assignments. Sign up | Add to your calendar \n((•)) Zoom to Meeting\nMeeting id: 850 9657 2016 | Passcode: unity \nRequired Books:\nYou may wish to purchase these books to add to your library or click on the download link for a free pdf version. \nDiscover the Power Within You\, Eric Butterworth\, Download PDF\nLessons in Truth\, H. Emilie Cady\, Download PDF\nThe Revealing Word\, Charles Fillmore\, Download PDF \nAdditional/Recommended Reading\nHow I Used TRUTH\, H. Emilie Cady\nGod\, A Present Help\, H. Emilie Cady\nSermon on the Mount\, Emmet Fox\nThe New Testament a Story of Regeneration\, Catherine Thomas
URL:https://www.unitycenterdc.org/calendar/foundations-of-unity-class/2026-03-30/
CATEGORIES:Class
ATTACH;FMTTYPE=image/jpeg:https://www.unitycenterdc.org/wp-content/uploads/2026/03/Rev-Vernelle-Nelson.jpeg
END:VEVENT
BEGIN:VEVENT
DTSTART;TZID=America/New_York:20260406T193000
DTEND;TZID=America/New_York:20260406T210000
DTSTAMP:20260423T192433
CREATED:20260308T143006Z
LAST-MODIFIED:20260325T231602Z
UID:10002523-1775503800-1775509200@www.unitycenterdc.org
SUMMARY:Foundations of Unity Class
DESCRIPTION:Join Unity Minister Rev Vernelle Nelson for this seven-week Foundations of Unity class on Monday nights\, 7:30 to 9:00 PM. Begins Monday\, March 9. The course serves as an introduction to the metaphysical teachings that underpin Unity’s spiritual practice. \nPlease signup to receive class handouts and assignments. Sign up | Add to your calendar \n((•)) Zoom to Meeting\nMeeting id: 850 9657 2016 | Passcode: unity \nRequired Books:\nYou may wish to purchase these books to add to your library or click on the download link for a free pdf version. \nDiscover the Power Within You\, Eric Butterworth\, Download PDF\nLessons in Truth\, H. Emilie Cady\, Download PDF\nThe Revealing Word\, Charles Fillmore\, Download PDF \nAdditional/Recommended Reading\nHow I Used TRUTH\, H. Emilie Cady\nGod\, A Present Help\, H. Emilie Cady\nSermon on the Mount\, Emmet Fox\nThe New Testament a Story of Regeneration\, Catherine Thomas
URL:https://www.unitycenterdc.org/calendar/foundations-of-unity-class/2026-04-06/
CATEGORIES:Class
ATTACH;FMTTYPE=image/jpeg:https://www.unitycenterdc.org/wp-content/uploads/2026/03/Rev-Vernelle-Nelson.jpeg
END:VEVENT
BEGIN:VEVENT
DTSTART;TZID=America/New_York:20260413T193000
DTEND;TZID=America/New_York:20260413T210000
DTSTAMP:20260423T192433
CREATED:20260308T143006Z
LAST-MODIFIED:20260325T231602Z
UID:10002524-1776108600-1776114000@www.unitycenterdc.org
SUMMARY:Foundations of Unity Class
DESCRIPTION:Join Unity Minister Rev Vernelle Nelson for this seven-week Foundations of Unity class on Monday nights\, 7:30 to 9:00 PM. Begins Monday\, March 9. The course serves as an introduction to the metaphysical teachings that underpin Unity’s spiritual practice. \nPlease signup to receive class handouts and assignments. Sign up | Add to your calendar \n((•)) Zoom to Meeting\nMeeting id: 850 9657 2016 | Passcode: unity \nRequired Books:\nYou may wish to purchase these books to add to your library or click on the download link for a free pdf version. \nDiscover the Power Within You\, Eric Butterworth\, Download PDF\nLessons in Truth\, H. Emilie Cady\, Download PDF\nThe Revealing Word\, Charles Fillmore\, Download PDF \nAdditional/Recommended Reading\nHow I Used TRUTH\, H. Emilie Cady\nGod\, A Present Help\, H. Emilie Cady\nSermon on the Mount\, Emmet Fox\nThe New Testament a Story of Regeneration\, Catherine Thomas
URL:https://www.unitycenterdc.org/calendar/foundations-of-unity-class/2026-04-13/
CATEGORIES:Class
ATTACH;FMTTYPE=image/jpeg:https://www.unitycenterdc.org/wp-content/uploads/2026/03/Rev-Vernelle-Nelson.jpeg
END:VEVENT
BEGIN:VEVENT
DTSTART;TZID=America/New_York:20260420T193000
DTEND;TZID=America/New_York:20260420T210000
DTSTAMP:20260423T192433
CREATED:20260308T143006Z
LAST-MODIFIED:20260325T231602Z
UID:10002525-1776713400-1776718800@www.unitycenterdc.org
SUMMARY:Foundations of Unity Class
DESCRIPTION:Join Unity Minister Rev Vernelle Nelson for this seven-week Foundations of Unity class on Monday nights\, 7:30 to 9:00 PM. Begins Monday\, March 9. The course serves as an introduction to the metaphysical teachings that underpin Unity’s spiritual practice. \nPlease signup to receive class handouts and assignments. Sign up | Add to your calendar \n((•)) Zoom to Meeting\nMeeting id: 850 9657 2016 | Passcode: unity \nRequired Books:\nYou may wish to purchase these books to add to your library or click on the download link for a free pdf version. \nDiscover the Power Within You\, Eric Butterworth\, Download PDF\nLessons in Truth\, H. Emilie Cady\, Download PDF\nThe Revealing Word\, Charles Fillmore\, Download PDF \nAdditional/Recommended Reading\nHow I Used TRUTH\, H. Emilie Cady\nGod\, A Present Help\, H. Emilie Cady\nSermon on the Mount\, Emmet Fox\nThe New Testament a Story of Regeneration\, Catherine Thomas
URL:https://www.unitycenterdc.org/calendar/foundations-of-unity-class/2026-04-20/
CATEGORIES:Class
ATTACH;FMTTYPE=image/jpeg:https://www.unitycenterdc.org/wp-content/uploads/2026/03/Rev-Vernelle-Nelson.jpeg
END:VEVENT
END:VCALENDAR