BEGIN:VCALENDAR
VERSION:2.0
PRODID:-//Unity Center DC - ECPv6.15.20//NONSGML v1.0//EN
CALSCALE:GREGORIAN
METHOD:PUBLISH
X-ORIGINAL-URL:https://www.unitycenterdc.org
X-WR-CALDESC:Events for Unity Center DC
REFRESH-INTERVAL;VALUE=DURATION:PT1H
X-Robots-Tag:noindex
X-PUBLISHED-TTL:PT1H
BEGIN:VTIMEZONE
TZID:America/New_York
BEGIN:DAYLIGHT
TZOFFSETFROM:-0500
TZOFFSETTO:-0400
TZNAME:EDT
DTSTART:20250309T070000
END:DAYLIGHT
BEGIN:STANDARD
TZOFFSETFROM:-0400
TZOFFSETTO:-0500
TZNAME:EST
DTSTART:20251102T060000
END:STANDARD
BEGIN:DAYLIGHT
TZOFFSETFROM:-0500
TZOFFSETTO:-0400
TZNAME:EDT
DTSTART:20260308T070000
END:DAYLIGHT
BEGIN:STANDARD
TZOFFSETFROM:-0400
TZOFFSETTO:-0500
TZNAME:EST
DTSTART:20261101T060000
END:STANDARD
BEGIN:DAYLIGHT
TZOFFSETFROM:-0500
TZOFFSETTO:-0400
TZNAME:EDT
DTSTART:20270314T070000
END:DAYLIGHT
BEGIN:STANDARD
TZOFFSETFROM:-0400
TZOFFSETTO:-0500
TZNAME:EST
DTSTART:20271107T060000
END:STANDARD
END:VTIMEZONE
BEGIN:VEVENT
DTSTART;TZID=America/New_York:20260113T193000
DTEND;TZID=America/New_York:20260113T203000
DTSTAMP:20260423T191847
CREATED:20251002T013243Z
LAST-MODIFIED:20251215T020453Z
UID:10002323-1768332600-1768336200@www.unitycenterdc.org
SUMMARY:New Thought Prosperity Principles Class
DESCRIPTION:Rev Karen Gray will offer a 13-week class beginning Tuesday\, October 21. It’s personal! Participants will examine personal prosperity principles\, and discuss fortifying and “blocking” mindsets. \nContent: We will explore key prosperity teachings from New Thought leaders including Charles Fillmore\, Eric Butterworth\, Neville Goddard\, John Randolph Price\, David Spangler\, Edwene Gaines\, and others. \nMaterials: one small book\, easily available online for ~$7.00. \nStructure: 13 sessions. Each will include a lesson\, group discussion\, a meditation and an exercise. Occasional reading or follow ups may be assigned between classes. \nSchedule: 13 nearly consecutive Tuesdays. A list of meeting dates will be established as we begin. Please plan to attend all (or most) sessions. \nTuition: Love offering. \nRSVP: Please let Karen know\, if you plan to participate. Write karen@karengray.com or text 202-744-5771. \n((•)) Zoom to Meeting\nMeeting ID: 814 4834 0994\nPasscode: prosperity
URL:https://www.unitycenterdc.org/calendar/new-thought-prosperity-principles-class/2026-01-13/
LOCATION:Unity Center DC on Zoom\, Washington\, DC\, 20007
CATEGORIES:Class
GEO:38.9228637;-77.0720087
END:VEVENT
END:VCALENDAR