BEGIN:VCALENDAR
VERSION:2.0
PRODID:-//Unity Center DC - ECPv6.15.20//NONSGML v1.0//EN
CALSCALE:GREGORIAN
METHOD:PUBLISH
X-ORIGINAL-URL:https://www.unitycenterdc.org
X-WR-CALDESC:Events for Unity Center DC
REFRESH-INTERVAL;VALUE=DURATION:PT1H
X-Robots-Tag:noindex
X-PUBLISHED-TTL:PT1H
BEGIN:VTIMEZONE
TZID:America/New_York
BEGIN:DAYLIGHT
TZOFFSETFROM:-0500
TZOFFSETTO:-0400
TZNAME:EDT
DTSTART:20200308T070000
END:DAYLIGHT
BEGIN:STANDARD
TZOFFSETFROM:-0400
TZOFFSETTO:-0500
TZNAME:EST
DTSTART:20201101T060000
END:STANDARD
BEGIN:DAYLIGHT
TZOFFSETFROM:-0500
TZOFFSETTO:-0400
TZNAME:EDT
DTSTART:20210314T070000
END:DAYLIGHT
BEGIN:STANDARD
TZOFFSETFROM:-0400
TZOFFSETTO:-0500
TZNAME:EST
DTSTART:20211107T060000
END:STANDARD
BEGIN:DAYLIGHT
TZOFFSETFROM:-0500
TZOFFSETTO:-0400
TZNAME:EDT
DTSTART:20220313T070000
END:DAYLIGHT
BEGIN:STANDARD
TZOFFSETFROM:-0400
TZOFFSETTO:-0500
TZNAME:EST
DTSTART:20221106T060000
END:STANDARD
BEGIN:DAYLIGHT
TZOFFSETFROM:-0500
TZOFFSETTO:-0400
TZNAME:EDT
DTSTART:20230312T070000
END:DAYLIGHT
BEGIN:STANDARD
TZOFFSETFROM:-0400
TZOFFSETTO:-0500
TZNAME:EST
DTSTART:20231105T060000
END:STANDARD
BEGIN:DAYLIGHT
TZOFFSETFROM:-0500
TZOFFSETTO:-0400
TZNAME:EDT
DTSTART:20240310T070000
END:DAYLIGHT
BEGIN:STANDARD
TZOFFSETFROM:-0400
TZOFFSETTO:-0500
TZNAME:EST
DTSTART:20241103T060000
END:STANDARD
BEGIN:DAYLIGHT
TZOFFSETFROM:-0500
TZOFFSETTO:-0400
TZNAME:EDT
DTSTART:20250309T070000
END:DAYLIGHT
BEGIN:STANDARD
TZOFFSETFROM:-0400
TZOFFSETTO:-0500
TZNAME:EST
DTSTART:20251102T060000
END:STANDARD
BEGIN:DAYLIGHT
TZOFFSETFROM:-0500
TZOFFSETTO:-0400
TZNAME:EDT
DTSTART:20260308T070000
END:DAYLIGHT
BEGIN:STANDARD
TZOFFSETFROM:-0400
TZOFFSETTO:-0500
TZNAME:EST
DTSTART:20261101T060000
END:STANDARD
END:VTIMEZONE
BEGIN:VEVENT
DTSTART;TZID=America/New_York:20251005T150000
DTEND;TZID=America/New_York:20251005T170000
DTSTAMP:20260424T012217
CREATED:20251002T003715Z
LAST-MODIFIED:20251002T003715Z
UID:10002175-1759676400-1759683600@www.unitycenterdc.org
SUMMARY:Annual Picnic
DESCRIPTION:Annual Picnic—Homecoming\nSunday\, October 5\, 3:00 to 5:00 PM\nAdvent Lutheran Church\n2222 South Arlington Ridge Road\, Arlington\, VA\nWe will have our in-person annual picnic\, on the grounds of Advent Lutheran Church\, 2222 South Arlington Ridge Road\, Arlington\, VA 22202. The theme this year is Homecoming. Come on home to Unity Center DC! Bring your ants (and your uncles) and your favorite picnic dish to share! Let us know if you can stay to help clean up\, board@unitycenterdc.org.
URL:https://www.unitycenterdc.org/calendar/annual-picnic-2/
LOCATION:Unity Center DC on Zoom\, Washington\, DC\, 20007
CATEGORIES:Community Outreach
ATTACH;FMTTYPE=image/jpeg:https://www.unitycenterdc.org/wp-content/uploads/2025/10/Advent-Lutheran.jpeg
GEO:38.9228637;-77.0720087
END:VEVENT
BEGIN:VEVENT
DTSTART;TZID=America/New_York:20241006T150000
DTEND;TZID=America/New_York:20241006T170000
DTSTAMP:20260424T012217
CREATED:20241008T174714Z
LAST-MODIFIED:20241008T174714Z
UID:10001881-1728226800-1728234000@www.unitycenterdc.org
SUMMARY:30th Anniversary Annual Picnic
DESCRIPTION:Join us for a celebration of UCDC’s 30th Anniversary! Picnic held at Rev Karen Gray’s home. All are welcome—bring your favorite dish to share.
URL:https://www.unitycenterdc.org/calendar/30th-anniversary-annual-picnic/
CATEGORIES:Community Outreach
ATTACH;FMTTYPE=image/jpeg:https://www.unitycenterdc.org/wp-content/uploads/2024/10/30th-Anniversary.jpeg
END:VEVENT
BEGIN:VEVENT
DTSTART;TZID=America/New_York:20210711T170000
DTEND;TZID=America/New_York:20210711T190000
DTSTAMP:20260424T012217
CREATED:20210609T163901Z
LAST-MODIFIED:20210609T164027Z
UID:10001389-1626022800-1626030000@www.unitycenterdc.org
SUMMARY:Annual Picnic
DESCRIPTION:Annual Picnic\nSunday\, July 11\, 5:00 – 7:00 PM \nThis is an in-person community event at St. Luke’s held outside in the courtyard. All are welcome! UCDC will provide grills\, paper products\, condiments\, bottled beverages\, hamburgers and hot dogs to grill. This year\, we will also provide pre-prepared salads and ask you to bring desserts to share. If you would like to bring your entire meal—feel free! \nCOVID Concerns: There will be a bathroom available. Please bring/wear a mask if you would like\, but since we will be outside\, masks are not required. Email board@unitycenterdc.org with any questions.
URL:https://www.unitycenterdc.org/calendar/annual-picnic/
LOCATION:Unity Center DC on Zoom\, Washington\, DC\, 20007
CATEGORIES:Community Outreach
ATTACH;FMTTYPE=image/jpeg:https://www.unitycenterdc.org/wp-content/uploads/2021/06/UCDC-Annual-Picnic.jpg
GEO:38.9228637;-77.0720087
END:VEVENT
END:VCALENDAR