BEGIN:VCALENDAR
VERSION:2.0
PRODID:-//Unity Center DC - ECPv6.15.20//NONSGML v1.0//EN
CALSCALE:GREGORIAN
METHOD:PUBLISH
X-ORIGINAL-URL:https://www.unitycenterdc.org
X-WR-CALDESC:Events for Unity Center DC
REFRESH-INTERVAL;VALUE=DURATION:PT1H
X-Robots-Tag:noindex
X-PUBLISHED-TTL:PT1H
BEGIN:VTIMEZONE
TZID:America/New_York
BEGIN:DAYLIGHT
TZOFFSETFROM:-0500
TZOFFSETTO:-0400
TZNAME:EDT
DTSTART:20140309T070000
END:DAYLIGHT
BEGIN:STANDARD
TZOFFSETFROM:-0400
TZOFFSETTO:-0500
TZNAME:EST
DTSTART:20141102T060000
END:STANDARD
BEGIN:DAYLIGHT
TZOFFSETFROM:-0500
TZOFFSETTO:-0400
TZNAME:EDT
DTSTART:20150308T070000
END:DAYLIGHT
BEGIN:STANDARD
TZOFFSETFROM:-0400
TZOFFSETTO:-0500
TZNAME:EST
DTSTART:20151101T060000
END:STANDARD
BEGIN:DAYLIGHT
TZOFFSETFROM:-0500
TZOFFSETTO:-0400
TZNAME:EDT
DTSTART:20160313T070000
END:DAYLIGHT
BEGIN:STANDARD
TZOFFSETFROM:-0400
TZOFFSETTO:-0500
TZNAME:EST
DTSTART:20161106T060000
END:STANDARD
BEGIN:DAYLIGHT
TZOFFSETFROM:-0500
TZOFFSETTO:-0400
TZNAME:EDT
DTSTART:20170312T070000
END:DAYLIGHT
BEGIN:STANDARD
TZOFFSETFROM:-0400
TZOFFSETTO:-0500
TZNAME:EST
DTSTART:20171105T060000
END:STANDARD
END:VTIMEZONE
BEGIN:VEVENT
DTSTART;TZID=America/New_York:20160908T120000
DTEND;TZID=America/New_York:20160908T130000
DTSTAMP:20260424T121326
CREATED:20160906T025652Z
LAST-MODIFIED:20160906T031028Z
UID:10000321-1473336000-1473339600@www.unitycenterdc.org
SUMMARY:World Day of Prayer Worship Service
DESCRIPTION:World Day of Prayer is a 24-hour Prayer Vigil celebrated at Unity Village and in Unity centers and churches around the world. Please join us for this worship service.
URL:https://www.unitycenterdc.org/calendar/world-day-of-prayer-worship-service/
LOCATION:Unity Center DC on Zoom\, Washington\, DC\, 20007
CATEGORIES:Meditation,Prayer
ATTACH;FMTTYPE=image/jpeg:https://www.unitycenterdc.org/wp-content/uploads/2016/05/wdop-2016.jpg
GEO:38.9228637;-77.0720087
END:VEVENT
BEGIN:VEVENT
DTSTART;TZID=America/New_York:20160214T180000
DTEND;TZID=America/New_York:20160214T210000
DTSTAMP:20260424T121326
CREATED:20151112T160857Z
LAST-MODIFIED:20151202T221537Z
UID:10000065-1455472800-1455483600@www.unitycenterdc.org
SUMMARY:Intuitive Meditation Circle
DESCRIPTION:This monthly group uses meditation to expand and explore our connection to Spirit and messages from Spirit that surround us all day every day. Participants practice tuning into the ways in which Spirit communicates to us in images\, feelings\, sounds\, smells\, and direct messages. Experience in psychic sensitivity or mediumshuip is not required – come disocver your own ability to listen to Spirit as it speaks to you and through you to others. Love offering welcome.
URL:https://www.unitycenterdc.org/calendar/intuitive-meditation-circle/2016-02-14/
LOCATION:Unity Center DC on Zoom\, Washington\, DC\, 20007
CATEGORIES:Meditation
ATTACH;FMTTYPE=image/jpeg:https://www.unitycenterdc.org/wp-content/uploads/2015/11/Intutive-Meditation-Circle.jpeg
GEO:38.9228637;-77.0720087
END:VEVENT
BEGIN:VEVENT
DTSTART;TZID=America/New_York:20160114T180000
DTEND;TZID=America/New_York:20160114T210000
DTSTAMP:20260424T121326
CREATED:20151112T160857Z
LAST-MODIFIED:20151202T221537Z
UID:10000064-1452794400-1452805200@www.unitycenterdc.org
SUMMARY:Intuitive Meditation Circle
DESCRIPTION:This monthly group uses meditation to expand and explore our connection to Spirit and messages from Spirit that surround us all day every day. Participants practice tuning into the ways in which Spirit communicates to us in images\, feelings\, sounds\, smells\, and direct messages. Experience in psychic sensitivity or mediumshuip is not required – come disocver your own ability to listen to Spirit as it speaks to you and through you to others. Love offering welcome.
URL:https://www.unitycenterdc.org/calendar/intuitive-meditation-circle/2016-01-14/
LOCATION:Unity Center DC on Zoom\, Washington\, DC\, 20007
CATEGORIES:Meditation
ATTACH;FMTTYPE=image/jpeg:https://www.unitycenterdc.org/wp-content/uploads/2015/11/Intutive-Meditation-Circle.jpeg
GEO:38.9228637;-77.0720087
END:VEVENT
BEGIN:VEVENT
DTSTART;TZID=America/New_York:20151214T180000
DTEND;TZID=America/New_York:20151214T210000
DTSTAMP:20260424T121326
CREATED:20151112T160857Z
LAST-MODIFIED:20151202T221537Z
UID:10000063-1450116000-1450126800@www.unitycenterdc.org
SUMMARY:Intuitive Meditation Circle
DESCRIPTION:This monthly group uses meditation to expand and explore our connection to Spirit and messages from Spirit that surround us all day every day. Participants practice tuning into the ways in which Spirit communicates to us in images\, feelings\, sounds\, smells\, and direct messages. Experience in psychic sensitivity or mediumshuip is not required – come disocver your own ability to listen to Spirit as it speaks to you and through you to others. Love offering welcome.
URL:https://www.unitycenterdc.org/calendar/intuitive-meditation-circle/2015-12-14/
LOCATION:Unity Center DC on Zoom\, Washington\, DC\, 20007
CATEGORIES:Meditation
ATTACH;FMTTYPE=image/jpeg:https://www.unitycenterdc.org/wp-content/uploads/2015/11/Intutive-Meditation-Circle.jpeg
GEO:38.9228637;-77.0720087
END:VEVENT
BEGIN:VEVENT
DTSTART;TZID=America/New_York:20151114T180000
DTEND;TZID=America/New_York:20151114T210000
DTSTAMP:20260424T121326
CREATED:20151112T160857Z
LAST-MODIFIED:20151202T221537Z
UID:10000062-1447524000-1447534800@www.unitycenterdc.org
SUMMARY:Intuitive Meditation Circle
DESCRIPTION:This monthly group uses meditation to expand and explore our connection to Spirit and messages from Spirit that surround us all day every day. Participants practice tuning into the ways in which Spirit communicates to us in images\, feelings\, sounds\, smells\, and direct messages. Experience in psychic sensitivity or mediumshuip is not required – come disocver your own ability to listen to Spirit as it speaks to you and through you to others. Love offering welcome.
URL:https://www.unitycenterdc.org/calendar/intuitive-meditation-circle/2015-11-14/
LOCATION:Unity Center DC on Zoom\, Washington\, DC\, 20007
CATEGORIES:Meditation
ATTACH;FMTTYPE=image/jpeg:https://www.unitycenterdc.org/wp-content/uploads/2015/11/Intutive-Meditation-Circle.jpeg
GEO:38.9228637;-77.0720087
END:VEVENT
END:VCALENDAR