BEGIN:VCALENDAR
VERSION:2.0
PRODID:-//Unity Center DC - ECPv6.15.20//NONSGML v1.0//EN
CALSCALE:GREGORIAN
METHOD:PUBLISH
X-WR-CALNAME:Unity Center DC
X-ORIGINAL-URL:https://www.unitycenterdc.org
X-WR-CALDESC:Events for Unity Center DC
REFRESH-INTERVAL;VALUE=DURATION:PT1H
X-Robots-Tag:noindex
X-PUBLISHED-TTL:PT1H
BEGIN:VTIMEZONE
TZID:America/New_York
BEGIN:DAYLIGHT
TZOFFSETFROM:-0500
TZOFFSETTO:-0400
TZNAME:EDT
DTSTART:20210314T070000
END:DAYLIGHT
BEGIN:STANDARD
TZOFFSETFROM:-0400
TZOFFSETTO:-0500
TZNAME:EST
DTSTART:20211107T060000
END:STANDARD
BEGIN:DAYLIGHT
TZOFFSETFROM:-0500
TZOFFSETTO:-0400
TZNAME:EDT
DTSTART:20220313T070000
END:DAYLIGHT
BEGIN:STANDARD
TZOFFSETFROM:-0400
TZOFFSETTO:-0500
TZNAME:EST
DTSTART:20221106T060000
END:STANDARD
BEGIN:DAYLIGHT
TZOFFSETFROM:-0500
TZOFFSETTO:-0400
TZNAME:EDT
DTSTART:20230312T070000
END:DAYLIGHT
BEGIN:STANDARD
TZOFFSETFROM:-0400
TZOFFSETTO:-0500
TZNAME:EST
DTSTART:20231105T060000
END:STANDARD
END:VTIMEZONE
BEGIN:VEVENT
DTSTART;TZID=America/New_York:20220327T121500
DTEND;TZID=America/New_York:20220327T133000
DTSTAMP:20260424T134022
CREATED:20220308T194813Z
LAST-MODIFIED:20220308T194813Z
UID:10001425-1648383300-1648387800@www.unitycenterdc.org
SUMMARY:Annual Membership Meeting 2022
DESCRIPTION:Join our Annual Membership Meeting after service on Sunday\, March 27\, 12:15PM. All are welcome to attend. Only members may vote. \nJoan Morgan\, our Board of Trustees President\, will provide a summary of the year. John Bell will provide a treasurer’s report. And\, we will elect trustees to serve on the board.
URL:https://www.unitycenterdc.org/calendar/annual-membership-meeting-2022/
LOCATION:Unity Center DC on Zoom\, Washington\, DC\, 20007
CATEGORIES:Membership Meeting
ATTACH;FMTTYPE=image/png:https://www.unitycenterdc.org/wp-content/uploads/2020/12/Zoom-Desktop.png
GEO:38.9228637;-77.0720087
END:VEVENT
END:VCALENDAR