BEGIN:VCALENDAR
VERSION:2.0
PRODID:-//Unity Center DC - ECPv6.15.20//NONSGML v1.0//EN
CALSCALE:GREGORIAN
METHOD:PUBLISH
X-WR-CALNAME:Unity Center DC
X-ORIGINAL-URL:https://www.unitycenterdc.org
X-WR-CALDESC:Events for Unity Center DC
REFRESH-INTERVAL;VALUE=DURATION:PT1H
X-Robots-Tag:noindex
X-PUBLISHED-TTL:PT1H
BEGIN:VTIMEZONE
TZID:America/New_York
BEGIN:DAYLIGHT
TZOFFSETFROM:-0500
TZOFFSETTO:-0400
TZNAME:EDT
DTSTART:20230312T070000
END:DAYLIGHT
BEGIN:STANDARD
TZOFFSETFROM:-0400
TZOFFSETTO:-0500
TZNAME:EST
DTSTART:20231105T060000
END:STANDARD
BEGIN:DAYLIGHT
TZOFFSETFROM:-0500
TZOFFSETTO:-0400
TZNAME:EDT
DTSTART:20240310T070000
END:DAYLIGHT
BEGIN:STANDARD
TZOFFSETFROM:-0400
TZOFFSETTO:-0500
TZNAME:EST
DTSTART:20241103T060000
END:STANDARD
BEGIN:DAYLIGHT
TZOFFSETFROM:-0500
TZOFFSETTO:-0400
TZNAME:EDT
DTSTART:20250309T070000
END:DAYLIGHT
BEGIN:STANDARD
TZOFFSETFROM:-0400
TZOFFSETTO:-0500
TZNAME:EST
DTSTART:20251102T060000
END:STANDARD
END:VTIMEZONE
BEGIN:VEVENT
DTSTART;TZID=America/New_York:20241207T183000
DTEND;TZID=America/New_York:20241207T203000
DTSTAMP:20260425T074141
CREATED:20241105T221244Z
LAST-MODIFIED:20241105T221334Z
UID:10001887-1733596200-1733603400@www.unitycenterdc.org
SUMMARY:Garden of Lights Walk
DESCRIPTION:Brookside Gardens\nSaturday\, December 7\, 6:30 PM\nOur party of twelve will meetup at the Garden of Lights at Brookside Gardens this Saturday by 6:30PM. This is a 1/2-mile stroll through lighted displays similar to those you drive through during the holidays. This is an outdoor\, rain or shine event. Please dress accordingly. Please RSVP to board@unitycenterdc.org. \nDIRECTIONS\nBrookside Gardens is in Wheaton Regional Park\, just off Georgia Avenue (Maryland Highway 97) about three miles north of the Beltway. The actual address is 1800 Glenallen Ave.\, Wheaton. The Glenmont Metro station is about half a mile west\, but we figured most people would drive and carpooling might be fun. There appears to be good parking availability.
URL:https://www.unitycenterdc.org/calendar/garden-of-lights-walk/
LOCATION:Brookside\, 1800 Glenallen Ave.\, Wheaton\, United States
CATEGORIES:Monthly Gathering
ATTACH;FMTTYPE=image/png:https://www.unitycenterdc.org/wp-content/uploads/2022/11/Garden-of-Lights.png
END:VEVENT
END:VCALENDAR