BEGIN:VCALENDAR
VERSION:2.0
PRODID:-//Unity Center DC - ECPv6.15.20//NONSGML v1.0//EN
CALSCALE:GREGORIAN
METHOD:PUBLISH
X-WR-CALNAME:Unity Center DC
X-ORIGINAL-URL:https://www.unitycenterdc.org
X-WR-CALDESC:Events for Unity Center DC
REFRESH-INTERVAL;VALUE=DURATION:PT1H
X-Robots-Tag:noindex
X-PUBLISHED-TTL:PT1H
BEGIN:VTIMEZONE
TZID:America/New_York
BEGIN:DAYLIGHT
TZOFFSETFROM:-0500
TZOFFSETTO:-0400
TZNAME:EDT
DTSTART:20150308T070000
END:DAYLIGHT
BEGIN:STANDARD
TZOFFSETFROM:-0400
TZOFFSETTO:-0500
TZNAME:EST
DTSTART:20151101T060000
END:STANDARD
BEGIN:DAYLIGHT
TZOFFSETFROM:-0500
TZOFFSETTO:-0400
TZNAME:EDT
DTSTART:20160313T070000
END:DAYLIGHT
BEGIN:STANDARD
TZOFFSETFROM:-0400
TZOFFSETTO:-0500
TZNAME:EST
DTSTART:20161106T060000
END:STANDARD
BEGIN:DAYLIGHT
TZOFFSETFROM:-0500
TZOFFSETTO:-0400
TZNAME:EDT
DTSTART:20170312T070000
END:DAYLIGHT
BEGIN:STANDARD
TZOFFSETFROM:-0400
TZOFFSETTO:-0500
TZNAME:EST
DTSTART:20171105T060000
END:STANDARD
BEGIN:DAYLIGHT
TZOFFSETFROM:-0500
TZOFFSETTO:-0400
TZNAME:EDT
DTSTART:20180311T070000
END:DAYLIGHT
BEGIN:STANDARD
TZOFFSETFROM:-0400
TZOFFSETTO:-0500
TZNAME:EST
DTSTART:20181104T060000
END:STANDARD
END:VTIMEZONE
BEGIN:VEVENT
DTSTART;TZID=America/New_York:20160324T193000
DTEND;TZID=America/New_York:20160324T210000
DTSTAMP:20260424T061032
CREATED:20151112T224321Z
LAST-MODIFIED:20160602T145425Z
UID:10000298-1458847800-1458853200@www.unitycenterdc.org
SUMMARY:Choir Practice
DESCRIPTION:Weekly COTH choir practice. Contact Barbara Wilkinson if interested in joining.
URL:https://www.unitycenterdc.org/calendar/choir-practice-2/2016-03-24/
LOCATION:3655 Calvert St\, NW\, Washington\, 20007\, United States
CATEGORIES:Music
ATTACH;FMTTYPE=image/jpeg:https://www.unitycenterdc.org/wp-content/uploads/2015/11/Choir1-scaled.jpg
END:VEVENT
BEGIN:VEVENT
DTSTART;TZID=America/New_York:20160331T193000
DTEND;TZID=America/New_York:20160331T210000
DTSTAMP:20260424T061032
CREATED:20151112T224321Z
LAST-MODIFIED:20160602T145425Z
UID:10000299-1459452600-1459458000@www.unitycenterdc.org
SUMMARY:Choir Practice
DESCRIPTION:Weekly COTH choir practice. Contact Barbara Wilkinson if interested in joining.
URL:https://www.unitycenterdc.org/calendar/choir-practice-2/2016-03-31/
LOCATION:3655 Calvert St\, NW\, Washington\, 20007\, United States
CATEGORIES:Music
ATTACH;FMTTYPE=image/jpeg:https://www.unitycenterdc.org/wp-content/uploads/2015/11/Choir1-scaled.jpg
END:VEVENT
BEGIN:VEVENT
DTSTART;TZID=America/New_York:20160407T193000
DTEND;TZID=America/New_York:20160407T210000
DTSTAMP:20260424T061032
CREATED:20151112T224321Z
LAST-MODIFIED:20160602T145425Z
UID:10000300-1460057400-1460062800@www.unitycenterdc.org
SUMMARY:Choir Practice
DESCRIPTION:Weekly COTH choir practice. Contact Barbara Wilkinson if interested in joining.
URL:https://www.unitycenterdc.org/calendar/choir-practice-2/2016-04-07/
LOCATION:3655 Calvert St\, NW\, Washington\, 20007\, United States
CATEGORIES:Music
ATTACH;FMTTYPE=image/jpeg:https://www.unitycenterdc.org/wp-content/uploads/2015/11/Choir1-scaled.jpg
END:VEVENT
BEGIN:VEVENT
DTSTART;TZID=America/New_York:20160414T193000
DTEND;TZID=America/New_York:20160414T210000
DTSTAMP:20260424T061032
CREATED:20151112T224321Z
LAST-MODIFIED:20160602T145425Z
UID:10000301-1460662200-1460667600@www.unitycenterdc.org
SUMMARY:Choir Practice
DESCRIPTION:Weekly COTH choir practice. Contact Barbara Wilkinson if interested in joining.
URL:https://www.unitycenterdc.org/calendar/choir-practice-2/2016-04-14/
LOCATION:3655 Calvert St\, NW\, Washington\, 20007\, United States
CATEGORIES:Music
ATTACH;FMTTYPE=image/jpeg:https://www.unitycenterdc.org/wp-content/uploads/2015/11/Choir1-scaled.jpg
END:VEVENT
BEGIN:VEVENT
DTSTART;TZID=America/New_York:20160421T193000
DTEND;TZID=America/New_York:20160421T210000
DTSTAMP:20260424T061032
CREATED:20151112T224321Z
LAST-MODIFIED:20160602T145425Z
UID:10000302-1461267000-1461272400@www.unitycenterdc.org
SUMMARY:Choir Practice
DESCRIPTION:Weekly COTH choir practice. Contact Barbara Wilkinson if interested in joining.
URL:https://www.unitycenterdc.org/calendar/choir-practice-2/2016-04-21/
LOCATION:3655 Calvert St\, NW\, Washington\, 20007\, United States
CATEGORIES:Music
ATTACH;FMTTYPE=image/jpeg:https://www.unitycenterdc.org/wp-content/uploads/2015/11/Choir1-scaled.jpg
END:VEVENT
BEGIN:VEVENT
DTSTART;TZID=America/New_York:20160428T193000
DTEND;TZID=America/New_York:20160428T210000
DTSTAMP:20260424T061032
CREATED:20151112T224321Z
LAST-MODIFIED:20160602T145425Z
UID:10000303-1461871800-1461877200@www.unitycenterdc.org
SUMMARY:Choir Practice
DESCRIPTION:Weekly COTH choir practice. Contact Barbara Wilkinson if interested in joining.
URL:https://www.unitycenterdc.org/calendar/choir-practice-2/2016-04-28/
LOCATION:3655 Calvert St\, NW\, Washington\, 20007\, United States
CATEGORIES:Music
ATTACH;FMTTYPE=image/jpeg:https://www.unitycenterdc.org/wp-content/uploads/2015/11/Choir1-scaled.jpg
END:VEVENT
BEGIN:VEVENT
DTSTART;TZID=America/New_York:20160505T193000
DTEND;TZID=America/New_York:20160505T210000
DTSTAMP:20260424T061032
CREATED:20151112T224321Z
LAST-MODIFIED:20160602T145425Z
UID:10000304-1462476600-1462482000@www.unitycenterdc.org
SUMMARY:Choir Practice
DESCRIPTION:Weekly COTH choir practice. Contact Barbara Wilkinson if interested in joining.
URL:https://www.unitycenterdc.org/calendar/choir-practice-2/2016-05-05/
LOCATION:3655 Calvert St\, NW\, Washington\, 20007\, United States
CATEGORIES:Music
ATTACH;FMTTYPE=image/jpeg:https://www.unitycenterdc.org/wp-content/uploads/2015/11/Choir1-scaled.jpg
END:VEVENT
BEGIN:VEVENT
DTSTART;TZID=America/New_York:20160512T193000
DTEND;TZID=America/New_York:20160512T210000
DTSTAMP:20260424T061032
CREATED:20151112T224321Z
LAST-MODIFIED:20160602T145425Z
UID:10000305-1463081400-1463086800@www.unitycenterdc.org
SUMMARY:Choir Practice
DESCRIPTION:Weekly COTH choir practice. Contact Barbara Wilkinson if interested in joining.
URL:https://www.unitycenterdc.org/calendar/choir-practice-2/2016-05-12/
LOCATION:3655 Calvert St\, NW\, Washington\, 20007\, United States
CATEGORIES:Music
ATTACH;FMTTYPE=image/jpeg:https://www.unitycenterdc.org/wp-content/uploads/2015/11/Choir1-scaled.jpg
END:VEVENT
BEGIN:VEVENT
DTSTART;TZID=America/New_York:20160519T193000
DTEND;TZID=America/New_York:20160519T210000
DTSTAMP:20260424T061032
CREATED:20151112T224321Z
LAST-MODIFIED:20160527T121431Z
UID:10000090-1463686200-1463691600@www.unitycenterdc.org
SUMMARY:Choir Practice-Cancelled
DESCRIPTION:Weekly COTH choir practice. Contact Barbara Wilkinson if interested in joining.
URL:https://www.unitycenterdc.org/calendar/choir-practice-2-2016-05-19/
LOCATION:3655 Calvert St\, NW\, Washington\, 20007\, United States
CATEGORIES:Music
ATTACH;FMTTYPE=image/jpeg:https://www.unitycenterdc.org/wp-content/uploads/2015/11/Choir1-scaled.jpg
END:VEVENT
BEGIN:VEVENT
DTSTART;TZID=America/New_York:20160519T193000
DTEND;TZID=America/New_York:20160519T210000
DTSTAMP:20260424T061032
CREATED:20151112T224321Z
LAST-MODIFIED:20160602T145425Z
UID:10000306-1463686200-1463691600@www.unitycenterdc.org
SUMMARY:Choir Practice
DESCRIPTION:Weekly COTH choir practice. Contact Barbara Wilkinson if interested in joining.
URL:https://www.unitycenterdc.org/calendar/choir-practice-2/2016-05-19/
LOCATION:3655 Calvert St\, NW\, Washington\, 20007\, United States
CATEGORIES:Music
ATTACH;FMTTYPE=image/jpeg:https://www.unitycenterdc.org/wp-content/uploads/2015/11/Choir1-scaled.jpg
END:VEVENT
BEGIN:VEVENT
DTSTART;TZID=America/New_York:20160526T193000
DTEND;TZID=America/New_York:20160526T210000
DTSTAMP:20260424T061032
CREATED:20151112T224321Z
LAST-MODIFIED:20160602T145425Z
UID:10000307-1464291000-1464296400@www.unitycenterdc.org
SUMMARY:Choir Practice
DESCRIPTION:Weekly COTH choir practice. Contact Barbara Wilkinson if interested in joining.
URL:https://www.unitycenterdc.org/calendar/choir-practice-2/2016-05-26/
LOCATION:3655 Calvert St\, NW\, Washington\, 20007\, United States
CATEGORIES:Music
ATTACH;FMTTYPE=image/jpeg:https://www.unitycenterdc.org/wp-content/uploads/2015/11/Choir1-scaled.jpg
END:VEVENT
BEGIN:VEVENT
DTSTART;TZID=America/New_York:20160602T193000
DTEND;TZID=America/New_York:20160602T210000
DTSTAMP:20260424T061032
CREATED:20151112T224321Z
LAST-MODIFIED:20160602T145425Z
UID:10000308-1464895800-1464901200@www.unitycenterdc.org
SUMMARY:Choir Practice
DESCRIPTION:Weekly COTH choir practice. Contact Barbara Wilkinson if interested in joining.
URL:https://www.unitycenterdc.org/calendar/choir-practice-2/2016-06-02/
LOCATION:3655 Calvert St\, NW\, Washington\, 20007\, United States
CATEGORIES:Music
ATTACH;FMTTYPE=image/jpeg:https://www.unitycenterdc.org/wp-content/uploads/2015/11/Choir1-scaled.jpg
END:VEVENT
BEGIN:VEVENT
DTSTART;TZID=America/New_York:20160609T193000
DTEND;TZID=America/New_York:20160609T210000
DTSTAMP:20260424T061032
CREATED:20151112T224321Z
LAST-MODIFIED:20160602T145425Z
UID:10000309-1465500600-1465506000@www.unitycenterdc.org
SUMMARY:Choir Practice
DESCRIPTION:Weekly COTH choir practice. Contact Barbara Wilkinson if interested in joining.
URL:https://www.unitycenterdc.org/calendar/choir-practice-2/2016-06-09/
LOCATION:3655 Calvert St\, NW\, Washington\, 20007\, United States
CATEGORIES:Music
ATTACH;FMTTYPE=image/jpeg:https://www.unitycenterdc.org/wp-content/uploads/2015/11/Choir1-scaled.jpg
END:VEVENT
BEGIN:VEVENT
DTSTART;TZID=America/New_York:20160908T193000
DTEND;TZID=America/New_York:20160908T210000
DTSTAMP:20260424T061032
CREATED:20160906T041121Z
LAST-MODIFIED:20161006T230443Z
UID:10000325-1473363000-1473368400@www.unitycenterdc.org
SUMMARY:Choir Practice
DESCRIPTION:Weekly COTH choir practice. Contact Barbara Wilkinson if interested in joining.
URL:https://www.unitycenterdc.org/calendar/choir-practice-3/2016-09-08/
LOCATION:Unity Center DC on Zoom\, Washington\, DC\, 20007
CATEGORIES:Music
ATTACH;FMTTYPE=image/jpeg:https://www.unitycenterdc.org/wp-content/uploads/2015/11/Choir1-scaled.jpg
GEO:38.9228637;-77.0720087
END:VEVENT
BEGIN:VEVENT
DTSTART;TZID=America/New_York:20160915T193000
DTEND;TZID=America/New_York:20160915T210000
DTSTAMP:20260424T061032
CREATED:20160906T041121Z
LAST-MODIFIED:20161006T230443Z
UID:10000326-1473967800-1473973200@www.unitycenterdc.org
SUMMARY:Choir Practice
DESCRIPTION:Weekly COTH choir practice. Contact Barbara Wilkinson if interested in joining.
URL:https://www.unitycenterdc.org/calendar/choir-practice-3/2016-09-15/
LOCATION:Unity Center DC on Zoom\, Washington\, DC\, 20007
CATEGORIES:Music
ATTACH;FMTTYPE=image/jpeg:https://www.unitycenterdc.org/wp-content/uploads/2015/11/Choir1-scaled.jpg
GEO:38.9228637;-77.0720087
END:VEVENT
BEGIN:VEVENT
DTSTART;TZID=America/New_York:20160922T193000
DTEND;TZID=America/New_York:20160922T210000
DTSTAMP:20260424T061032
CREATED:20160906T041121Z
LAST-MODIFIED:20161006T230443Z
UID:10000327-1474572600-1474578000@www.unitycenterdc.org
SUMMARY:Choir Practice
DESCRIPTION:Weekly COTH choir practice. Contact Barbara Wilkinson if interested in joining.
URL:https://www.unitycenterdc.org/calendar/choir-practice-3/2016-09-22/
LOCATION:Unity Center DC on Zoom\, Washington\, DC\, 20007
CATEGORIES:Music
ATTACH;FMTTYPE=image/jpeg:https://www.unitycenterdc.org/wp-content/uploads/2015/11/Choir1-scaled.jpg
GEO:38.9228637;-77.0720087
END:VEVENT
BEGIN:VEVENT
DTSTART;TZID=America/New_York:20160929T193000
DTEND;TZID=America/New_York:20160929T210000
DTSTAMP:20260424T061032
CREATED:20160906T041121Z
LAST-MODIFIED:20161006T230443Z
UID:10000328-1475177400-1475182800@www.unitycenterdc.org
SUMMARY:Choir Practice
DESCRIPTION:Weekly COTH choir practice. Contact Barbara Wilkinson if interested in joining.
URL:https://www.unitycenterdc.org/calendar/choir-practice-3/2016-09-29/
LOCATION:Unity Center DC on Zoom\, Washington\, DC\, 20007
CATEGORIES:Music
ATTACH;FMTTYPE=image/jpeg:https://www.unitycenterdc.org/wp-content/uploads/2015/11/Choir1-scaled.jpg
GEO:38.9228637;-77.0720087
END:VEVENT
BEGIN:VEVENT
DTSTART;TZID=America/New_York:20161006T193000
DTEND;TZID=America/New_York:20161006T210000
DTSTAMP:20260424T061032
CREATED:20160906T041121Z
LAST-MODIFIED:20161006T230443Z
UID:10000329-1475782200-1475787600@www.unitycenterdc.org
SUMMARY:Choir Practice
DESCRIPTION:Weekly COTH choir practice. Contact Barbara Wilkinson if interested in joining.
URL:https://www.unitycenterdc.org/calendar/choir-practice-3/2016-10-06/
LOCATION:Unity Center DC on Zoom\, Washington\, DC\, 20007
CATEGORIES:Music
ATTACH;FMTTYPE=image/jpeg:https://www.unitycenterdc.org/wp-content/uploads/2015/11/Choir1-scaled.jpg
GEO:38.9228637;-77.0720087
END:VEVENT
BEGIN:VEVENT
DTSTART;TZID=America/New_York:20161013T193000
DTEND;TZID=America/New_York:20161013T210000
DTSTAMP:20260424T061032
CREATED:20160906T041121Z
LAST-MODIFIED:20161006T230443Z
UID:10000330-1476387000-1476392400@www.unitycenterdc.org
SUMMARY:Choir Practice
DESCRIPTION:Weekly COTH choir practice. Contact Barbara Wilkinson if interested in joining.
URL:https://www.unitycenterdc.org/calendar/choir-practice-3/2016-10-13/
LOCATION:Unity Center DC on Zoom\, Washington\, DC\, 20007
CATEGORIES:Music
ATTACH;FMTTYPE=image/jpeg:https://www.unitycenterdc.org/wp-content/uploads/2015/11/Choir1-scaled.jpg
GEO:38.9228637;-77.0720087
END:VEVENT
BEGIN:VEVENT
DTSTART;TZID=America/New_York:20161016T160000
DTEND;TZID=America/New_York:20161016T190000
DTSTAMP:20260424T061032
CREATED:20161006T225705Z
LAST-MODIFIED:20161006T230110Z
UID:10000381-1476633600-1476644400@www.unitycenterdc.org
SUMMARY:Recital with Katherine Riddle
DESCRIPTION:Recital with Katherine Riddle
URL:https://www.unitycenterdc.org/calendar/recital-with-katherine-riddle/
LOCATION:Unity Center DC on Zoom\, Washington\, DC\, 20007
CATEGORIES:Music
ATTACH;FMTTYPE=image/jpeg:https://www.unitycenterdc.org/wp-content/uploads/2016/05/riddleheadshot-scaled.jpg
GEO:38.9228637;-77.0720087
END:VEVENT
BEGIN:VEVENT
DTSTART;TZID=America/New_York:20161020T193000
DTEND;TZID=America/New_York:20161020T210000
DTSTAMP:20260424T061032
CREATED:20160906T041121Z
LAST-MODIFIED:20161006T230443Z
UID:10000331-1476991800-1476997200@www.unitycenterdc.org
SUMMARY:Choir Practice
DESCRIPTION:Weekly COTH choir practice. Contact Barbara Wilkinson if interested in joining.
URL:https://www.unitycenterdc.org/calendar/choir-practice-3/2016-10-20/
LOCATION:Unity Center DC on Zoom\, Washington\, DC\, 20007
CATEGORIES:Music
ATTACH;FMTTYPE=image/jpeg:https://www.unitycenterdc.org/wp-content/uploads/2015/11/Choir1-scaled.jpg
GEO:38.9228637;-77.0720087
END:VEVENT
BEGIN:VEVENT
DTSTART;TZID=America/New_York:20161027T193000
DTEND;TZID=America/New_York:20161027T210000
DTSTAMP:20260424T061032
CREATED:20160906T041121Z
LAST-MODIFIED:20161006T230443Z
UID:10000332-1477596600-1477602000@www.unitycenterdc.org
SUMMARY:Choir Practice
DESCRIPTION:Weekly COTH choir practice. Contact Barbara Wilkinson if interested in joining.
URL:https://www.unitycenterdc.org/calendar/choir-practice-3/2016-10-27/
LOCATION:Unity Center DC on Zoom\, Washington\, DC\, 20007
CATEGORIES:Music
ATTACH;FMTTYPE=image/jpeg:https://www.unitycenterdc.org/wp-content/uploads/2015/11/Choir1-scaled.jpg
GEO:38.9228637;-77.0720087
END:VEVENT
BEGIN:VEVENT
DTSTART;TZID=America/New_York:20161103T193000
DTEND;TZID=America/New_York:20161103T210000
DTSTAMP:20260424T061032
CREATED:20160906T041121Z
LAST-MODIFIED:20161006T230443Z
UID:10000333-1478201400-1478206800@www.unitycenterdc.org
SUMMARY:Choir Practice
DESCRIPTION:Weekly COTH choir practice. Contact Barbara Wilkinson if interested in joining.
URL:https://www.unitycenterdc.org/calendar/choir-practice-3/2016-11-03/
LOCATION:Unity Center DC on Zoom\, Washington\, DC\, 20007
CATEGORIES:Music
ATTACH;FMTTYPE=image/jpeg:https://www.unitycenterdc.org/wp-content/uploads/2015/11/Choir1-scaled.jpg
GEO:38.9228637;-77.0720087
END:VEVENT
BEGIN:VEVENT
DTSTART;TZID=America/New_York:20161110T193000
DTEND;TZID=America/New_York:20161110T210000
DTSTAMP:20260424T061032
CREATED:20160906T041121Z
LAST-MODIFIED:20161006T230443Z
UID:10000334-1478806200-1478811600@www.unitycenterdc.org
SUMMARY:Choir Practice
DESCRIPTION:Weekly COTH choir practice. Contact Barbara Wilkinson if interested in joining.
URL:https://www.unitycenterdc.org/calendar/choir-practice-3/2016-11-10/
LOCATION:Unity Center DC on Zoom\, Washington\, DC\, 20007
CATEGORIES:Music
ATTACH;FMTTYPE=image/jpeg:https://www.unitycenterdc.org/wp-content/uploads/2015/11/Choir1-scaled.jpg
GEO:38.9228637;-77.0720087
END:VEVENT
BEGIN:VEVENT
DTSTART;TZID=America/New_York:20161117T193000
DTEND;TZID=America/New_York:20161117T210000
DTSTAMP:20260424T061032
CREATED:20160906T041121Z
LAST-MODIFIED:20161006T230443Z
UID:10000335-1479411000-1479416400@www.unitycenterdc.org
SUMMARY:Choir Practice
DESCRIPTION:Weekly COTH choir practice. Contact Barbara Wilkinson if interested in joining.
URL:https://www.unitycenterdc.org/calendar/choir-practice-3/2016-11-17/
LOCATION:Unity Center DC on Zoom\, Washington\, DC\, 20007
CATEGORIES:Music
ATTACH;FMTTYPE=image/jpeg:https://www.unitycenterdc.org/wp-content/uploads/2015/11/Choir1-scaled.jpg
GEO:38.9228637;-77.0720087
END:VEVENT
BEGIN:VEVENT
DTSTART;TZID=America/New_York:20161124T193000
DTEND;TZID=America/New_York:20161124T210000
DTSTAMP:20260424T061032
CREATED:20160906T041121Z
LAST-MODIFIED:20161006T230443Z
UID:10000336-1480015800-1480021200@www.unitycenterdc.org
SUMMARY:Choir Practice
DESCRIPTION:Weekly COTH choir practice. Contact Barbara Wilkinson if interested in joining.
URL:https://www.unitycenterdc.org/calendar/choir-practice-3/2016-11-24/
LOCATION:Unity Center DC on Zoom\, Washington\, DC\, 20007
CATEGORIES:Music
ATTACH;FMTTYPE=image/jpeg:https://www.unitycenterdc.org/wp-content/uploads/2015/11/Choir1-scaled.jpg
GEO:38.9228637;-77.0720087
END:VEVENT
BEGIN:VEVENT
DTSTART;TZID=America/New_York:20161201T193000
DTEND;TZID=America/New_York:20161201T210000
DTSTAMP:20260424T061032
CREATED:20160906T041121Z
LAST-MODIFIED:20161006T230443Z
UID:10000337-1480620600-1480626000@www.unitycenterdc.org
SUMMARY:Choir Practice
DESCRIPTION:Weekly COTH choir practice. Contact Barbara Wilkinson if interested in joining.
URL:https://www.unitycenterdc.org/calendar/choir-practice-3/2016-12-01/
LOCATION:Unity Center DC on Zoom\, Washington\, DC\, 20007
CATEGORIES:Music
ATTACH;FMTTYPE=image/jpeg:https://www.unitycenterdc.org/wp-content/uploads/2015/11/Choir1-scaled.jpg
GEO:38.9228637;-77.0720087
END:VEVENT
BEGIN:VEVENT
DTSTART;TZID=America/New_York:20161208T193000
DTEND;TZID=America/New_York:20161208T210000
DTSTAMP:20260424T061032
CREATED:20160906T041121Z
LAST-MODIFIED:20161006T230443Z
UID:10000338-1481225400-1481230800@www.unitycenterdc.org
SUMMARY:Choir Practice
DESCRIPTION:Weekly COTH choir practice. Contact Barbara Wilkinson if interested in joining.
URL:https://www.unitycenterdc.org/calendar/choir-practice-3/2016-12-08/
LOCATION:Unity Center DC on Zoom\, Washington\, DC\, 20007
CATEGORIES:Music
ATTACH;FMTTYPE=image/jpeg:https://www.unitycenterdc.org/wp-content/uploads/2015/11/Choir1-scaled.jpg
GEO:38.9228637;-77.0720087
END:VEVENT
BEGIN:VEVENT
DTSTART;TZID=America/New_York:20161215T193000
DTEND;TZID=America/New_York:20161215T210000
DTSTAMP:20260424T061032
CREATED:20160906T041121Z
LAST-MODIFIED:20161006T230443Z
UID:10000339-1481830200-1481835600@www.unitycenterdc.org
SUMMARY:Choir Practice
DESCRIPTION:Weekly COTH choir practice. Contact Barbara Wilkinson if interested in joining.
URL:https://www.unitycenterdc.org/calendar/choir-practice-3/2016-12-15/
LOCATION:Unity Center DC on Zoom\, Washington\, DC\, 20007
CATEGORIES:Music
ATTACH;FMTTYPE=image/jpeg:https://www.unitycenterdc.org/wp-content/uploads/2015/11/Choir1-scaled.jpg
GEO:38.9228637;-77.0720087
END:VEVENT
BEGIN:VEVENT
DTSTART;TZID=America/New_York:20170112T193000
DTEND;TZID=America/New_York:20170112T210000
DTSTAMP:20260424T061032
CREATED:20170110T035258Z
LAST-MODIFIED:20170110T035517Z
UID:10000495-1484249400-1484254800@www.unitycenterdc.org
SUMMARY:Choir Practice
DESCRIPTION:Weekly COTH choir practice. Contact Barbara Wilkinson if interested in joining.
URL:https://www.unitycenterdc.org/calendar/choir-practice-4/2017-01-12/
LOCATION:Unity Center DC on Zoom\, Washington\, DC\, 20007
CATEGORIES:Music
ATTACH;FMTTYPE=image/jpeg:https://www.unitycenterdc.org/wp-content/uploads/2015/11/Choir1-scaled.jpg
GEO:38.9228637;-77.0720087
END:VEVENT
END:VCALENDAR