BEGIN:VCALENDAR
VERSION:2.0
PRODID:-//Unity Center DC - ECPv6.15.20//NONSGML v1.0//EN
CALSCALE:GREGORIAN
METHOD:PUBLISH
X-ORIGINAL-URL:https://www.unitycenterdc.org
X-WR-CALDESC:Events for Unity Center DC
REFRESH-INTERVAL;VALUE=DURATION:PT1H
X-Robots-Tag:noindex
X-PUBLISHED-TTL:PT1H
BEGIN:VTIMEZONE
TZID:America/New_York
BEGIN:DAYLIGHT
TZOFFSETFROM:-0500
TZOFFSETTO:-0400
TZNAME:EDT
DTSTART:20150308T070000
END:DAYLIGHT
BEGIN:STANDARD
TZOFFSETFROM:-0400
TZOFFSETTO:-0500
TZNAME:EST
DTSTART:20151101T060000
END:STANDARD
BEGIN:DAYLIGHT
TZOFFSETFROM:-0500
TZOFFSETTO:-0400
TZNAME:EDT
DTSTART:20160313T070000
END:DAYLIGHT
BEGIN:STANDARD
TZOFFSETFROM:-0400
TZOFFSETTO:-0500
TZNAME:EST
DTSTART:20161106T060000
END:STANDARD
BEGIN:DAYLIGHT
TZOFFSETFROM:-0500
TZOFFSETTO:-0400
TZNAME:EDT
DTSTART:20170312T070000
END:DAYLIGHT
BEGIN:STANDARD
TZOFFSETFROM:-0400
TZOFFSETTO:-0500
TZNAME:EST
DTSTART:20171105T060000
END:STANDARD
END:VTIMEZONE
BEGIN:VEVENT
DTSTART;TZID=America/New_York:20160117T113000
DTEND;TZID=America/New_York:20160117T123000
DTSTAMP:20260424T060811
CREATED:20160107T011030Z
LAST-MODIFIED:20160107T012718Z
UID:10000186-1453030200-1453033800@www.unitycenterdc.org
SUMMARY:Master Mind Prayer Group
DESCRIPTION:Mastermind Group Group Format. Each Sunday our Mastermind Group meets for approximately an hour after fellowship following the service. After an opening prayer\, the group attendees check in on their goals\, set intentions for the future\, identify prayer requests\, determine a prayer list for the week\, and denials and affirmations are formulated for those in need. \nAlthough no materials are required\, many members find it helpful to keep a prayer journal or MasterMind Journal. These materials are available at the bookstore at the beginning of the calendar year. New members are always welcome and no time commitment is required.
URL:https://www.unitycenterdc.org/calendar/master-mind-prayer-group/2016-01-17/
LOCATION:Unity Center DC on Zoom\, Washington\, DC\, 20007
CATEGORIES:Prayer
ATTACH;FMTTYPE=image/png:https://www.unitycenterdc.org/wp-content/uploads/2016/01/Master-Mind-Word-Cloud.png
GEO:38.9228637;-77.0720087
END:VEVENT
BEGIN:VEVENT
DTSTART;TZID=America/New_York:20160110T113000
DTEND;TZID=America/New_York:20160110T123000
DTSTAMP:20260424T060811
CREATED:20160107T011030Z
LAST-MODIFIED:20160107T012718Z
UID:10000185-1452425400-1452429000@www.unitycenterdc.org
SUMMARY:Master Mind Prayer Group
DESCRIPTION:Mastermind Group Group Format. Each Sunday our Mastermind Group meets for approximately an hour after fellowship following the service. After an opening prayer\, the group attendees check in on their goals\, set intentions for the future\, identify prayer requests\, determine a prayer list for the week\, and denials and affirmations are formulated for those in need. \nAlthough no materials are required\, many members find it helpful to keep a prayer journal or MasterMind Journal. These materials are available at the bookstore at the beginning of the calendar year. New members are always welcome and no time commitment is required.
URL:https://www.unitycenterdc.org/calendar/master-mind-prayer-group/2016-01-10/
LOCATION:Unity Center DC on Zoom\, Washington\, DC\, 20007
CATEGORIES:Prayer
ATTACH;FMTTYPE=image/png:https://www.unitycenterdc.org/wp-content/uploads/2016/01/Master-Mind-Word-Cloud.png
GEO:38.9228637;-77.0720087
END:VEVENT
BEGIN:VEVENT
DTSTART;TZID=America/New_York:20160103T113000
DTEND;TZID=America/New_York:20160103T123000
DTSTAMP:20260424T060811
CREATED:20160107T011030Z
LAST-MODIFIED:20160107T012718Z
UID:10000184-1451820600-1451824200@www.unitycenterdc.org
SUMMARY:Master Mind Prayer Group
DESCRIPTION:Mastermind Group Group Format. Each Sunday our Mastermind Group meets for approximately an hour after fellowship following the service. After an opening prayer\, the group attendees check in on their goals\, set intentions for the future\, identify prayer requests\, determine a prayer list for the week\, and denials and affirmations are formulated for those in need. \nAlthough no materials are required\, many members find it helpful to keep a prayer journal or MasterMind Journal. These materials are available at the bookstore at the beginning of the calendar year. New members are always welcome and no time commitment is required.
URL:https://www.unitycenterdc.org/calendar/master-mind-prayer-group/2016-01-03/
LOCATION:Unity Center DC on Zoom\, Washington\, DC\, 20007
CATEGORIES:Prayer
ATTACH;FMTTYPE=image/png:https://www.unitycenterdc.org/wp-content/uploads/2016/01/Master-Mind-Word-Cloud.png
GEO:38.9228637;-77.0720087
END:VEVENT
END:VCALENDAR