BEGIN:VCALENDAR
VERSION:2.0
PRODID:-//Unity Center DC - ECPv6.15.20//NONSGML v1.0//EN
CALSCALE:GREGORIAN
METHOD:PUBLISH
X-WR-CALNAME:Unity Center DC
X-ORIGINAL-URL:https://www.unitycenterdc.org
X-WR-CALDESC:Events for Unity Center DC
REFRESH-INTERVAL;VALUE=DURATION:PT1H
X-Robots-Tag:noindex
X-PUBLISHED-TTL:PT1H
BEGIN:VTIMEZONE
TZID:America/New_York
BEGIN:DAYLIGHT
TZOFFSETFROM:-0500
TZOFFSETTO:-0400
TZNAME:EDT
DTSTART:20220313T070000
END:DAYLIGHT
BEGIN:STANDARD
TZOFFSETFROM:-0400
TZOFFSETTO:-0500
TZNAME:EST
DTSTART:20221106T060000
END:STANDARD
BEGIN:DAYLIGHT
TZOFFSETFROM:-0500
TZOFFSETTO:-0400
TZNAME:EDT
DTSTART:20230312T070000
END:DAYLIGHT
BEGIN:STANDARD
TZOFFSETFROM:-0400
TZOFFSETTO:-0500
TZNAME:EST
DTSTART:20231105T060000
END:STANDARD
BEGIN:DAYLIGHT
TZOFFSETFROM:-0500
TZOFFSETTO:-0400
TZNAME:EDT
DTSTART:20240310T070000
END:DAYLIGHT
BEGIN:STANDARD
TZOFFSETFROM:-0400
TZOFFSETTO:-0500
TZNAME:EST
DTSTART:20241103T060000
END:STANDARD
BEGIN:DAYLIGHT
TZOFFSETFROM:-0500
TZOFFSETTO:-0400
TZNAME:EDT
DTSTART:20250309T070000
END:DAYLIGHT
BEGIN:STANDARD
TZOFFSETFROM:-0400
TZOFFSETTO:-0500
TZNAME:EST
DTSTART:20251102T060000
END:STANDARD
BEGIN:DAYLIGHT
TZOFFSETFROM:-0500
TZOFFSETTO:-0400
TZNAME:EDT
DTSTART:20260308T070000
END:DAYLIGHT
BEGIN:STANDARD
TZOFFSETFROM:-0400
TZOFFSETTO:-0500
TZNAME:EST
DTSTART:20261101T060000
END:STANDARD
END:VTIMEZONE
BEGIN:VEVENT
DTSTART;TZID=America/New_York:20250712T190000
DTEND;TZID=America/New_York:20250712T191500
DTSTAMP:20260423T181139
CREATED:20251002T222039Z
LAST-MODIFIED:20251003T134335Z
UID:10002218-1752346800-1752347700@www.unitycenterdc.org
SUMMARY:Peace Prayer Circle
DESCRIPTION:Wherever you are\nEvery Saturday\, 7:00 PM\nEach Saturday\, we join together in a virtual moment of prayer for global healing and peace. No matter where you are or what you are doing\, take this moment to connect to this powerful practice to bring peace to the world.
URL:https://www.unitycenterdc.org/calendar/peace-prayer-circle/2025-07-12/
LOCATION:Unity Center DC on Zoom\, Washington\, DC\, 20007
CATEGORIES:Prayer
ATTACH;FMTTYPE=image/png:https://www.unitycenterdc.org/wp-content/uploads/2025/01/Circle-of-Folks-low.png
GEO:38.9228637;-77.0720087
END:VEVENT
BEGIN:VEVENT
DTSTART;TZID=America/New_York:20250705T190000
DTEND;TZID=America/New_York:20250705T191500
DTSTAMP:20260423T181139
CREATED:20251002T222039Z
LAST-MODIFIED:20251003T134335Z
UID:10002217-1751742000-1751742900@www.unitycenterdc.org
SUMMARY:Peace Prayer Circle
DESCRIPTION:Wherever you are\nEvery Saturday\, 7:00 PM\nEach Saturday\, we join together in a virtual moment of prayer for global healing and peace. No matter where you are or what you are doing\, take this moment to connect to this powerful practice to bring peace to the world.
URL:https://www.unitycenterdc.org/calendar/peace-prayer-circle/2025-07-05/
LOCATION:Unity Center DC on Zoom\, Washington\, DC\, 20007
CATEGORIES:Prayer
ATTACH;FMTTYPE=image/png:https://www.unitycenterdc.org/wp-content/uploads/2025/01/Circle-of-Folks-low.png
GEO:38.9228637;-77.0720087
END:VEVENT
BEGIN:VEVENT
DTSTART;TZID=America/New_York:20250628T190000
DTEND;TZID=America/New_York:20250628T191500
DTSTAMP:20260423T181139
CREATED:20251002T222039Z
LAST-MODIFIED:20251003T134335Z
UID:10002216-1751137200-1751138100@www.unitycenterdc.org
SUMMARY:Peace Prayer Circle
DESCRIPTION:Wherever you are\nEvery Saturday\, 7:00 PM\nEach Saturday\, we join together in a virtual moment of prayer for global healing and peace. No matter where you are or what you are doing\, take this moment to connect to this powerful practice to bring peace to the world.
URL:https://www.unitycenterdc.org/calendar/peace-prayer-circle/2025-06-28/
LOCATION:Unity Center DC on Zoom\, Washington\, DC\, 20007
CATEGORIES:Prayer
ATTACH;FMTTYPE=image/png:https://www.unitycenterdc.org/wp-content/uploads/2025/01/Circle-of-Folks-low.png
GEO:38.9228637;-77.0720087
END:VEVENT
BEGIN:VEVENT
DTSTART;TZID=America/New_York:20250621T190000
DTEND;TZID=America/New_York:20250621T191500
DTSTAMP:20260423T181139
CREATED:20251002T222039Z
LAST-MODIFIED:20251003T134335Z
UID:10002215-1750532400-1750533300@www.unitycenterdc.org
SUMMARY:Peace Prayer Circle
DESCRIPTION:Wherever you are\nEvery Saturday\, 7:00 PM\nEach Saturday\, we join together in a virtual moment of prayer for global healing and peace. No matter where you are or what you are doing\, take this moment to connect to this powerful practice to bring peace to the world.
URL:https://www.unitycenterdc.org/calendar/peace-prayer-circle/2025-06-21/
LOCATION:Unity Center DC on Zoom\, Washington\, DC\, 20007
CATEGORIES:Prayer
ATTACH;FMTTYPE=image/png:https://www.unitycenterdc.org/wp-content/uploads/2025/01/Circle-of-Folks-low.png
GEO:38.9228637;-77.0720087
END:VEVENT
BEGIN:VEVENT
DTSTART;TZID=America/New_York:20250614T190000
DTEND;TZID=America/New_York:20250614T191500
DTSTAMP:20260423T181139
CREATED:20251002T222039Z
LAST-MODIFIED:20251003T134335Z
UID:10002214-1749927600-1749928500@www.unitycenterdc.org
SUMMARY:Peace Prayer Circle
DESCRIPTION:Wherever you are\nEvery Saturday\, 7:00 PM\nEach Saturday\, we join together in a virtual moment of prayer for global healing and peace. No matter where you are or what you are doing\, take this moment to connect to this powerful practice to bring peace to the world.
URL:https://www.unitycenterdc.org/calendar/peace-prayer-circle/2025-06-14/
LOCATION:Unity Center DC on Zoom\, Washington\, DC\, 20007
CATEGORIES:Prayer
ATTACH;FMTTYPE=image/png:https://www.unitycenterdc.org/wp-content/uploads/2025/01/Circle-of-Folks-low.png
GEO:38.9228637;-77.0720087
END:VEVENT
BEGIN:VEVENT
DTSTART;TZID=America/New_York:20250607T190000
DTEND;TZID=America/New_York:20250607T191500
DTSTAMP:20260423T181139
CREATED:20251002T222039Z
LAST-MODIFIED:20251003T134335Z
UID:10002213-1749322800-1749323700@www.unitycenterdc.org
SUMMARY:Peace Prayer Circle
DESCRIPTION:Wherever you are\nEvery Saturday\, 7:00 PM\nEach Saturday\, we join together in a virtual moment of prayer for global healing and peace. No matter where you are or what you are doing\, take this moment to connect to this powerful practice to bring peace to the world.
URL:https://www.unitycenterdc.org/calendar/peace-prayer-circle/2025-06-07/
LOCATION:Unity Center DC on Zoom\, Washington\, DC\, 20007
CATEGORIES:Prayer
ATTACH;FMTTYPE=image/png:https://www.unitycenterdc.org/wp-content/uploads/2025/01/Circle-of-Folks-low.png
GEO:38.9228637;-77.0720087
END:VEVENT
BEGIN:VEVENT
DTSTART;TZID=America/New_York:20250531T190000
DTEND;TZID=America/New_York:20250531T191500
DTSTAMP:20260423T181139
CREATED:20251002T222039Z
LAST-MODIFIED:20251003T134335Z
UID:10002212-1748718000-1748718900@www.unitycenterdc.org
SUMMARY:Peace Prayer Circle
DESCRIPTION:Wherever you are\nEvery Saturday\, 7:00 PM\nEach Saturday\, we join together in a virtual moment of prayer for global healing and peace. No matter where you are or what you are doing\, take this moment to connect to this powerful practice to bring peace to the world.
URL:https://www.unitycenterdc.org/calendar/peace-prayer-circle/2025-05-31/
LOCATION:Unity Center DC on Zoom\, Washington\, DC\, 20007
CATEGORIES:Prayer
ATTACH;FMTTYPE=image/png:https://www.unitycenterdc.org/wp-content/uploads/2025/01/Circle-of-Folks-low.png
GEO:38.9228637;-77.0720087
END:VEVENT
BEGIN:VEVENT
DTSTART;TZID=America/New_York:20250524T190000
DTEND;TZID=America/New_York:20250524T191500
DTSTAMP:20260423T181139
CREATED:20251002T222039Z
LAST-MODIFIED:20251003T134335Z
UID:10002211-1748113200-1748114100@www.unitycenterdc.org
SUMMARY:Peace Prayer Circle
DESCRIPTION:Wherever you are\nEvery Saturday\, 7:00 PM\nEach Saturday\, we join together in a virtual moment of prayer for global healing and peace. No matter where you are or what you are doing\, take this moment to connect to this powerful practice to bring peace to the world.
URL:https://www.unitycenterdc.org/calendar/peace-prayer-circle/2025-05-24/
LOCATION:Unity Center DC on Zoom\, Washington\, DC\, 20007
CATEGORIES:Prayer
ATTACH;FMTTYPE=image/png:https://www.unitycenterdc.org/wp-content/uploads/2025/01/Circle-of-Folks-low.png
GEO:38.9228637;-77.0720087
END:VEVENT
BEGIN:VEVENT
DTSTART;TZID=America/New_York:20250517T190000
DTEND;TZID=America/New_York:20250517T191500
DTSTAMP:20260423T181139
CREATED:20251002T222039Z
LAST-MODIFIED:20251003T134335Z
UID:10002210-1747508400-1747509300@www.unitycenterdc.org
SUMMARY:Peace Prayer Circle
DESCRIPTION:Wherever you are\nEvery Saturday\, 7:00 PM\nEach Saturday\, we join together in a virtual moment of prayer for global healing and peace. No matter where you are or what you are doing\, take this moment to connect to this powerful practice to bring peace to the world.
URL:https://www.unitycenterdc.org/calendar/peace-prayer-circle/2025-05-17/
LOCATION:Unity Center DC on Zoom\, Washington\, DC\, 20007
CATEGORIES:Prayer
ATTACH;FMTTYPE=image/png:https://www.unitycenterdc.org/wp-content/uploads/2025/01/Circle-of-Folks-low.png
GEO:38.9228637;-77.0720087
END:VEVENT
BEGIN:VEVENT
DTSTART;TZID=America/New_York:20250510T190000
DTEND;TZID=America/New_York:20250510T191500
DTSTAMP:20260423T181139
CREATED:20251002T222039Z
LAST-MODIFIED:20251003T134335Z
UID:10002209-1746903600-1746904500@www.unitycenterdc.org
SUMMARY:Peace Prayer Circle
DESCRIPTION:Wherever you are\nEvery Saturday\, 7:00 PM\nEach Saturday\, we join together in a virtual moment of prayer for global healing and peace. No matter where you are or what you are doing\, take this moment to connect to this powerful practice to bring peace to the world.
URL:https://www.unitycenterdc.org/calendar/peace-prayer-circle/2025-05-10/
LOCATION:Unity Center DC on Zoom\, Washington\, DC\, 20007
CATEGORIES:Prayer
ATTACH;FMTTYPE=image/png:https://www.unitycenterdc.org/wp-content/uploads/2025/01/Circle-of-Folks-low.png
GEO:38.9228637;-77.0720087
END:VEVENT
BEGIN:VEVENT
DTSTART;TZID=America/New_York:20250503T190000
DTEND;TZID=America/New_York:20250503T191500
DTSTAMP:20260423T181139
CREATED:20251002T222039Z
LAST-MODIFIED:20251003T134335Z
UID:10002208-1746298800-1746299700@www.unitycenterdc.org
SUMMARY:Peace Prayer Circle
DESCRIPTION:Wherever you are\nEvery Saturday\, 7:00 PM\nEach Saturday\, we join together in a virtual moment of prayer for global healing and peace. No matter where you are or what you are doing\, take this moment to connect to this powerful practice to bring peace to the world.
URL:https://www.unitycenterdc.org/calendar/peace-prayer-circle/2025-05-03/
LOCATION:Unity Center DC on Zoom\, Washington\, DC\, 20007
CATEGORIES:Prayer
ATTACH;FMTTYPE=image/png:https://www.unitycenterdc.org/wp-content/uploads/2025/01/Circle-of-Folks-low.png
GEO:38.9228637;-77.0720087
END:VEVENT
BEGIN:VEVENT
DTSTART;TZID=America/New_York:20250426T190000
DTEND;TZID=America/New_York:20250426T191500
DTSTAMP:20260423T181139
CREATED:20251002T222039Z
LAST-MODIFIED:20251003T134335Z
UID:10002207-1745694000-1745694900@www.unitycenterdc.org
SUMMARY:Peace Prayer Circle
DESCRIPTION:Wherever you are\nEvery Saturday\, 7:00 PM\nEach Saturday\, we join together in a virtual moment of prayer for global healing and peace. No matter where you are or what you are doing\, take this moment to connect to this powerful practice to bring peace to the world.
URL:https://www.unitycenterdc.org/calendar/peace-prayer-circle/2025-04-26/
LOCATION:Unity Center DC on Zoom\, Washington\, DC\, 20007
CATEGORIES:Prayer
ATTACH;FMTTYPE=image/png:https://www.unitycenterdc.org/wp-content/uploads/2025/01/Circle-of-Folks-low.png
GEO:38.9228637;-77.0720087
END:VEVENT
BEGIN:VEVENT
DTSTART;TZID=America/New_York:20250419T190000
DTEND;TZID=America/New_York:20250419T191500
DTSTAMP:20260423T181140
CREATED:20251002T222039Z
LAST-MODIFIED:20251003T134335Z
UID:10002206-1745089200-1745090100@www.unitycenterdc.org
SUMMARY:Peace Prayer Circle
DESCRIPTION:Wherever you are\nEvery Saturday\, 7:00 PM\nEach Saturday\, we join together in a virtual moment of prayer for global healing and peace. No matter where you are or what you are doing\, take this moment to connect to this powerful practice to bring peace to the world.
URL:https://www.unitycenterdc.org/calendar/peace-prayer-circle/2025-04-19/
LOCATION:Unity Center DC on Zoom\, Washington\, DC\, 20007
CATEGORIES:Prayer
ATTACH;FMTTYPE=image/png:https://www.unitycenterdc.org/wp-content/uploads/2025/01/Circle-of-Folks-low.png
GEO:38.9228637;-77.0720087
END:VEVENT
BEGIN:VEVENT
DTSTART;TZID=America/New_York:20250412T190000
DTEND;TZID=America/New_York:20250412T191500
DTSTAMP:20260423T181140
CREATED:20251002T222039Z
LAST-MODIFIED:20251003T134335Z
UID:10002205-1744484400-1744485300@www.unitycenterdc.org
SUMMARY:Peace Prayer Circle
DESCRIPTION:Wherever you are\nEvery Saturday\, 7:00 PM\nEach Saturday\, we join together in a virtual moment of prayer for global healing and peace. No matter where you are or what you are doing\, take this moment to connect to this powerful practice to bring peace to the world.
URL:https://www.unitycenterdc.org/calendar/peace-prayer-circle/2025-04-12/
LOCATION:Unity Center DC on Zoom\, Washington\, DC\, 20007
CATEGORIES:Prayer
ATTACH;FMTTYPE=image/png:https://www.unitycenterdc.org/wp-content/uploads/2025/01/Circle-of-Folks-low.png
GEO:38.9228637;-77.0720087
END:VEVENT
BEGIN:VEVENT
DTSTART;TZID=America/New_York:20250405T190000
DTEND;TZID=America/New_York:20250405T191500
DTSTAMP:20260423T181140
CREATED:20251002T222039Z
LAST-MODIFIED:20251003T134335Z
UID:10002204-1743879600-1743880500@www.unitycenterdc.org
SUMMARY:Peace Prayer Circle
DESCRIPTION:Wherever you are\nEvery Saturday\, 7:00 PM\nEach Saturday\, we join together in a virtual moment of prayer for global healing and peace. No matter where you are or what you are doing\, take this moment to connect to this powerful practice to bring peace to the world.
URL:https://www.unitycenterdc.org/calendar/peace-prayer-circle/2025-04-05/
LOCATION:Unity Center DC on Zoom\, Washington\, DC\, 20007
CATEGORIES:Prayer
ATTACH;FMTTYPE=image/png:https://www.unitycenterdc.org/wp-content/uploads/2025/01/Circle-of-Folks-low.png
GEO:38.9228637;-77.0720087
END:VEVENT
BEGIN:VEVENT
DTSTART;TZID=America/New_York:20250329T190000
DTEND;TZID=America/New_York:20250329T191500
DTSTAMP:20260423T181140
CREATED:20251002T222039Z
LAST-MODIFIED:20251003T134335Z
UID:10002203-1743274800-1743275700@www.unitycenterdc.org
SUMMARY:Peace Prayer Circle
DESCRIPTION:Wherever you are\nEvery Saturday\, 7:00 PM\nEach Saturday\, we join together in a virtual moment of prayer for global healing and peace. No matter where you are or what you are doing\, take this moment to connect to this powerful practice to bring peace to the world.
URL:https://www.unitycenterdc.org/calendar/peace-prayer-circle/2025-03-29/
LOCATION:Unity Center DC on Zoom\, Washington\, DC\, 20007
CATEGORIES:Prayer
ATTACH;FMTTYPE=image/png:https://www.unitycenterdc.org/wp-content/uploads/2025/01/Circle-of-Folks-low.png
GEO:38.9228637;-77.0720087
END:VEVENT
BEGIN:VEVENT
DTSTART;TZID=America/New_York:20250322T190000
DTEND;TZID=America/New_York:20250322T191500
DTSTAMP:20260423T181140
CREATED:20251002T222039Z
LAST-MODIFIED:20251003T134335Z
UID:10002202-1742670000-1742670900@www.unitycenterdc.org
SUMMARY:Peace Prayer Circle
DESCRIPTION:Wherever you are\nEvery Saturday\, 7:00 PM\nEach Saturday\, we join together in a virtual moment of prayer for global healing and peace. No matter where you are or what you are doing\, take this moment to connect to this powerful practice to bring peace to the world.
URL:https://www.unitycenterdc.org/calendar/peace-prayer-circle/2025-03-22/
LOCATION:Unity Center DC on Zoom\, Washington\, DC\, 20007
CATEGORIES:Prayer
ATTACH;FMTTYPE=image/png:https://www.unitycenterdc.org/wp-content/uploads/2025/01/Circle-of-Folks-low.png
GEO:38.9228637;-77.0720087
END:VEVENT
BEGIN:VEVENT
DTSTART;TZID=America/New_York:20250315T190000
DTEND;TZID=America/New_York:20250315T191500
DTSTAMP:20260423T181140
CREATED:20251002T222039Z
LAST-MODIFIED:20251003T134335Z
UID:10002201-1742065200-1742066100@www.unitycenterdc.org
SUMMARY:Peace Prayer Circle
DESCRIPTION:Wherever you are\nEvery Saturday\, 7:00 PM\nEach Saturday\, we join together in a virtual moment of prayer for global healing and peace. No matter where you are or what you are doing\, take this moment to connect to this powerful practice to bring peace to the world.
URL:https://www.unitycenterdc.org/calendar/peace-prayer-circle/2025-03-15/
LOCATION:Unity Center DC on Zoom\, Washington\, DC\, 20007
CATEGORIES:Prayer
ATTACH;FMTTYPE=image/png:https://www.unitycenterdc.org/wp-content/uploads/2025/01/Circle-of-Folks-low.png
GEO:38.9228637;-77.0720087
END:VEVENT
BEGIN:VEVENT
DTSTART;TZID=America/New_York:20250308T190000
DTEND;TZID=America/New_York:20250308T191500
DTSTAMP:20260423T181140
CREATED:20251002T222039Z
LAST-MODIFIED:20251003T134335Z
UID:10002200-1741460400-1741461300@www.unitycenterdc.org
SUMMARY:Peace Prayer Circle
DESCRIPTION:Wherever you are\nEvery Saturday\, 7:00 PM\nEach Saturday\, we join together in a virtual moment of prayer for global healing and peace. No matter where you are or what you are doing\, take this moment to connect to this powerful practice to bring peace to the world.
URL:https://www.unitycenterdc.org/calendar/peace-prayer-circle/2025-03-08/
LOCATION:Unity Center DC on Zoom\, Washington\, DC\, 20007
CATEGORIES:Prayer
ATTACH;FMTTYPE=image/png:https://www.unitycenterdc.org/wp-content/uploads/2025/01/Circle-of-Folks-low.png
GEO:38.9228637;-77.0720087
END:VEVENT
BEGIN:VEVENT
DTSTART;TZID=America/New_York:20250301T190000
DTEND;TZID=America/New_York:20250301T191500
DTSTAMP:20260423T181140
CREATED:20251002T222039Z
LAST-MODIFIED:20251003T134335Z
UID:10002199-1740855600-1740856500@www.unitycenterdc.org
SUMMARY:Peace Prayer Circle
DESCRIPTION:Wherever you are\nEvery Saturday\, 7:00 PM\nEach Saturday\, we join together in a virtual moment of prayer for global healing and peace. No matter where you are or what you are doing\, take this moment to connect to this powerful practice to bring peace to the world.
URL:https://www.unitycenterdc.org/calendar/peace-prayer-circle/2025-03-01/
LOCATION:Unity Center DC on Zoom\, Washington\, DC\, 20007
CATEGORIES:Prayer
ATTACH;FMTTYPE=image/png:https://www.unitycenterdc.org/wp-content/uploads/2025/01/Circle-of-Folks-low.png
GEO:38.9228637;-77.0720087
END:VEVENT
BEGIN:VEVENT
DTSTART;TZID=America/New_York:20250222T190000
DTEND;TZID=America/New_York:20250222T191500
DTSTAMP:20260423T181140
CREATED:20251002T222039Z
LAST-MODIFIED:20251003T134335Z
UID:10002198-1740250800-1740251700@www.unitycenterdc.org
SUMMARY:Peace Prayer Circle
DESCRIPTION:Wherever you are\nEvery Saturday\, 7:00 PM\nEach Saturday\, we join together in a virtual moment of prayer for global healing and peace. No matter where you are or what you are doing\, take this moment to connect to this powerful practice to bring peace to the world.
URL:https://www.unitycenterdc.org/calendar/peace-prayer-circle/2025-02-22/
LOCATION:Unity Center DC on Zoom\, Washington\, DC\, 20007
CATEGORIES:Prayer
ATTACH;FMTTYPE=image/png:https://www.unitycenterdc.org/wp-content/uploads/2025/01/Circle-of-Folks-low.png
GEO:38.9228637;-77.0720087
END:VEVENT
BEGIN:VEVENT
DTSTART;TZID=America/New_York:20250215T190000
DTEND;TZID=America/New_York:20250215T191500
DTSTAMP:20260423T181140
CREATED:20251002T222039Z
LAST-MODIFIED:20251003T134335Z
UID:10002197-1739646000-1739646900@www.unitycenterdc.org
SUMMARY:Peace Prayer Circle
DESCRIPTION:Wherever you are\nEvery Saturday\, 7:00 PM\nEach Saturday\, we join together in a virtual moment of prayer for global healing and peace. No matter where you are or what you are doing\, take this moment to connect to this powerful practice to bring peace to the world.
URL:https://www.unitycenterdc.org/calendar/peace-prayer-circle/2025-02-15/
LOCATION:Unity Center DC on Zoom\, Washington\, DC\, 20007
CATEGORIES:Prayer
ATTACH;FMTTYPE=image/png:https://www.unitycenterdc.org/wp-content/uploads/2025/01/Circle-of-Folks-low.png
GEO:38.9228637;-77.0720087
END:VEVENT
BEGIN:VEVENT
DTSTART;TZID=America/New_York:20250208T190000
DTEND;TZID=America/New_York:20250208T191500
DTSTAMP:20260423T181140
CREATED:20251002T222039Z
LAST-MODIFIED:20251003T134335Z
UID:10002196-1739041200-1739042100@www.unitycenterdc.org
SUMMARY:Peace Prayer Circle
DESCRIPTION:Wherever you are\nEvery Saturday\, 7:00 PM\nEach Saturday\, we join together in a virtual moment of prayer for global healing and peace. No matter where you are or what you are doing\, take this moment to connect to this powerful practice to bring peace to the world.
URL:https://www.unitycenterdc.org/calendar/peace-prayer-circle/2025-02-08/
LOCATION:Unity Center DC on Zoom\, Washington\, DC\, 20007
CATEGORIES:Prayer
ATTACH;FMTTYPE=image/png:https://www.unitycenterdc.org/wp-content/uploads/2025/01/Circle-of-Folks-low.png
GEO:38.9228637;-77.0720087
END:VEVENT
BEGIN:VEVENT
DTSTART;TZID=America/New_York:20250201T190000
DTEND;TZID=America/New_York:20250201T191500
DTSTAMP:20260423T181140
CREATED:20251002T222039Z
LAST-MODIFIED:20251003T134335Z
UID:10002195-1738436400-1738437300@www.unitycenterdc.org
SUMMARY:Peace Prayer Circle
DESCRIPTION:Wherever you are\nEvery Saturday\, 7:00 PM\nEach Saturday\, we join together in a virtual moment of prayer for global healing and peace. No matter where you are or what you are doing\, take this moment to connect to this powerful practice to bring peace to the world.
URL:https://www.unitycenterdc.org/calendar/peace-prayer-circle/2025-02-01/
LOCATION:Unity Center DC on Zoom\, Washington\, DC\, 20007
CATEGORIES:Prayer
ATTACH;FMTTYPE=image/png:https://www.unitycenterdc.org/wp-content/uploads/2025/01/Circle-of-Folks-low.png
GEO:38.9228637;-77.0720087
END:VEVENT
BEGIN:VEVENT
DTSTART;TZID=America/New_York:20250125T190000
DTEND;TZID=America/New_York:20250125T191500
DTSTAMP:20260423T181140
CREATED:20251002T222039Z
LAST-MODIFIED:20251003T134335Z
UID:10002194-1737831600-1737832500@www.unitycenterdc.org
SUMMARY:Peace Prayer Circle
DESCRIPTION:Wherever you are\nEvery Saturday\, 7:00 PM\nEach Saturday\, we join together in a virtual moment of prayer for global healing and peace. No matter where you are or what you are doing\, take this moment to connect to this powerful practice to bring peace to the world.
URL:https://www.unitycenterdc.org/calendar/peace-prayer-circle/2025-01-25/
LOCATION:Unity Center DC on Zoom\, Washington\, DC\, 20007
CATEGORIES:Prayer
ATTACH;FMTTYPE=image/png:https://www.unitycenterdc.org/wp-content/uploads/2025/01/Circle-of-Folks-low.png
GEO:38.9228637;-77.0720087
END:VEVENT
BEGIN:VEVENT
DTSTART;TZID=America/New_York:20250118T190000
DTEND;TZID=America/New_York:20250118T191500
DTSTAMP:20260423T181140
CREATED:20251002T222039Z
LAST-MODIFIED:20251003T134335Z
UID:10002193-1737226800-1737227700@www.unitycenterdc.org
SUMMARY:Peace Prayer Circle
DESCRIPTION:Wherever you are\nEvery Saturday\, 7:00 PM\nEach Saturday\, we join together in a virtual moment of prayer for global healing and peace. No matter where you are or what you are doing\, take this moment to connect to this powerful practice to bring peace to the world.
URL:https://www.unitycenterdc.org/calendar/peace-prayer-circle/2025-01-18/
LOCATION:Unity Center DC on Zoom\, Washington\, DC\, 20007
CATEGORIES:Prayer
ATTACH;FMTTYPE=image/png:https://www.unitycenterdc.org/wp-content/uploads/2025/01/Circle-of-Folks-low.png
GEO:38.9228637;-77.0720087
END:VEVENT
BEGIN:VEVENT
DTSTART;TZID=America/New_York:20250118T183000
DTEND;TZID=America/New_York:20250118T200000
DTSTAMP:20260423T181140
CREATED:20250103T230159Z
LAST-MODIFIED:20251002T221542Z
UID:10001953-1737225000-1737230400@www.unitycenterdc.org
SUMMARY:Peace Prayer Circle
DESCRIPTION:Peace Prayer Circle\nSaturday\, January 18\, 6:30 PM\, Hybrid Event\n4200 13th Place\, NE\, Washington\, DC 20017\nJoin us for an in-person prayer circle gathering at Chic and Cheryl’s home. Please RSVP to Cheryl if you plan to attend in person. Zoom in to chat and join the prayer circle. \n((•)) Zoom to Meeting\nMeeting ID: 822 8662 1077 | Passcode: prayer
URL:https://www.unitycenterdc.org/calendar/peace-prayer-circle-2025/
LOCATION:Unity Center DC on Zoom\, Washington\, DC\, 20007
CATEGORIES:Prayer
ATTACH;FMTTYPE=image/png:https://www.unitycenterdc.org/wp-content/uploads/2025/01/Circle-of-Folks-low.png
GEO:38.9228637;-77.0720087
END:VEVENT
BEGIN:VEVENT
DTSTART;TZID=America/New_York:20250111T190000
DTEND;TZID=America/New_York:20250111T191500
DTSTAMP:20260423T181140
CREATED:20251002T222039Z
LAST-MODIFIED:20251003T134335Z
UID:10002192-1736622000-1736622900@www.unitycenterdc.org
SUMMARY:Peace Prayer Circle
DESCRIPTION:Wherever you are\nEvery Saturday\, 7:00 PM\nEach Saturday\, we join together in a virtual moment of prayer for global healing and peace. No matter where you are or what you are doing\, take this moment to connect to this powerful practice to bring peace to the world.
URL:https://www.unitycenterdc.org/calendar/peace-prayer-circle/2025-01-11/
LOCATION:Unity Center DC on Zoom\, Washington\, DC\, 20007
CATEGORIES:Prayer
ATTACH;FMTTYPE=image/png:https://www.unitycenterdc.org/wp-content/uploads/2025/01/Circle-of-Folks-low.png
GEO:38.9228637;-77.0720087
END:VEVENT
BEGIN:VEVENT
DTSTART;TZID=America/New_York:20250104T190000
DTEND;TZID=America/New_York:20250104T191500
DTSTAMP:20260423T181140
CREATED:20251002T222039Z
LAST-MODIFIED:20251003T134335Z
UID:10002191-1736017200-1736018100@www.unitycenterdc.org
SUMMARY:Peace Prayer Circle
DESCRIPTION:Wherever you are\nEvery Saturday\, 7:00 PM\nEach Saturday\, we join together in a virtual moment of prayer for global healing and peace. No matter where you are or what you are doing\, take this moment to connect to this powerful practice to bring peace to the world.
URL:https://www.unitycenterdc.org/calendar/peace-prayer-circle/2025-01-04/
LOCATION:Unity Center DC on Zoom\, Washington\, DC\, 20007
CATEGORIES:Prayer
ATTACH;FMTTYPE=image/png:https://www.unitycenterdc.org/wp-content/uploads/2025/01/Circle-of-Folks-low.png
GEO:38.9228637;-77.0720087
END:VEVENT
BEGIN:VEVENT
DTSTART;TZID=America/New_York:20231231T170000
DTEND;TZID=America/New_York:20231231T173000
DTSTAMP:20260423T181140
CREATED:20231231T180010Z
LAST-MODIFIED:20231231T180010Z
UID:10001720-1704042000-1704043800@www.unitycenterdc.org
SUMMARY:World Peace New Year’s Eve Prayer Circle
DESCRIPTION:Join Kathleen Healy and the Unity Center DC community in a World Peace New Year’s Eve Prayer Circle\, Sunday\, December 31\, 2023. \n((•)) Zoom Link\nMeeting ID: 851 8698 6228\nPassword: peace
URL:https://www.unitycenterdc.org/calendar/world-peace-new-years-eve-prayer-circle/
LOCATION:Unity Center DC on Zoom\, Washington\, DC\, 20007
CATEGORIES:Prayer
GEO:38.9228637;-77.0720087
END:VEVENT
END:VCALENDAR