BEGIN:VCALENDAR
VERSION:2.0
PRODID:-//Unity Center DC - ECPv6.15.20//NONSGML v1.0//EN
CALSCALE:GREGORIAN
METHOD:PUBLISH
X-ORIGINAL-URL:https://www.unitycenterdc.org
X-WR-CALDESC:Events for Unity Center DC
REFRESH-INTERVAL;VALUE=DURATION:PT1H
X-Robots-Tag:noindex
X-PUBLISHED-TTL:PT1H
BEGIN:VTIMEZONE
TZID:America/New_York
BEGIN:DAYLIGHT
TZOFFSETFROM:-0500
TZOFFSETTO:-0400
TZNAME:EDT
DTSTART:20140309T070000
END:DAYLIGHT
BEGIN:STANDARD
TZOFFSETFROM:-0400
TZOFFSETTO:-0500
TZNAME:EST
DTSTART:20141102T060000
END:STANDARD
BEGIN:DAYLIGHT
TZOFFSETFROM:-0500
TZOFFSETTO:-0400
TZNAME:EDT
DTSTART:20150308T070000
END:DAYLIGHT
BEGIN:STANDARD
TZOFFSETFROM:-0400
TZOFFSETTO:-0500
TZNAME:EST
DTSTART:20151101T060000
END:STANDARD
BEGIN:DAYLIGHT
TZOFFSETFROM:-0500
TZOFFSETTO:-0400
TZNAME:EDT
DTSTART:20160313T070000
END:DAYLIGHT
BEGIN:STANDARD
TZOFFSETFROM:-0400
TZOFFSETTO:-0500
TZNAME:EST
DTSTART:20161106T060000
END:STANDARD
BEGIN:DAYLIGHT
TZOFFSETFROM:-0500
TZOFFSETTO:-0400
TZNAME:EDT
DTSTART:20170312T070000
END:DAYLIGHT
BEGIN:STANDARD
TZOFFSETFROM:-0400
TZOFFSETTO:-0500
TZNAME:EST
DTSTART:20171105T060000
END:STANDARD
END:VTIMEZONE
BEGIN:VEVENT
DTSTART;TZID=America/New_York:20151116T153000
DTEND;TZID=America/New_York:20151116T180000
DTSTAMP:20260424T042154
CREATED:20151112T161525Z
LAST-MODIFIED:20151112T161606Z
UID:10000311-1447687800-1447696800@www.unitycenterdc.org
SUMMARY:Private Event
DESCRIPTION:Barbara Wilkinson
URL:https://www.unitycenterdc.org/calendar/private-event-2/
CATEGORIES:Private Event
END:VEVENT
BEGIN:VEVENT
DTSTART;TZID=America/New_York:20151118T160000
DTEND;TZID=America/New_York:20151118T184500
DTSTAMP:20260424T042154
CREATED:20151112T161658Z
LAST-MODIFIED:20151112T161658Z
UID:10000310-1447862400-1447872300@www.unitycenterdc.org
SUMMARY:Private Event
DESCRIPTION:Barbara Wilkinson
URL:https://www.unitycenterdc.org/calendar/private-event-3/
CATEGORIES:Private Event
END:VEVENT
BEGIN:VEVENT
DTSTART;TZID=America/New_York:20151119T174500
DTEND;TZID=America/New_York:20151119T191500
DTSTAMP:20260424T042154
CREATED:20151112T161513Z
LAST-MODIFIED:20151112T161905Z
UID:10000312-1447955100-1447960500@www.unitycenterdc.org
SUMMARY:Private Event
DESCRIPTION:Barbara Wilkinson
URL:https://www.unitycenterdc.org/calendar/private-event/
CATEGORIES:Private Event
END:VEVENT
BEGIN:VEVENT
DTSTART;TZID=America/New_York:20151209T160000
DTEND;TZID=America/New_York:20151209T184500
DTSTAMP:20260424T042154
CREATED:20151202T220400Z
LAST-MODIFIED:20160107T001836Z
UID:10000007-1449676800-1449686700@www.unitycenterdc.org
SUMMARY:Barbara Wilkinson Studio Teaching Wed
DESCRIPTION:Sanctuary reserved for private music lesson.
URL:https://www.unitycenterdc.org/calendar/barbara-wilkinson-studio-teaching-wed/2015-12-09/
LOCATION:Unity Center DC on Zoom\, Washington\, DC\, 20007
CATEGORIES:Private Event
ATTACH;FMTTYPE=image/jpeg:https://www.unitycenterdc.org/wp-content/uploads/2015/12/piano-girl-scaled.jpg
GEO:38.9228637;-77.0720087
END:VEVENT
BEGIN:VEVENT
DTSTART;TZID=America/New_York:20151210T180000
DTEND;TZID=America/New_York:20151210T190000
DTSTAMP:20260424T042154
CREATED:20151202T214153Z
LAST-MODIFIED:20160502T195621Z
UID:10000006-1449770400-1449774000@www.unitycenterdc.org
SUMMARY:Barbara Wilkinson Studio Teaching
DESCRIPTION:Sanctuary reserved for private music lessons.
URL:https://www.unitycenterdc.org/calendar/barbara-wilkinson-studio-teaching/2015-12-10/
LOCATION:Unnamed Venue\, DC
CATEGORIES:Private Event
GEO:38.9071923;-77.0368707
END:VEVENT
BEGIN:VEVENT
DTSTART;TZID=America/New_York:20160105T193000
DTEND;TZID=America/New_York:20160105T203000
DTSTAMP:20260424T042154
CREATED:20160107T002158Z
LAST-MODIFIED:20160502T195755Z
UID:10000168-1452022200-1452025800@www.unitycenterdc.org
SUMMARY:Barbara Wilkinson Studio Teaching
DESCRIPTION:Sanctuary reserved for private event.
URL:https://www.unitycenterdc.org/calendar/barbara-wilkinson-studio-teaching-2/2016-01-05/
LOCATION:Unity Center DC on Zoom\, Washington\, DC\, 20007
CATEGORIES:Private Event
GEO:38.9228637;-77.0720087
END:VEVENT
BEGIN:VEVENT
DTSTART;TZID=America/New_York:20160106T171500
DTEND;TZID=America/New_York:20160106T181500
DTSTAMP:20260424T042154
CREATED:20160107T003714Z
LAST-MODIFIED:20160602T145831Z
UID:10000067-1452100500-1452104100@www.unitycenterdc.org
SUMMARY:Barbara Wilkinson Studio Teaching
DESCRIPTION:Sanctuary reserved for private event.
URL:https://www.unitycenterdc.org/calendar/barbara-wilkinson-studio-teaching-3/2016-01-06/
LOCATION:Unity Center DC on Zoom\, Washington\, DC\, 20007
CATEGORIES:Private Event
GEO:38.9228637;-77.0720087
END:VEVENT
BEGIN:VEVENT
DTSTART;TZID=America/New_York:20160107T121500
DTEND;TZID=America/New_York:20160107T124500
DTSTAMP:20260424T042154
CREATED:20160107T004057Z
LAST-MODIFIED:20160506T222600Z
UID:10000151-1452168900-1452170700@www.unitycenterdc.org
SUMMARY:Barbara Wilkinson Studio Teaching
DESCRIPTION:Sanctuary reserved for private event.
URL:https://www.unitycenterdc.org/calendar/barbara-wilkinson-studio-teaching-4/2016-01-07/
LOCATION:Unity Center DC on Zoom\, Washington\, DC\, 20007
CATEGORIES:Private Event
GEO:38.9228637;-77.0720087
END:VEVENT
BEGIN:VEVENT
DTSTART;TZID=America/New_York:20160107T180000
DTEND;TZID=America/New_York:20160107T190000
DTSTAMP:20260424T042154
CREATED:20160107T004341Z
LAST-MODIFIED:20160602T145632Z
UID:10000183-1452189600-1452193200@www.unitycenterdc.org
SUMMARY:Barbara Wilkinson Studio Teaching
DESCRIPTION:Sanctuary reserved for private event.
URL:https://www.unitycenterdc.org/calendar/barbara-wilkinson-studio-teaching-5/2016-01-07/
LOCATION:Unity Center DC on Zoom\, Washington\, DC\, 20007
CATEGORIES:Private Event
GEO:38.9228637;-77.0720087
END:VEVENT
BEGIN:VEVENT
DTSTART;TZID=America/New_York:20160112T193000
DTEND;TZID=America/New_York:20160112T203000
DTSTAMP:20260424T042154
CREATED:20160107T002158Z
LAST-MODIFIED:20160502T195755Z
UID:10000169-1452627000-1452630600@www.unitycenterdc.org
SUMMARY:Barbara Wilkinson Studio Teaching
DESCRIPTION:Sanctuary reserved for private event.
URL:https://www.unitycenterdc.org/calendar/barbara-wilkinson-studio-teaching-2/2016-01-12/
LOCATION:Unity Center DC on Zoom\, Washington\, DC\, 20007
CATEGORIES:Private Event
GEO:38.9228637;-77.0720087
END:VEVENT
BEGIN:VEVENT
DTSTART;TZID=America/New_York:20160113T171500
DTEND;TZID=America/New_York:20160113T181500
DTSTAMP:20260424T042154
CREATED:20160107T003714Z
LAST-MODIFIED:20160602T145831Z
UID:10000068-1452705300-1452708900@www.unitycenterdc.org
SUMMARY:Barbara Wilkinson Studio Teaching
DESCRIPTION:Sanctuary reserved for private event.
URL:https://www.unitycenterdc.org/calendar/barbara-wilkinson-studio-teaching-3/2016-01-13/
LOCATION:Unity Center DC on Zoom\, Washington\, DC\, 20007
CATEGORIES:Private Event
GEO:38.9228637;-77.0720087
END:VEVENT
BEGIN:VEVENT
DTSTART;TZID=America/New_York:20160114T121500
DTEND;TZID=America/New_York:20160114T124500
DTSTAMP:20260424T042154
CREATED:20160107T004057Z
LAST-MODIFIED:20160506T222600Z
UID:10000152-1452773700-1452775500@www.unitycenterdc.org
SUMMARY:Barbara Wilkinson Studio Teaching
DESCRIPTION:Sanctuary reserved for private event.
URL:https://www.unitycenterdc.org/calendar/barbara-wilkinson-studio-teaching-4/2016-01-14/
LOCATION:Unity Center DC on Zoom\, Washington\, DC\, 20007
CATEGORIES:Private Event
GEO:38.9228637;-77.0720087
END:VEVENT
BEGIN:VEVENT
DTSTART;TZID=America/New_York:20160119T193000
DTEND;TZID=America/New_York:20160119T203000
DTSTAMP:20260424T042154
CREATED:20160107T002158Z
LAST-MODIFIED:20160502T195755Z
UID:10000170-1453231800-1453235400@www.unitycenterdc.org
SUMMARY:Barbara Wilkinson Studio Teaching
DESCRIPTION:Sanctuary reserved for private event.
URL:https://www.unitycenterdc.org/calendar/barbara-wilkinson-studio-teaching-2/2016-01-19/
LOCATION:Unity Center DC on Zoom\, Washington\, DC\, 20007
CATEGORIES:Private Event
GEO:38.9228637;-77.0720087
END:VEVENT
BEGIN:VEVENT
DTSTART;TZID=America/New_York:20160120T171500
DTEND;TZID=America/New_York:20160120T181500
DTSTAMP:20260424T042154
CREATED:20160107T003714Z
LAST-MODIFIED:20160602T145831Z
UID:10000069-1453310100-1453313700@www.unitycenterdc.org
SUMMARY:Barbara Wilkinson Studio Teaching
DESCRIPTION:Sanctuary reserved for private event.
URL:https://www.unitycenterdc.org/calendar/barbara-wilkinson-studio-teaching-3/2016-01-20/
LOCATION:Unity Center DC on Zoom\, Washington\, DC\, 20007
CATEGORIES:Private Event
GEO:38.9228637;-77.0720087
END:VEVENT
BEGIN:VEVENT
DTSTART;TZID=America/New_York:20160121T121500
DTEND;TZID=America/New_York:20160121T124500
DTSTAMP:20260424T042154
CREATED:20160107T004057Z
LAST-MODIFIED:20160506T222600Z
UID:10000153-1453378500-1453380300@www.unitycenterdc.org
SUMMARY:Barbara Wilkinson Studio Teaching
DESCRIPTION:Sanctuary reserved for private event.
URL:https://www.unitycenterdc.org/calendar/barbara-wilkinson-studio-teaching-4/2016-01-21/
LOCATION:Unity Center DC on Zoom\, Washington\, DC\, 20007
CATEGORIES:Private Event
GEO:38.9228637;-77.0720087
END:VEVENT
BEGIN:VEVENT
DTSTART;TZID=America/New_York:20160126T193000
DTEND;TZID=America/New_York:20160126T203000
DTSTAMP:20260424T042154
CREATED:20160107T002158Z
LAST-MODIFIED:20160502T195755Z
UID:10000171-1453836600-1453840200@www.unitycenterdc.org
SUMMARY:Barbara Wilkinson Studio Teaching
DESCRIPTION:Sanctuary reserved for private event.
URL:https://www.unitycenterdc.org/calendar/barbara-wilkinson-studio-teaching-2/2016-01-26/
LOCATION:Unity Center DC on Zoom\, Washington\, DC\, 20007
CATEGORIES:Private Event
GEO:38.9228637;-77.0720087
END:VEVENT
BEGIN:VEVENT
DTSTART;TZID=America/New_York:20160127T171500
DTEND;TZID=America/New_York:20160127T181500
DTSTAMP:20260424T042154
CREATED:20160107T003714Z
LAST-MODIFIED:20160602T145831Z
UID:10000070-1453914900-1453918500@www.unitycenterdc.org
SUMMARY:Barbara Wilkinson Studio Teaching
DESCRIPTION:Sanctuary reserved for private event.
URL:https://www.unitycenterdc.org/calendar/barbara-wilkinson-studio-teaching-3/2016-01-27/
LOCATION:Unity Center DC on Zoom\, Washington\, DC\, 20007
CATEGORIES:Private Event
GEO:38.9228637;-77.0720087
END:VEVENT
BEGIN:VEVENT
DTSTART;TZID=America/New_York:20160128T121500
DTEND;TZID=America/New_York:20160128T124500
DTSTAMP:20260424T042154
CREATED:20160107T004057Z
LAST-MODIFIED:20160506T222600Z
UID:10000154-1453983300-1453985100@www.unitycenterdc.org
SUMMARY:Barbara Wilkinson Studio Teaching
DESCRIPTION:Sanctuary reserved for private event.
URL:https://www.unitycenterdc.org/calendar/barbara-wilkinson-studio-teaching-4/2016-01-28/
LOCATION:Unity Center DC on Zoom\, Washington\, DC\, 20007
CATEGORIES:Private Event
GEO:38.9228637;-77.0720087
END:VEVENT
BEGIN:VEVENT
DTSTART;TZID=America/New_York:20160202T193000
DTEND;TZID=America/New_York:20160202T203000
DTSTAMP:20260424T042154
CREATED:20160107T002158Z
LAST-MODIFIED:20160502T195755Z
UID:10000172-1454441400-1454445000@www.unitycenterdc.org
SUMMARY:Barbara Wilkinson Studio Teaching
DESCRIPTION:Sanctuary reserved for private event.
URL:https://www.unitycenterdc.org/calendar/barbara-wilkinson-studio-teaching-2/2016-02-02/
LOCATION:Unity Center DC on Zoom\, Washington\, DC\, 20007
CATEGORIES:Private Event
GEO:38.9228637;-77.0720087
END:VEVENT
BEGIN:VEVENT
DTSTART;TZID=America/New_York:20160203T171500
DTEND;TZID=America/New_York:20160203T181500
DTSTAMP:20260424T042154
CREATED:20160107T003714Z
LAST-MODIFIED:20160602T145831Z
UID:10000071-1454519700-1454523300@www.unitycenterdc.org
SUMMARY:Barbara Wilkinson Studio Teaching
DESCRIPTION:Sanctuary reserved for private event.
URL:https://www.unitycenterdc.org/calendar/barbara-wilkinson-studio-teaching-3/2016-02-03/
LOCATION:Unity Center DC on Zoom\, Washington\, DC\, 20007
CATEGORIES:Private Event
GEO:38.9228637;-77.0720087
END:VEVENT
BEGIN:VEVENT
DTSTART;TZID=America/New_York:20160204T121500
DTEND;TZID=America/New_York:20160204T124500
DTSTAMP:20260424T042154
CREATED:20160107T004057Z
LAST-MODIFIED:20160506T222600Z
UID:10000155-1454588100-1454589900@www.unitycenterdc.org
SUMMARY:Barbara Wilkinson Studio Teaching
DESCRIPTION:Sanctuary reserved for private event.
URL:https://www.unitycenterdc.org/calendar/barbara-wilkinson-studio-teaching-4/2016-02-04/
LOCATION:Unity Center DC on Zoom\, Washington\, DC\, 20007
CATEGORIES:Private Event
GEO:38.9228637;-77.0720087
END:VEVENT
BEGIN:VEVENT
DTSTART;TZID=America/New_York:20160209T193000
DTEND;TZID=America/New_York:20160209T203000
DTSTAMP:20260424T042154
CREATED:20160107T002158Z
LAST-MODIFIED:20160502T195755Z
UID:10000173-1455046200-1455049800@www.unitycenterdc.org
SUMMARY:Barbara Wilkinson Studio Teaching
DESCRIPTION:Sanctuary reserved for private event.
URL:https://www.unitycenterdc.org/calendar/barbara-wilkinson-studio-teaching-2/2016-02-09/
LOCATION:Unity Center DC on Zoom\, Washington\, DC\, 20007
CATEGORIES:Private Event
GEO:38.9228637;-77.0720087
END:VEVENT
BEGIN:VEVENT
DTSTART;TZID=America/New_York:20160210T171500
DTEND;TZID=America/New_York:20160210T181500
DTSTAMP:20260424T042154
CREATED:20160107T003714Z
LAST-MODIFIED:20160602T145831Z
UID:10000072-1455124500-1455128100@www.unitycenterdc.org
SUMMARY:Barbara Wilkinson Studio Teaching
DESCRIPTION:Sanctuary reserved for private event.
URL:https://www.unitycenterdc.org/calendar/barbara-wilkinson-studio-teaching-3/2016-02-10/
LOCATION:Unity Center DC on Zoom\, Washington\, DC\, 20007
CATEGORIES:Private Event
GEO:38.9228637;-77.0720087
END:VEVENT
BEGIN:VEVENT
DTSTART;TZID=America/New_York:20160211T121500
DTEND;TZID=America/New_York:20160211T124500
DTSTAMP:20260424T042154
CREATED:20160107T004057Z
LAST-MODIFIED:20160506T222600Z
UID:10000156-1455192900-1455194700@www.unitycenterdc.org
SUMMARY:Barbara Wilkinson Studio Teaching
DESCRIPTION:Sanctuary reserved for private event.
URL:https://www.unitycenterdc.org/calendar/barbara-wilkinson-studio-teaching-4/2016-02-11/
LOCATION:Unity Center DC on Zoom\, Washington\, DC\, 20007
CATEGORIES:Private Event
GEO:38.9228637;-77.0720087
END:VEVENT
BEGIN:VEVENT
DTSTART;TZID=America/New_York:20160216T193000
DTEND;TZID=America/New_York:20160216T203000
DTSTAMP:20260424T042154
CREATED:20160107T002158Z
LAST-MODIFIED:20160502T195755Z
UID:10000174-1455651000-1455654600@www.unitycenterdc.org
SUMMARY:Barbara Wilkinson Studio Teaching
DESCRIPTION:Sanctuary reserved for private event.
URL:https://www.unitycenterdc.org/calendar/barbara-wilkinson-studio-teaching-2/2016-02-16/
LOCATION:Unity Center DC on Zoom\, Washington\, DC\, 20007
CATEGORIES:Private Event
GEO:38.9228637;-77.0720087
END:VEVENT
BEGIN:VEVENT
DTSTART;TZID=America/New_York:20160217T171500
DTEND;TZID=America/New_York:20160217T181500
DTSTAMP:20260424T042154
CREATED:20160107T003714Z
LAST-MODIFIED:20160602T145831Z
UID:10000073-1455729300-1455732900@www.unitycenterdc.org
SUMMARY:Barbara Wilkinson Studio Teaching
DESCRIPTION:Sanctuary reserved for private event.
URL:https://www.unitycenterdc.org/calendar/barbara-wilkinson-studio-teaching-3/2016-02-17/
LOCATION:Unity Center DC on Zoom\, Washington\, DC\, 20007
CATEGORIES:Private Event
GEO:38.9228637;-77.0720087
END:VEVENT
BEGIN:VEVENT
DTSTART;TZID=America/New_York:20160218T121500
DTEND;TZID=America/New_York:20160218T124500
DTSTAMP:20260424T042154
CREATED:20160107T004057Z
LAST-MODIFIED:20160506T222600Z
UID:10000157-1455797700-1455799500@www.unitycenterdc.org
SUMMARY:Barbara Wilkinson Studio Teaching
DESCRIPTION:Sanctuary reserved for private event.
URL:https://www.unitycenterdc.org/calendar/barbara-wilkinson-studio-teaching-4/2016-02-18/
LOCATION:Unity Center DC on Zoom\, Washington\, DC\, 20007
CATEGORIES:Private Event
GEO:38.9228637;-77.0720087
END:VEVENT
BEGIN:VEVENT
DTSTART;TZID=America/New_York:20160223T193000
DTEND;TZID=America/New_York:20160223T203000
DTSTAMP:20260424T042154
CREATED:20160107T002158Z
LAST-MODIFIED:20160502T195755Z
UID:10000175-1456255800-1456259400@www.unitycenterdc.org
SUMMARY:Barbara Wilkinson Studio Teaching
DESCRIPTION:Sanctuary reserved for private event.
URL:https://www.unitycenterdc.org/calendar/barbara-wilkinson-studio-teaching-2/2016-02-23/
LOCATION:Unity Center DC on Zoom\, Washington\, DC\, 20007
CATEGORIES:Private Event
GEO:38.9228637;-77.0720087
END:VEVENT
BEGIN:VEVENT
DTSTART;TZID=America/New_York:20160224T171500
DTEND;TZID=America/New_York:20160224T181500
DTSTAMP:20260424T042154
CREATED:20160107T003714Z
LAST-MODIFIED:20160602T145831Z
UID:10000074-1456334100-1456337700@www.unitycenterdc.org
SUMMARY:Barbara Wilkinson Studio Teaching
DESCRIPTION:Sanctuary reserved for private event.
URL:https://www.unitycenterdc.org/calendar/barbara-wilkinson-studio-teaching-3/2016-02-24/
LOCATION:Unity Center DC on Zoom\, Washington\, DC\, 20007
CATEGORIES:Private Event
GEO:38.9228637;-77.0720087
END:VEVENT
BEGIN:VEVENT
DTSTART;TZID=America/New_York:20160225T121500
DTEND;TZID=America/New_York:20160225T124500
DTSTAMP:20260424T042154
CREATED:20160107T004057Z
LAST-MODIFIED:20160506T222600Z
UID:10000158-1456402500-1456404300@www.unitycenterdc.org
SUMMARY:Barbara Wilkinson Studio Teaching
DESCRIPTION:Sanctuary reserved for private event.
URL:https://www.unitycenterdc.org/calendar/barbara-wilkinson-studio-teaching-4/2016-02-25/
LOCATION:Unity Center DC on Zoom\, Washington\, DC\, 20007
CATEGORIES:Private Event
GEO:38.9228637;-77.0720087
END:VEVENT
END:VCALENDAR