BEGIN:VCALENDAR
VERSION:2.0
PRODID:-//Unity Center DC - ECPv6.15.20//NONSGML v1.0//EN
CALSCALE:GREGORIAN
METHOD:PUBLISH
X-WR-CALNAME:Unity Center DC
X-ORIGINAL-URL:https://www.unitycenterdc.org
X-WR-CALDESC:Events for Unity Center DC
REFRESH-INTERVAL;VALUE=DURATION:PT1H
X-Robots-Tag:noindex
X-PUBLISHED-TTL:PT1H
BEGIN:VTIMEZONE
TZID:America/New_York
BEGIN:DAYLIGHT
TZOFFSETFROM:-0500
TZOFFSETTO:-0400
TZNAME:EDT
DTSTART:20160313T070000
END:DAYLIGHT
BEGIN:STANDARD
TZOFFSETFROM:-0400
TZOFFSETTO:-0500
TZNAME:EST
DTSTART:20161106T060000
END:STANDARD
BEGIN:DAYLIGHT
TZOFFSETFROM:-0500
TZOFFSETTO:-0400
TZNAME:EDT
DTSTART:20170312T070000
END:DAYLIGHT
BEGIN:STANDARD
TZOFFSETFROM:-0400
TZOFFSETTO:-0500
TZNAME:EST
DTSTART:20171105T060000
END:STANDARD
BEGIN:DAYLIGHT
TZOFFSETFROM:-0500
TZOFFSETTO:-0400
TZNAME:EDT
DTSTART:20180311T070000
END:DAYLIGHT
BEGIN:STANDARD
TZOFFSETFROM:-0400
TZOFFSETTO:-0500
TZNAME:EST
DTSTART:20181104T060000
END:STANDARD
BEGIN:DAYLIGHT
TZOFFSETFROM:-0500
TZOFFSETTO:-0400
TZNAME:EDT
DTSTART:20190310T070000
END:DAYLIGHT
BEGIN:STANDARD
TZOFFSETFROM:-0400
TZOFFSETTO:-0500
TZNAME:EST
DTSTART:20191103T060000
END:STANDARD
END:VTIMEZONE
BEGIN:VEVENT
DTSTART;TZID=America/New_York:20180804T190000
DTEND;TZID=America/New_York:20180804T210000
DTSTAMP:20260424T042319
CREATED:20151202T162743Z
LAST-MODIFIED:20181022T201502Z
UID:10000138-1533409200-1533416400@www.unitycenterdc.org
SUMMARY:Reiki Share
DESCRIPTION:Join Sylvia Sturm and Chic Welsh-Charrier for a relaxing evening of reiki. This reiki share is open to all who wish to give and receive. Come to learn\, practice and have fun. Love offering welcome. \nSylvia Sturm is a Subtle Energies Practitioner\, Eden Energy Medicine Clinical Practitioner and Reiki Master Teacher. She is a Reiki Fellow\, GW Center for Integrative Medicine Clinical Program Director\, Subtle Energy Program at seniors’ residence\, Washington\,DC\, EFT Certification of Completion Level 1 and Level 2\, and has over 400 volunteer Reiki hours at the George Washington University Hospital.
URL:https://www.unitycenterdc.org/calendar/reiki-share/2018-08-04/
CATEGORIES:Reiki
ATTACH;FMTTYPE=image/jpeg:https://www.unitycenterdc.org/wp-content/uploads/2015/12/Reiki.jpg
END:VEVENT
BEGIN:VEVENT
DTSTART;TZID=America/New_York:20180704T190000
DTEND;TZID=America/New_York:20180704T210000
DTSTAMP:20260424T042319
CREATED:20151202T162743Z
LAST-MODIFIED:20181022T201502Z
UID:10000137-1530730800-1530738000@www.unitycenterdc.org
SUMMARY:Reiki Share
DESCRIPTION:Join Sylvia Sturm and Chic Welsh-Charrier for a relaxing evening of reiki. This reiki share is open to all who wish to give and receive. Come to learn\, practice and have fun. Love offering welcome. \nSylvia Sturm is a Subtle Energies Practitioner\, Eden Energy Medicine Clinical Practitioner and Reiki Master Teacher. She is a Reiki Fellow\, GW Center for Integrative Medicine Clinical Program Director\, Subtle Energy Program at seniors’ residence\, Washington\,DC\, EFT Certification of Completion Level 1 and Level 2\, and has over 400 volunteer Reiki hours at the George Washington University Hospital.
URL:https://www.unitycenterdc.org/calendar/reiki-share/2018-07-04/
CATEGORIES:Reiki
ATTACH;FMTTYPE=image/jpeg:https://www.unitycenterdc.org/wp-content/uploads/2015/12/Reiki.jpg
END:VEVENT
BEGIN:VEVENT
DTSTART;TZID=America/New_York:20180604T190000
DTEND;TZID=America/New_York:20180604T210000
DTSTAMP:20260424T042319
CREATED:20151202T162743Z
LAST-MODIFIED:20181022T201502Z
UID:10000136-1528138800-1528146000@www.unitycenterdc.org
SUMMARY:Reiki Share
DESCRIPTION:Join Sylvia Sturm and Chic Welsh-Charrier for a relaxing evening of reiki. This reiki share is open to all who wish to give and receive. Come to learn\, practice and have fun. Love offering welcome. \nSylvia Sturm is a Subtle Energies Practitioner\, Eden Energy Medicine Clinical Practitioner and Reiki Master Teacher. She is a Reiki Fellow\, GW Center for Integrative Medicine Clinical Program Director\, Subtle Energy Program at seniors’ residence\, Washington\,DC\, EFT Certification of Completion Level 1 and Level 2\, and has over 400 volunteer Reiki hours at the George Washington University Hospital.
URL:https://www.unitycenterdc.org/calendar/reiki-share/2018-06-04/
CATEGORIES:Reiki
ATTACH;FMTTYPE=image/jpeg:https://www.unitycenterdc.org/wp-content/uploads/2015/12/Reiki.jpg
END:VEVENT
BEGIN:VEVENT
DTSTART;TZID=America/New_York:20180603T091500
DTEND;TZID=America/New_York:20180603T094500
DTSTAMP:20260424T042319
CREATED:20170920T194934Z
LAST-MODIFIED:20170920T202759Z
UID:10000606-1528017300-1528019100@www.unitycenterdc.org
SUMMARY:Reiki
DESCRIPTION:First Sunday of the month before service in the anteroom off the foyer.
URL:https://www.unitycenterdc.org/calendar/reiki/2018-06-03/
LOCATION:Unity Center DC on Zoom\, Washington\, DC\, 20007
CATEGORIES:Reiki
ATTACH;FMTTYPE=image/jpeg:https://www.unitycenterdc.org/wp-content/uploads/2017/09/Reiki-scaled.jpg
GEO:38.9228637;-77.0720087
END:VEVENT
BEGIN:VEVENT
DTSTART;TZID=America/New_York:20180506T091500
DTEND;TZID=America/New_York:20180506T094500
DTSTAMP:20260424T042319
CREATED:20170920T194934Z
LAST-MODIFIED:20170920T202759Z
UID:10000605-1525598100-1525599900@www.unitycenterdc.org
SUMMARY:Reiki
DESCRIPTION:First Sunday of the month before service in the anteroom off the foyer.
URL:https://www.unitycenterdc.org/calendar/reiki/2018-05-06/
LOCATION:Unity Center DC on Zoom\, Washington\, DC\, 20007
CATEGORIES:Reiki
ATTACH;FMTTYPE=image/jpeg:https://www.unitycenterdc.org/wp-content/uploads/2017/09/Reiki-scaled.jpg
GEO:38.9228637;-77.0720087
END:VEVENT
BEGIN:VEVENT
DTSTART;TZID=America/New_York:20180504T190000
DTEND;TZID=America/New_York:20180504T210000
DTSTAMP:20260424T042319
CREATED:20151202T162743Z
LAST-MODIFIED:20181022T201502Z
UID:10000135-1525460400-1525467600@www.unitycenterdc.org
SUMMARY:Reiki Share
DESCRIPTION:Join Sylvia Sturm and Chic Welsh-Charrier for a relaxing evening of reiki. This reiki share is open to all who wish to give and receive. Come to learn\, practice and have fun. Love offering welcome. \nSylvia Sturm is a Subtle Energies Practitioner\, Eden Energy Medicine Clinical Practitioner and Reiki Master Teacher. She is a Reiki Fellow\, GW Center for Integrative Medicine Clinical Program Director\, Subtle Energy Program at seniors’ residence\, Washington\,DC\, EFT Certification of Completion Level 1 and Level 2\, and has over 400 volunteer Reiki hours at the George Washington University Hospital.
URL:https://www.unitycenterdc.org/calendar/reiki-share/2018-05-04/
CATEGORIES:Reiki
ATTACH;FMTTYPE=image/jpeg:https://www.unitycenterdc.org/wp-content/uploads/2015/12/Reiki.jpg
END:VEVENT
BEGIN:VEVENT
DTSTART;TZID=America/New_York:20180404T190000
DTEND;TZID=America/New_York:20180404T210000
DTSTAMP:20260424T042319
CREATED:20151202T162743Z
LAST-MODIFIED:20181022T201502Z
UID:10000134-1522868400-1522875600@www.unitycenterdc.org
SUMMARY:Reiki Share
DESCRIPTION:Join Sylvia Sturm and Chic Welsh-Charrier for a relaxing evening of reiki. This reiki share is open to all who wish to give and receive. Come to learn\, practice and have fun. Love offering welcome. \nSylvia Sturm is a Subtle Energies Practitioner\, Eden Energy Medicine Clinical Practitioner and Reiki Master Teacher. She is a Reiki Fellow\, GW Center for Integrative Medicine Clinical Program Director\, Subtle Energy Program at seniors’ residence\, Washington\,DC\, EFT Certification of Completion Level 1 and Level 2\, and has over 400 volunteer Reiki hours at the George Washington University Hospital.
URL:https://www.unitycenterdc.org/calendar/reiki-share/2018-04-04/
CATEGORIES:Reiki
ATTACH;FMTTYPE=image/jpeg:https://www.unitycenterdc.org/wp-content/uploads/2015/12/Reiki.jpg
END:VEVENT
BEGIN:VEVENT
DTSTART;TZID=America/New_York:20180401T091500
DTEND;TZID=America/New_York:20180401T094500
DTSTAMP:20260424T042319
CREATED:20170920T194934Z
LAST-MODIFIED:20170920T202759Z
UID:10000604-1522574100-1522575900@www.unitycenterdc.org
SUMMARY:Reiki
DESCRIPTION:First Sunday of the month before service in the anteroom off the foyer.
URL:https://www.unitycenterdc.org/calendar/reiki/2018-04-01/
LOCATION:Unity Center DC on Zoom\, Washington\, DC\, 20007
CATEGORIES:Reiki
ATTACH;FMTTYPE=image/jpeg:https://www.unitycenterdc.org/wp-content/uploads/2017/09/Reiki-scaled.jpg
GEO:38.9228637;-77.0720087
END:VEVENT
BEGIN:VEVENT
DTSTART;TZID=America/New_York:20180304T190000
DTEND;TZID=America/New_York:20180304T210000
DTSTAMP:20260424T042319
CREATED:20151202T162743Z
LAST-MODIFIED:20181022T201502Z
UID:10000133-1520190000-1520197200@www.unitycenterdc.org
SUMMARY:Reiki Share
DESCRIPTION:Join Sylvia Sturm and Chic Welsh-Charrier for a relaxing evening of reiki. This reiki share is open to all who wish to give and receive. Come to learn\, practice and have fun. Love offering welcome. \nSylvia Sturm is a Subtle Energies Practitioner\, Eden Energy Medicine Clinical Practitioner and Reiki Master Teacher. She is a Reiki Fellow\, GW Center for Integrative Medicine Clinical Program Director\, Subtle Energy Program at seniors’ residence\, Washington\,DC\, EFT Certification of Completion Level 1 and Level 2\, and has over 400 volunteer Reiki hours at the George Washington University Hospital.
URL:https://www.unitycenterdc.org/calendar/reiki-share/2018-03-04/
CATEGORIES:Reiki
ATTACH;FMTTYPE=image/jpeg:https://www.unitycenterdc.org/wp-content/uploads/2015/12/Reiki.jpg
END:VEVENT
BEGIN:VEVENT
DTSTART;TZID=America/New_York:20180304T091500
DTEND;TZID=America/New_York:20180304T094500
DTSTAMP:20260424T042319
CREATED:20170920T194934Z
LAST-MODIFIED:20170920T202759Z
UID:10000603-1520154900-1520156700@www.unitycenterdc.org
SUMMARY:Reiki
DESCRIPTION:First Sunday of the month before service in the anteroom off the foyer.
URL:https://www.unitycenterdc.org/calendar/reiki/2018-03-04/
LOCATION:Unity Center DC on Zoom\, Washington\, DC\, 20007
CATEGORIES:Reiki
ATTACH;FMTTYPE=image/jpeg:https://www.unitycenterdc.org/wp-content/uploads/2017/09/Reiki-scaled.jpg
GEO:38.9228637;-77.0720087
END:VEVENT
BEGIN:VEVENT
DTSTART;TZID=America/New_York:20180204T190000
DTEND;TZID=America/New_York:20180204T210000
DTSTAMP:20260424T042319
CREATED:20151202T162743Z
LAST-MODIFIED:20181022T201502Z
UID:10000132-1517770800-1517778000@www.unitycenterdc.org
SUMMARY:Reiki Share
DESCRIPTION:Join Sylvia Sturm and Chic Welsh-Charrier for a relaxing evening of reiki. This reiki share is open to all who wish to give and receive. Come to learn\, practice and have fun. Love offering welcome. \nSylvia Sturm is a Subtle Energies Practitioner\, Eden Energy Medicine Clinical Practitioner and Reiki Master Teacher. She is a Reiki Fellow\, GW Center for Integrative Medicine Clinical Program Director\, Subtle Energy Program at seniors’ residence\, Washington\,DC\, EFT Certification of Completion Level 1 and Level 2\, and has over 400 volunteer Reiki hours at the George Washington University Hospital.
URL:https://www.unitycenterdc.org/calendar/reiki-share/2018-02-04/
CATEGORIES:Reiki
ATTACH;FMTTYPE=image/jpeg:https://www.unitycenterdc.org/wp-content/uploads/2015/12/Reiki.jpg
END:VEVENT
BEGIN:VEVENT
DTSTART;TZID=America/New_York:20180204T091500
DTEND;TZID=America/New_York:20180204T094500
DTSTAMP:20260424T042319
CREATED:20170920T194934Z
LAST-MODIFIED:20170920T202759Z
UID:10000602-1517735700-1517737500@www.unitycenterdc.org
SUMMARY:Reiki
DESCRIPTION:First Sunday of the month before service in the anteroom off the foyer.
URL:https://www.unitycenterdc.org/calendar/reiki/2018-02-04/
LOCATION:Unity Center DC on Zoom\, Washington\, DC\, 20007
CATEGORIES:Reiki
ATTACH;FMTTYPE=image/jpeg:https://www.unitycenterdc.org/wp-content/uploads/2017/09/Reiki-scaled.jpg
GEO:38.9228637;-77.0720087
END:VEVENT
BEGIN:VEVENT
DTSTART;TZID=America/New_York:20180108T190000
DTEND;TZID=America/New_York:20180108T210000
DTSTAMP:20260424T042319
CREATED:20151202T162743Z
LAST-MODIFIED:20180108T183255Z
UID:10000098-1515438000-1515445200@www.unitycenterdc.org
SUMMARY:Reiki Share-Cancelled
DESCRIPTION:Reiki for January 7 is cancelled due to bad weather. \nJoin Sylvia Sturm and Chic Welsh-Charrier for a relaxing evening of reiki. This reiki share is open to all who wish to give and receive. Come to learn\, practice and have fun. Love offering welcome. \nSylvia Sturm is a Subtle Energies Practitioner\, Eden Energy Medicine Clinical Practitioner and Reiki Master Teacher. She is a Reiki Fellow\, GW Center for Integrative Medicine Clinical Program Director\, Subtle Energy Program at seniors’ residence\, Washington\,DC\, EFT Certification of Completion Level 1 and Level 2\, and has over 400 volunteer Reiki hours at the George Washington University Hospital.
URL:https://www.unitycenterdc.org/calendar/reiki-share-2018-01-01/
CATEGORIES:Reiki
ATTACH;FMTTYPE=image/jpeg:https://www.unitycenterdc.org/wp-content/uploads/2015/12/Reiki.jpg
END:VEVENT
BEGIN:VEVENT
DTSTART;TZID=America/New_York:20180107T091500
DTEND;TZID=America/New_York:20180107T094500
DTSTAMP:20260424T042319
CREATED:20170920T194934Z
LAST-MODIFIED:20180108T183146Z
UID:10000607-1515316500-1515318300@www.unitycenterdc.org
SUMMARY:Reiki
DESCRIPTION:First Sunday of the month before service in the anteroom off the foyer.
URL:https://www.unitycenterdc.org/calendar/reiki-2018-01-07/
LOCATION:Unity Center DC on Zoom\, Washington\, DC\, 20007
CATEGORIES:Reiki
ATTACH;FMTTYPE=image/jpeg:https://www.unitycenterdc.org/wp-content/uploads/2017/09/Reiki-scaled.jpg
GEO:38.9228637;-77.0720087
END:VEVENT
BEGIN:VEVENT
DTSTART;TZID=America/New_York:20180107T091500
DTEND;TZID=America/New_York:20180107T094500
DTSTAMP:20260424T042319
CREATED:20170920T194934Z
LAST-MODIFIED:20170920T202759Z
UID:10000601-1515316500-1515318300@www.unitycenterdc.org
SUMMARY:Reiki
DESCRIPTION:First Sunday of the month before service in the anteroom off the foyer.
URL:https://www.unitycenterdc.org/calendar/reiki/2018-01-07/
LOCATION:Unity Center DC on Zoom\, Washington\, DC\, 20007
CATEGORIES:Reiki
ATTACH;FMTTYPE=image/jpeg:https://www.unitycenterdc.org/wp-content/uploads/2017/09/Reiki-scaled.jpg
GEO:38.9228637;-77.0720087
END:VEVENT
BEGIN:VEVENT
DTSTART;TZID=America/New_York:20180104T190000
DTEND;TZID=America/New_York:20180104T210000
DTSTAMP:20260424T042319
CREATED:20151202T162743Z
LAST-MODIFIED:20181022T201502Z
UID:10000131-1515092400-1515099600@www.unitycenterdc.org
SUMMARY:Reiki Share
DESCRIPTION:Join Sylvia Sturm and Chic Welsh-Charrier for a relaxing evening of reiki. This reiki share is open to all who wish to give and receive. Come to learn\, practice and have fun. Love offering welcome. \nSylvia Sturm is a Subtle Energies Practitioner\, Eden Energy Medicine Clinical Practitioner and Reiki Master Teacher. She is a Reiki Fellow\, GW Center for Integrative Medicine Clinical Program Director\, Subtle Energy Program at seniors’ residence\, Washington\,DC\, EFT Certification of Completion Level 1 and Level 2\, and has over 400 volunteer Reiki hours at the George Washington University Hospital.
URL:https://www.unitycenterdc.org/calendar/reiki-share/2018-01-04/
CATEGORIES:Reiki
ATTACH;FMTTYPE=image/jpeg:https://www.unitycenterdc.org/wp-content/uploads/2015/12/Reiki.jpg
END:VEVENT
BEGIN:VEVENT
DTSTART;TZID=America/New_York:20171204T190000
DTEND;TZID=America/New_York:20171204T210000
DTSTAMP:20260424T042319
CREATED:20151202T162743Z
LAST-MODIFIED:20181022T201502Z
UID:10000130-1512414000-1512421200@www.unitycenterdc.org
SUMMARY:Reiki Share
DESCRIPTION:Join Sylvia Sturm and Chic Welsh-Charrier for a relaxing evening of reiki. This reiki share is open to all who wish to give and receive. Come to learn\, practice and have fun. Love offering welcome. \nSylvia Sturm is a Subtle Energies Practitioner\, Eden Energy Medicine Clinical Practitioner and Reiki Master Teacher. She is a Reiki Fellow\, GW Center for Integrative Medicine Clinical Program Director\, Subtle Energy Program at seniors’ residence\, Washington\,DC\, EFT Certification of Completion Level 1 and Level 2\, and has over 400 volunteer Reiki hours at the George Washington University Hospital.
URL:https://www.unitycenterdc.org/calendar/reiki-share/2017-12-04/
CATEGORIES:Reiki
ATTACH;FMTTYPE=image/jpeg:https://www.unitycenterdc.org/wp-content/uploads/2015/12/Reiki.jpg
END:VEVENT
BEGIN:VEVENT
DTSTART;TZID=America/New_York:20171203T091500
DTEND;TZID=America/New_York:20171203T094500
DTSTAMP:20260424T042319
CREATED:20170920T194934Z
LAST-MODIFIED:20170920T202759Z
UID:10000600-1512292500-1512294300@www.unitycenterdc.org
SUMMARY:Reiki
DESCRIPTION:First Sunday of the month before service in the anteroom off the foyer.
URL:https://www.unitycenterdc.org/calendar/reiki/2017-12-03/
LOCATION:Unity Center DC on Zoom\, Washington\, DC\, 20007
CATEGORIES:Reiki
ATTACH;FMTTYPE=image/jpeg:https://www.unitycenterdc.org/wp-content/uploads/2017/09/Reiki-scaled.jpg
GEO:38.9228637;-77.0720087
END:VEVENT
BEGIN:VEVENT
DTSTART;TZID=America/New_York:20171105T091500
DTEND;TZID=America/New_York:20171105T094500
DTSTAMP:20260424T042319
CREATED:20170920T194934Z
LAST-MODIFIED:20170920T202759Z
UID:10000599-1509873300-1509875100@www.unitycenterdc.org
SUMMARY:Reiki
DESCRIPTION:First Sunday of the month before service in the anteroom off the foyer.
URL:https://www.unitycenterdc.org/calendar/reiki/2017-11-05/
LOCATION:Unity Center DC on Zoom\, Washington\, DC\, 20007
CATEGORIES:Reiki
ATTACH;FMTTYPE=image/jpeg:https://www.unitycenterdc.org/wp-content/uploads/2017/09/Reiki-scaled.jpg
GEO:38.9228637;-77.0720087
END:VEVENT
BEGIN:VEVENT
DTSTART;TZID=America/New_York:20171104T190000
DTEND;TZID=America/New_York:20171104T210000
DTSTAMP:20260424T042319
CREATED:20151202T162743Z
LAST-MODIFIED:20181022T201502Z
UID:10000129-1509822000-1509829200@www.unitycenterdc.org
SUMMARY:Reiki Share
DESCRIPTION:Join Sylvia Sturm and Chic Welsh-Charrier for a relaxing evening of reiki. This reiki share is open to all who wish to give and receive. Come to learn\, practice and have fun. Love offering welcome. \nSylvia Sturm is a Subtle Energies Practitioner\, Eden Energy Medicine Clinical Practitioner and Reiki Master Teacher. She is a Reiki Fellow\, GW Center for Integrative Medicine Clinical Program Director\, Subtle Energy Program at seniors’ residence\, Washington\,DC\, EFT Certification of Completion Level 1 and Level 2\, and has over 400 volunteer Reiki hours at the George Washington University Hospital.
URL:https://www.unitycenterdc.org/calendar/reiki-share/2017-11-04/
CATEGORIES:Reiki
ATTACH;FMTTYPE=image/jpeg:https://www.unitycenterdc.org/wp-content/uploads/2015/12/Reiki.jpg
END:VEVENT
BEGIN:VEVENT
DTSTART;TZID=America/New_York:20171004T190000
DTEND;TZID=America/New_York:20171004T210000
DTSTAMP:20260424T042319
CREATED:20151202T162743Z
LAST-MODIFIED:20181022T201502Z
UID:10000128-1507143600-1507150800@www.unitycenterdc.org
SUMMARY:Reiki Share
DESCRIPTION:Join Sylvia Sturm and Chic Welsh-Charrier for a relaxing evening of reiki. This reiki share is open to all who wish to give and receive. Come to learn\, practice and have fun. Love offering welcome. \nSylvia Sturm is a Subtle Energies Practitioner\, Eden Energy Medicine Clinical Practitioner and Reiki Master Teacher. She is a Reiki Fellow\, GW Center for Integrative Medicine Clinical Program Director\, Subtle Energy Program at seniors’ residence\, Washington\,DC\, EFT Certification of Completion Level 1 and Level 2\, and has over 400 volunteer Reiki hours at the George Washington University Hospital.
URL:https://www.unitycenterdc.org/calendar/reiki-share/2017-10-04/
CATEGORIES:Reiki
ATTACH;FMTTYPE=image/jpeg:https://www.unitycenterdc.org/wp-content/uploads/2015/12/Reiki.jpg
END:VEVENT
BEGIN:VEVENT
DTSTART;TZID=America/New_York:20171001T091500
DTEND;TZID=America/New_York:20171001T094500
DTSTAMP:20260424T042319
CREATED:20170920T194934Z
LAST-MODIFIED:20170920T202759Z
UID:10000598-1506849300-1506851100@www.unitycenterdc.org
SUMMARY:Reiki
DESCRIPTION:First Sunday of the month before service in the anteroom off the foyer.
URL:https://www.unitycenterdc.org/calendar/reiki/2017-10-01/
LOCATION:Unity Center DC on Zoom\, Washington\, DC\, 20007
CATEGORIES:Reiki
ATTACH;FMTTYPE=image/jpeg:https://www.unitycenterdc.org/wp-content/uploads/2017/09/Reiki-scaled.jpg
GEO:38.9228637;-77.0720087
END:VEVENT
BEGIN:VEVENT
DTSTART;TZID=America/New_York:20170911T190000
DTEND;TZID=America/New_York:20170911T210000
DTSTAMP:20260424T042319
CREATED:20151202T162743Z
LAST-MODIFIED:20170821T134628Z
UID:10000097-1505156400-1505163600@www.unitycenterdc.org
SUMMARY:Reiki Share
DESCRIPTION:Join Sylvia Sturm and Chic Welsh-Charrier for a relaxing evening of reiki. This reiki share is open to all who wish to give and receive. Come to learn\, practice and have fun. Love offering welcome. \nSylvia Sturm is a Subtle Energies Practitioner\, Eden Energy Medicine Clinical Practitioner and Reiki Master Teacher. She is a Reiki Fellow\, GW Center for Integrative Medicine Clinical Program Director\, Subtle Energy Program at seniors’ residence\, Washington\,DC\, EFT Certification of Completion Level 1 and Level 2\, and has over 400 volunteer Reiki hours at the George Washington University Hospital.
URL:https://www.unitycenterdc.org/calendar/reiki-share-2017-09-04/
CATEGORIES:Reiki
ATTACH;FMTTYPE=image/jpeg:https://www.unitycenterdc.org/wp-content/uploads/2015/12/Reiki.jpg
END:VEVENT
BEGIN:VEVENT
DTSTART;TZID=America/New_York:20170903T091500
DTEND;TZID=America/New_York:20170903T094500
DTSTAMP:20260424T042320
CREATED:20170920T194934Z
LAST-MODIFIED:20170920T202759Z
UID:10000597-1504430100-1504431900@www.unitycenterdc.org
SUMMARY:Reiki
DESCRIPTION:First Sunday of the month before service in the anteroom off the foyer.
URL:https://www.unitycenterdc.org/calendar/reiki/2017-09-03/
LOCATION:Unity Center DC on Zoom\, Washington\, DC\, 20007
CATEGORIES:Reiki
ATTACH;FMTTYPE=image/jpeg:https://www.unitycenterdc.org/wp-content/uploads/2017/09/Reiki-scaled.jpg
GEO:38.9228637;-77.0720087
END:VEVENT
BEGIN:VEVENT
DTSTART;TZID=America/New_York:20170804T190000
DTEND;TZID=America/New_York:20170804T210000
DTSTAMP:20260424T042320
CREATED:20151202T162743Z
LAST-MODIFIED:20181022T201502Z
UID:10000127-1501873200-1501880400@www.unitycenterdc.org
SUMMARY:Reiki Share
DESCRIPTION:Join Sylvia Sturm and Chic Welsh-Charrier for a relaxing evening of reiki. This reiki share is open to all who wish to give and receive. Come to learn\, practice and have fun. Love offering welcome. \nSylvia Sturm is a Subtle Energies Practitioner\, Eden Energy Medicine Clinical Practitioner and Reiki Master Teacher. She is a Reiki Fellow\, GW Center for Integrative Medicine Clinical Program Director\, Subtle Energy Program at seniors’ residence\, Washington\,DC\, EFT Certification of Completion Level 1 and Level 2\, and has over 400 volunteer Reiki hours at the George Washington University Hospital.
URL:https://www.unitycenterdc.org/calendar/reiki-share/2017-08-04/
CATEGORIES:Reiki
ATTACH;FMTTYPE=image/jpeg:https://www.unitycenterdc.org/wp-content/uploads/2015/12/Reiki.jpg
END:VEVENT
BEGIN:VEVENT
DTSTART;TZID=America/New_York:20170710T190000
DTEND;TZID=America/New_York:20170710T210000
DTSTAMP:20260424T042320
CREATED:20151202T162743Z
LAST-MODIFIED:20160707T180924Z
UID:10000096-1499713200-1499720400@www.unitycenterdc.org
SUMMARY:Reiki Share
DESCRIPTION:Join Sylvia Sturm and Chic Welsh-Charrier for a relaxing evening of reiki. This reiki share is open to all who wish to give and receive. Come to learn\, practice and have fun. Love offering welcome. \nSylvia Sturm is a Subtle Energies Practitioner\, Eden Energy Medicine Clinical Practitioner and Reiki Master Teacher. She is a Reiki Fellow\, GW Center for Integrative Medicine Clinical Program Director\, Subtle Energy Program at seniors’ residence\, Washington\,DC\, EFT Certification of Completion Level 1 and Level 2\, and has over 400 volunteer Reiki hours at the George Washington University Hospital.
URL:https://www.unitycenterdc.org/calendar/reiki-share-2017-07-03/
CATEGORIES:Reiki
ATTACH;FMTTYPE=image/jpeg:https://www.unitycenterdc.org/wp-content/uploads/2015/12/Reiki.jpg
END:VEVENT
BEGIN:VEVENT
DTSTART;TZID=America/New_York:20170704T190000
DTEND;TZID=America/New_York:20170704T210000
DTSTAMP:20260424T042320
CREATED:20151202T162743Z
LAST-MODIFIED:20181022T201502Z
UID:10000126-1499194800-1499202000@www.unitycenterdc.org
SUMMARY:Reiki Share
DESCRIPTION:Join Sylvia Sturm and Chic Welsh-Charrier for a relaxing evening of reiki. This reiki share is open to all who wish to give and receive. Come to learn\, practice and have fun. Love offering welcome. \nSylvia Sturm is a Subtle Energies Practitioner\, Eden Energy Medicine Clinical Practitioner and Reiki Master Teacher. She is a Reiki Fellow\, GW Center for Integrative Medicine Clinical Program Director\, Subtle Energy Program at seniors’ residence\, Washington\,DC\, EFT Certification of Completion Level 1 and Level 2\, and has over 400 volunteer Reiki hours at the George Washington University Hospital.
URL:https://www.unitycenterdc.org/calendar/reiki-share/2017-07-04/
CATEGORIES:Reiki
ATTACH;FMTTYPE=image/jpeg:https://www.unitycenterdc.org/wp-content/uploads/2015/12/Reiki.jpg
END:VEVENT
BEGIN:VEVENT
DTSTART;TZID=America/New_York:20170604T190000
DTEND;TZID=America/New_York:20170604T210000
DTSTAMP:20260424T042320
CREATED:20151202T162743Z
LAST-MODIFIED:20181022T201502Z
UID:10000125-1496602800-1496610000@www.unitycenterdc.org
SUMMARY:Reiki Share
DESCRIPTION:Join Sylvia Sturm and Chic Welsh-Charrier for a relaxing evening of reiki. This reiki share is open to all who wish to give and receive. Come to learn\, practice and have fun. Love offering welcome. \nSylvia Sturm is a Subtle Energies Practitioner\, Eden Energy Medicine Clinical Practitioner and Reiki Master Teacher. She is a Reiki Fellow\, GW Center for Integrative Medicine Clinical Program Director\, Subtle Energy Program at seniors’ residence\, Washington\,DC\, EFT Certification of Completion Level 1 and Level 2\, and has over 400 volunteer Reiki hours at the George Washington University Hospital.
URL:https://www.unitycenterdc.org/calendar/reiki-share/2017-06-04/
CATEGORIES:Reiki
ATTACH;FMTTYPE=image/jpeg:https://www.unitycenterdc.org/wp-content/uploads/2015/12/Reiki.jpg
END:VEVENT
BEGIN:VEVENT
DTSTART;TZID=America/New_York:20170504T190000
DTEND;TZID=America/New_York:20170504T210000
DTSTAMP:20260424T042320
CREATED:20151202T162743Z
LAST-MODIFIED:20181022T201502Z
UID:10000124-1493924400-1493931600@www.unitycenterdc.org
SUMMARY:Reiki Share
DESCRIPTION:Join Sylvia Sturm and Chic Welsh-Charrier for a relaxing evening of reiki. This reiki share is open to all who wish to give and receive. Come to learn\, practice and have fun. Love offering welcome. \nSylvia Sturm is a Subtle Energies Practitioner\, Eden Energy Medicine Clinical Practitioner and Reiki Master Teacher. She is a Reiki Fellow\, GW Center for Integrative Medicine Clinical Program Director\, Subtle Energy Program at seniors’ residence\, Washington\,DC\, EFT Certification of Completion Level 1 and Level 2\, and has over 400 volunteer Reiki hours at the George Washington University Hospital.
URL:https://www.unitycenterdc.org/calendar/reiki-share/2017-05-04/
CATEGORIES:Reiki
ATTACH;FMTTYPE=image/jpeg:https://www.unitycenterdc.org/wp-content/uploads/2015/12/Reiki.jpg
END:VEVENT
BEGIN:VEVENT
DTSTART;TZID=America/New_York:20170404T190000
DTEND;TZID=America/New_York:20170404T210000
DTSTAMP:20260424T042320
CREATED:20151202T162743Z
LAST-MODIFIED:20181022T201502Z
UID:10000123-1491332400-1491339600@www.unitycenterdc.org
SUMMARY:Reiki Share
DESCRIPTION:Join Sylvia Sturm and Chic Welsh-Charrier for a relaxing evening of reiki. This reiki share is open to all who wish to give and receive. Come to learn\, practice and have fun. Love offering welcome. \nSylvia Sturm is a Subtle Energies Practitioner\, Eden Energy Medicine Clinical Practitioner and Reiki Master Teacher. She is a Reiki Fellow\, GW Center for Integrative Medicine Clinical Program Director\, Subtle Energy Program at seniors’ residence\, Washington\,DC\, EFT Certification of Completion Level 1 and Level 2\, and has over 400 volunteer Reiki hours at the George Washington University Hospital.
URL:https://www.unitycenterdc.org/calendar/reiki-share/2017-04-04/
CATEGORIES:Reiki
ATTACH;FMTTYPE=image/jpeg:https://www.unitycenterdc.org/wp-content/uploads/2015/12/Reiki.jpg
END:VEVENT
END:VCALENDAR