BEGIN:VCALENDAR
VERSION:2.0
PRODID:-//Unity Center DC - ECPv6.15.20//NONSGML v1.0//EN
CALSCALE:GREGORIAN
METHOD:PUBLISH
X-WR-CALNAME:Unity Center DC
X-ORIGINAL-URL:https://www.unitycenterdc.org
X-WR-CALDESC:Events for Unity Center DC
REFRESH-INTERVAL;VALUE=DURATION:PT1H
X-Robots-Tag:noindex
X-PUBLISHED-TTL:PT1H
BEGIN:VTIMEZONE
TZID:America/New_York
BEGIN:DAYLIGHT
TZOFFSETFROM:-0500
TZOFFSETTO:-0400
TZNAME:EDT
DTSTART:20240310T070000
END:DAYLIGHT
BEGIN:STANDARD
TZOFFSETFROM:-0400
TZOFFSETTO:-0500
TZNAME:EST
DTSTART:20241103T060000
END:STANDARD
BEGIN:DAYLIGHT
TZOFFSETFROM:-0500
TZOFFSETTO:-0400
TZNAME:EDT
DTSTART:20250309T070000
END:DAYLIGHT
BEGIN:STANDARD
TZOFFSETFROM:-0400
TZOFFSETTO:-0500
TZNAME:EST
DTSTART:20251102T060000
END:STANDARD
BEGIN:DAYLIGHT
TZOFFSETFROM:-0500
TZOFFSETTO:-0400
TZNAME:EDT
DTSTART:20260308T070000
END:DAYLIGHT
BEGIN:STANDARD
TZOFFSETFROM:-0400
TZOFFSETTO:-0500
TZNAME:EST
DTSTART:20261101T060000
END:STANDARD
END:VTIMEZONE
BEGIN:VEVENT
DTSTART;TZID=America/New_York:20251221T130000
DTEND;TZID=America/New_York:20251221T140000
DTSTAMP:20260423T192611
CREATED:20251215T015849Z
LAST-MODIFIED:20251215T020355Z
UID:10002032-1766322000-1766325600@www.unitycenterdc.org
SUMMARY:Christmas Carol Sunday Service—Hybrid Event
DESCRIPTION:Our Christmas Carole Service will be held 1:00 PM at the Advent Lutheran Church\, 2222 S Arlington Ridge Rd Mason\, Arlington\, VA. It it a hybrid event. Lead by Rev Karen Gray with guest musician Caroline Park. Fellowship to follow after the service. \nWe welcome everyone to join our fabulous speakers and musicians in sharing the Unity message. Unity is a global\, inclusive\, spiritual community. We offer practical\, uplifting resources to help people of all faiths apply positive spiritual principles to their lives. \nAll services are available on www.youtube.com/unitycenterdc\nThank you for your love offerings @unitycenterdc on Venmo. \n11:00 AM Sunday Celebration Service (Same info each week)\nJoin Zoom Meeting\nhttps://zoom.us/j/621776707?pwd=dUQ5Z0VnbS9RSThJd2JEb2FLTWxGQT09\nMeeting id: 621 776 707\nPassword: 250925
URL:https://www.unitycenterdc.org/calendar/sunday-service-12-21-25/
LOCATION:Advent Lutheran Church\, 2222 South Ridge Road\, Arlington\, VA\, 22202\, United States
CATEGORIES:Service
ATTACH;FMTTYPE=image/png:https://www.unitycenterdc.org/wp-content/uploads/2020/12/Zoom-Desktop-1.png
END:VEVENT
END:VCALENDAR