BEGIN:VCALENDAR
VERSION:2.0
PRODID:-//Unity Center DC - ECPv6.15.20//NONSGML v1.0//EN
CALSCALE:GREGORIAN
METHOD:PUBLISH
X-WR-CALNAME:Unity Center DC
X-ORIGINAL-URL:https://www.unitycenterdc.org
X-WR-CALDESC:Events for Unity Center DC
REFRESH-INTERVAL;VALUE=DURATION:PT1H
X-Robots-Tag:noindex
X-PUBLISHED-TTL:PT1H
BEGIN:VTIMEZONE
TZID:America/New_York
BEGIN:DAYLIGHT
TZOFFSETFROM:-0500
TZOFFSETTO:-0400
TZNAME:EDT
DTSTART:20140309T070000
END:DAYLIGHT
BEGIN:STANDARD
TZOFFSETFROM:-0400
TZOFFSETTO:-0500
TZNAME:EST
DTSTART:20141102T060000
END:STANDARD
BEGIN:DAYLIGHT
TZOFFSETFROM:-0500
TZOFFSETTO:-0400
TZNAME:EDT
DTSTART:20150308T070000
END:DAYLIGHT
BEGIN:STANDARD
TZOFFSETFROM:-0400
TZOFFSETTO:-0500
TZNAME:EST
DTSTART:20151101T060000
END:STANDARD
BEGIN:DAYLIGHT
TZOFFSETFROM:-0500
TZOFFSETTO:-0400
TZNAME:EDT
DTSTART:20160313T070000
END:DAYLIGHT
BEGIN:STANDARD
TZOFFSETFROM:-0400
TZOFFSETTO:-0500
TZNAME:EST
DTSTART:20161106T060000
END:STANDARD
END:VTIMEZONE
BEGIN:VEVENT
DTSTART;TZID=America/New_York:20151108T100000
DTEND;TZID=America/New_York:20151108T110000
DTSTAMP:20260425T074530
CREATED:20151112T224939Z
LAST-MODIFIED:20151112T224939Z
UID:10000279-1446976800-1446980400@www.unitycenterdc.org
SUMMARY:Sunday Service
DESCRIPTION:Speaker | Margaret Morgan Maat\nPlatform Assistant | Marie Maus\nPiano | Barbara Wilkinson\nSpecial Music | Warren Freeman\, vocalist\nPrayer Chaplain | John Bell\nUsher | Curt Huff
URL:https://www.unitycenterdc.org/calendar/sunday-service-2-2/
LOCATION:Unity Center DC on Zoom\, Washington\, DC\, 20007
CATEGORIES:Service
GEO:38.9228637;-77.0720087
END:VEVENT
BEGIN:VEVENT
DTSTART;TZID=America/New_York:20151101T100000
DTEND;TZID=America/New_York:20151101T110000
DTSTAMP:20260425T074530
CREATED:20141205T004139Z
LAST-MODIFIED:20151112T224930Z
UID:10000314-1446372000-1446375600@www.unitycenterdc.org
SUMMARY:Sunday Service
DESCRIPTION:Speaker | Tom Workman\nPlatform Assistant | Joan Morgan\nPiano | Barbara Wilkinson\nSpecial Music | Kyle Steindler\, euphonium\nPlatform Assistant | Kathleen Healy\nUsher | John Bell
URL:https://www.unitycenterdc.org/calendar/sunday-service/
LOCATION:Unity Center DC on Zoom\, Washington\, DC\, 20007
CATEGORIES:Service
GEO:38.9228637;-77.0720087
END:VEVENT
END:VCALENDAR