BEGIN:VCALENDAR
VERSION:2.0
PRODID:-//Unity Center DC - ECPv6.15.20//NONSGML v1.0//EN
CALSCALE:GREGORIAN
METHOD:PUBLISH
X-ORIGINAL-URL:https://www.unitycenterdc.org
X-WR-CALDESC:Events for Unity Center DC
REFRESH-INTERVAL;VALUE=DURATION:PT1H
X-Robots-Tag:noindex
X-PUBLISHED-TTL:PT1H
BEGIN:VTIMEZONE
TZID:America/New_York
BEGIN:DAYLIGHT
TZOFFSETFROM:-0500
TZOFFSETTO:-0400
TZNAME:EDT
DTSTART:20230312T070000
END:DAYLIGHT
BEGIN:STANDARD
TZOFFSETFROM:-0400
TZOFFSETTO:-0500
TZNAME:EST
DTSTART:20231105T060000
END:STANDARD
BEGIN:DAYLIGHT
TZOFFSETFROM:-0500
TZOFFSETTO:-0400
TZNAME:EDT
DTSTART:20240310T070000
END:DAYLIGHT
BEGIN:STANDARD
TZOFFSETFROM:-0400
TZOFFSETTO:-0500
TZNAME:EST
DTSTART:20241103T060000
END:STANDARD
BEGIN:DAYLIGHT
TZOFFSETFROM:-0500
TZOFFSETTO:-0400
TZNAME:EDT
DTSTART:20250309T070000
END:DAYLIGHT
BEGIN:STANDARD
TZOFFSETFROM:-0400
TZOFFSETTO:-0500
TZNAME:EST
DTSTART:20251102T060000
END:STANDARD
END:VTIMEZONE
BEGIN:VEVENT
DTSTART;TZID=America/New_York:20240720T100000
DTEND;TZID=America/New_York:20240720T120000
DTSTAMP:20260425T085002
CREATED:20240710T203841Z
LAST-MODIFIED:20240710T203841Z
UID:10001879-1721469600-1721476800@www.unitycenterdc.org
SUMMARY:Building A Consciousness of Abundance Workshop
DESCRIPTION:Building A Consciousness of Abundance Workshop\nFacilitated by Rev Sandra Butler\nSaturday\, July 20\, 10:00 AM to Noon\nBuilding A Consciousness of Abundance Is an opportunity to know a deeper spiritual awareness that Abundance is present in all aspects of our lives\, not just more material goods. Learning how to build A Consciousness of Abundance will offer specific tools and insight into a new understanding of spiritual law and a greater appreciation for the goodness of life and freedom from limiting beliefs. \n((•)) Zoom to Meeting\nMeeting ID: 894 7440 9658\nPasscode: abundance
URL:https://www.unitycenterdc.org/calendar/building-a-consciousness-of-abundance-workshop/
LOCATION:Unity Center DC on Zoom\, Washington\, DC\, 20007
CATEGORIES:Study
ATTACH;FMTTYPE=image/png:https://www.unitycenterdc.org/wp-content/uploads/2024/07/Abundance-Workshop-Banner.png
GEO:38.9228637;-77.0720087
END:VEVENT
END:VCALENDAR