BEGIN:VCALENDAR
VERSION:2.0
PRODID:-//Unity Center DC - ECPv6.15.20//NONSGML v1.0//EN
CALSCALE:GREGORIAN
METHOD:PUBLISH
X-WR-CALNAME:Unity Center DC
X-ORIGINAL-URL:https://www.unitycenterdc.org
X-WR-CALDESC:Events for Unity Center DC
REFRESH-INTERVAL;VALUE=DURATION:PT1H
X-Robots-Tag:noindex
X-PUBLISHED-TTL:PT1H
BEGIN:VTIMEZONE
TZID:America/New_York
BEGIN:DAYLIGHT
TZOFFSETFROM:-0500
TZOFFSETTO:-0400
TZNAME:EDT
DTSTART:20150308T070000
END:DAYLIGHT
BEGIN:STANDARD
TZOFFSETFROM:-0400
TZOFFSETTO:-0500
TZNAME:EST
DTSTART:20151101T060000
END:STANDARD
BEGIN:DAYLIGHT
TZOFFSETFROM:-0500
TZOFFSETTO:-0400
TZNAME:EDT
DTSTART:20160313T070000
END:DAYLIGHT
BEGIN:STANDARD
TZOFFSETFROM:-0400
TZOFFSETTO:-0500
TZNAME:EST
DTSTART:20161106T060000
END:STANDARD
BEGIN:DAYLIGHT
TZOFFSETFROM:-0500
TZOFFSETTO:-0400
TZNAME:EDT
DTSTART:20170312T070000
END:DAYLIGHT
BEGIN:STANDARD
TZOFFSETFROM:-0400
TZOFFSETTO:-0500
TZNAME:EST
DTSTART:20171105T060000
END:STANDARD
END:VTIMEZONE
BEGIN:VEVENT
DTSTART;TZID=America/New_York:20160103T113000
DTEND;TZID=America/New_York:20160103T123000
DTSTAMP:20260423T145457
CREATED:20160106T181201Z
LAST-MODIFIED:20160106T181508Z
UID:10000010-1451820600-1451824200@www.unitycenterdc.org
SUMMARY:A Course in Miracles Reading Group
DESCRIPTION:Each Sunday our A Course in Miracles reading group meets for approximately an hour after the 10:00 am service at 11:30am-12:30pm in the narthex. Anyone may attend the group\, you need no prior experience. If you have a book\, bring it and if not you are welcome to use one of ours. We offer an informal gathering place for reading and discussion.
URL:https://www.unitycenterdc.org/calendar/a-course-in-miracles-reading-group/2016-01-03/
LOCATION:Unity Center DC on Zoom\, Washington\, DC\, 20007
CATEGORIES:Study
ATTACH;FMTTYPE=image/jpeg:https://www.unitycenterdc.org/wp-content/uploads/2016/01/ACIM.jpg
GEO:38.9228637;-77.0720087
END:VEVENT
BEGIN:VEVENT
DTSTART;TZID=America/New_York:20160110T113000
DTEND;TZID=America/New_York:20160110T123000
DTSTAMP:20260423T145457
CREATED:20160106T181201Z
LAST-MODIFIED:20160106T181508Z
UID:10000011-1452425400-1452429000@www.unitycenterdc.org
SUMMARY:A Course in Miracles Reading Group
DESCRIPTION:Each Sunday our A Course in Miracles reading group meets for approximately an hour after the 10:00 am service at 11:30am-12:30pm in the narthex. Anyone may attend the group\, you need no prior experience. If you have a book\, bring it and if not you are welcome to use one of ours. We offer an informal gathering place for reading and discussion.
URL:https://www.unitycenterdc.org/calendar/a-course-in-miracles-reading-group/2016-01-10/
LOCATION:Unity Center DC on Zoom\, Washington\, DC\, 20007
CATEGORIES:Study
ATTACH;FMTTYPE=image/jpeg:https://www.unitycenterdc.org/wp-content/uploads/2016/01/ACIM.jpg
GEO:38.9228637;-77.0720087
END:VEVENT
BEGIN:VEVENT
DTSTART;TZID=America/New_York:20160117T113000
DTEND;TZID=America/New_York:20160117T123000
DTSTAMP:20260423T145457
CREATED:20160106T181201Z
LAST-MODIFIED:20160106T181508Z
UID:10000012-1453030200-1453033800@www.unitycenterdc.org
SUMMARY:A Course in Miracles Reading Group
DESCRIPTION:Each Sunday our A Course in Miracles reading group meets for approximately an hour after the 10:00 am service at 11:30am-12:30pm in the narthex. Anyone may attend the group\, you need no prior experience. If you have a book\, bring it and if not you are welcome to use one of ours. We offer an informal gathering place for reading and discussion.
URL:https://www.unitycenterdc.org/calendar/a-course-in-miracles-reading-group/2016-01-17/
LOCATION:Unity Center DC on Zoom\, Washington\, DC\, 20007
CATEGORIES:Study
ATTACH;FMTTYPE=image/jpeg:https://www.unitycenterdc.org/wp-content/uploads/2016/01/ACIM.jpg
GEO:38.9228637;-77.0720087
END:VEVENT
BEGIN:VEVENT
DTSTART;TZID=America/New_York:20160124T113000
DTEND;TZID=America/New_York:20160124T123000
DTSTAMP:20260423T145457
CREATED:20160106T181201Z
LAST-MODIFIED:20160106T181508Z
UID:10000013-1453635000-1453638600@www.unitycenterdc.org
SUMMARY:A Course in Miracles Reading Group
DESCRIPTION:Each Sunday our A Course in Miracles reading group meets for approximately an hour after the 10:00 am service at 11:30am-12:30pm in the narthex. Anyone may attend the group\, you need no prior experience. If you have a book\, bring it and if not you are welcome to use one of ours. We offer an informal gathering place for reading and discussion.
URL:https://www.unitycenterdc.org/calendar/a-course-in-miracles-reading-group/2016-01-24/
LOCATION:Unity Center DC on Zoom\, Washington\, DC\, 20007
CATEGORIES:Study
ATTACH;FMTTYPE=image/jpeg:https://www.unitycenterdc.org/wp-content/uploads/2016/01/ACIM.jpg
GEO:38.9228637;-77.0720087
END:VEVENT
BEGIN:VEVENT
DTSTART;TZID=America/New_York:20160131T113000
DTEND;TZID=America/New_York:20160131T123000
DTSTAMP:20260423T145457
CREATED:20160106T181201Z
LAST-MODIFIED:20160106T181508Z
UID:10000014-1454239800-1454243400@www.unitycenterdc.org
SUMMARY:A Course in Miracles Reading Group
DESCRIPTION:Each Sunday our A Course in Miracles reading group meets for approximately an hour after the 10:00 am service at 11:30am-12:30pm in the narthex. Anyone may attend the group\, you need no prior experience. If you have a book\, bring it and if not you are welcome to use one of ours. We offer an informal gathering place for reading and discussion.
URL:https://www.unitycenterdc.org/calendar/a-course-in-miracles-reading-group/2016-01-31/
LOCATION:Unity Center DC on Zoom\, Washington\, DC\, 20007
CATEGORIES:Study
ATTACH;FMTTYPE=image/jpeg:https://www.unitycenterdc.org/wp-content/uploads/2016/01/ACIM.jpg
GEO:38.9228637;-77.0720087
END:VEVENT
BEGIN:VEVENT
DTSTART;TZID=America/New_York:20160207T113000
DTEND;TZID=America/New_York:20160207T123000
DTSTAMP:20260423T145457
CREATED:20160106T181201Z
LAST-MODIFIED:20160106T181508Z
UID:10000015-1454844600-1454848200@www.unitycenterdc.org
SUMMARY:A Course in Miracles Reading Group
DESCRIPTION:Each Sunday our A Course in Miracles reading group meets for approximately an hour after the 10:00 am service at 11:30am-12:30pm in the narthex. Anyone may attend the group\, you need no prior experience. If you have a book\, bring it and if not you are welcome to use one of ours. We offer an informal gathering place for reading and discussion.
URL:https://www.unitycenterdc.org/calendar/a-course-in-miracles-reading-group/2016-02-07/
LOCATION:Unity Center DC on Zoom\, Washington\, DC\, 20007
CATEGORIES:Study
ATTACH;FMTTYPE=image/jpeg:https://www.unitycenterdc.org/wp-content/uploads/2016/01/ACIM.jpg
GEO:38.9228637;-77.0720087
END:VEVENT
BEGIN:VEVENT
DTSTART;TZID=America/New_York:20160214T113000
DTEND;TZID=America/New_York:20160214T123000
DTSTAMP:20260423T145457
CREATED:20160106T181201Z
LAST-MODIFIED:20160106T181508Z
UID:10000016-1455449400-1455453000@www.unitycenterdc.org
SUMMARY:A Course in Miracles Reading Group
DESCRIPTION:Each Sunday our A Course in Miracles reading group meets for approximately an hour after the 10:00 am service at 11:30am-12:30pm in the narthex. Anyone may attend the group\, you need no prior experience. If you have a book\, bring it and if not you are welcome to use one of ours. We offer an informal gathering place for reading and discussion.
URL:https://www.unitycenterdc.org/calendar/a-course-in-miracles-reading-group/2016-02-14/
LOCATION:Unity Center DC on Zoom\, Washington\, DC\, 20007
CATEGORIES:Study
ATTACH;FMTTYPE=image/jpeg:https://www.unitycenterdc.org/wp-content/uploads/2016/01/ACIM.jpg
GEO:38.9228637;-77.0720087
END:VEVENT
BEGIN:VEVENT
DTSTART;TZID=America/New_York:20160221T113000
DTEND;TZID=America/New_York:20160221T123000
DTSTAMP:20260423T145457
CREATED:20160106T181201Z
LAST-MODIFIED:20160106T181508Z
UID:10000017-1456054200-1456057800@www.unitycenterdc.org
SUMMARY:A Course in Miracles Reading Group
DESCRIPTION:Each Sunday our A Course in Miracles reading group meets for approximately an hour after the 10:00 am service at 11:30am-12:30pm in the narthex. Anyone may attend the group\, you need no prior experience. If you have a book\, bring it and if not you are welcome to use one of ours. We offer an informal gathering place for reading and discussion.
URL:https://www.unitycenterdc.org/calendar/a-course-in-miracles-reading-group/2016-02-21/
LOCATION:Unity Center DC on Zoom\, Washington\, DC\, 20007
CATEGORIES:Study
ATTACH;FMTTYPE=image/jpeg:https://www.unitycenterdc.org/wp-content/uploads/2016/01/ACIM.jpg
GEO:38.9228637;-77.0720087
END:VEVENT
BEGIN:VEVENT
DTSTART;TZID=America/New_York:20160228T113000
DTEND;TZID=America/New_York:20160228T123000
DTSTAMP:20260423T145457
CREATED:20160106T181201Z
LAST-MODIFIED:20160106T181508Z
UID:10000018-1456659000-1456662600@www.unitycenterdc.org
SUMMARY:A Course in Miracles Reading Group
DESCRIPTION:Each Sunday our A Course in Miracles reading group meets for approximately an hour after the 10:00 am service at 11:30am-12:30pm in the narthex. Anyone may attend the group\, you need no prior experience. If you have a book\, bring it and if not you are welcome to use one of ours. We offer an informal gathering place for reading and discussion.
URL:https://www.unitycenterdc.org/calendar/a-course-in-miracles-reading-group/2016-02-28/
LOCATION:Unity Center DC on Zoom\, Washington\, DC\, 20007
CATEGORIES:Study
ATTACH;FMTTYPE=image/jpeg:https://www.unitycenterdc.org/wp-content/uploads/2016/01/ACIM.jpg
GEO:38.9228637;-77.0720087
END:VEVENT
BEGIN:VEVENT
DTSTART;TZID=America/New_York:20160306T113000
DTEND;TZID=America/New_York:20160306T123000
DTSTAMP:20260423T145457
CREATED:20160106T181201Z
LAST-MODIFIED:20160106T181508Z
UID:10000019-1457263800-1457267400@www.unitycenterdc.org
SUMMARY:A Course in Miracles Reading Group
DESCRIPTION:Each Sunday our A Course in Miracles reading group meets for approximately an hour after the 10:00 am service at 11:30am-12:30pm in the narthex. Anyone may attend the group\, you need no prior experience. If you have a book\, bring it and if not you are welcome to use one of ours. We offer an informal gathering place for reading and discussion.
URL:https://www.unitycenterdc.org/calendar/a-course-in-miracles-reading-group/2016-03-06/
LOCATION:Unity Center DC on Zoom\, Washington\, DC\, 20007
CATEGORIES:Study
ATTACH;FMTTYPE=image/jpeg:https://www.unitycenterdc.org/wp-content/uploads/2016/01/ACIM.jpg
GEO:38.9228637;-77.0720087
END:VEVENT
BEGIN:VEVENT
DTSTART;TZID=America/New_York:20160313T113000
DTEND;TZID=America/New_York:20160313T123000
DTSTAMP:20260423T145457
CREATED:20160106T181201Z
LAST-MODIFIED:20160106T181508Z
UID:10000020-1457868600-1457872200@www.unitycenterdc.org
SUMMARY:A Course in Miracles Reading Group
DESCRIPTION:Each Sunday our A Course in Miracles reading group meets for approximately an hour after the 10:00 am service at 11:30am-12:30pm in the narthex. Anyone may attend the group\, you need no prior experience. If you have a book\, bring it and if not you are welcome to use one of ours. We offer an informal gathering place for reading and discussion.
URL:https://www.unitycenterdc.org/calendar/a-course-in-miracles-reading-group/2016-03-13/
LOCATION:Unity Center DC on Zoom\, Washington\, DC\, 20007
CATEGORIES:Study
ATTACH;FMTTYPE=image/jpeg:https://www.unitycenterdc.org/wp-content/uploads/2016/01/ACIM.jpg
GEO:38.9228637;-77.0720087
END:VEVENT
BEGIN:VEVENT
DTSTART;TZID=America/New_York:20160320T113000
DTEND;TZID=America/New_York:20160320T123000
DTSTAMP:20260423T145457
CREATED:20160106T181201Z
LAST-MODIFIED:20160106T181508Z
UID:10000021-1458473400-1458477000@www.unitycenterdc.org
SUMMARY:A Course in Miracles Reading Group
DESCRIPTION:Each Sunday our A Course in Miracles reading group meets for approximately an hour after the 10:00 am service at 11:30am-12:30pm in the narthex. Anyone may attend the group\, you need no prior experience. If you have a book\, bring it and if not you are welcome to use one of ours. We offer an informal gathering place for reading and discussion.
URL:https://www.unitycenterdc.org/calendar/a-course-in-miracles-reading-group/2016-03-20/
LOCATION:Unity Center DC on Zoom\, Washington\, DC\, 20007
CATEGORIES:Study
ATTACH;FMTTYPE=image/jpeg:https://www.unitycenterdc.org/wp-content/uploads/2016/01/ACIM.jpg
GEO:38.9228637;-77.0720087
END:VEVENT
BEGIN:VEVENT
DTSTART;TZID=America/New_York:20160327T113000
DTEND;TZID=America/New_York:20160327T123000
DTSTAMP:20260423T145457
CREATED:20160106T181201Z
LAST-MODIFIED:20160106T181508Z
UID:10000022-1459078200-1459081800@www.unitycenterdc.org
SUMMARY:A Course in Miracles Reading Group
DESCRIPTION:Each Sunday our A Course in Miracles reading group meets for approximately an hour after the 10:00 am service at 11:30am-12:30pm in the narthex. Anyone may attend the group\, you need no prior experience. If you have a book\, bring it and if not you are welcome to use one of ours. We offer an informal gathering place for reading and discussion.
URL:https://www.unitycenterdc.org/calendar/a-course-in-miracles-reading-group/2016-03-27/
LOCATION:Unity Center DC on Zoom\, Washington\, DC\, 20007
CATEGORIES:Study
ATTACH;FMTTYPE=image/jpeg:https://www.unitycenterdc.org/wp-content/uploads/2016/01/ACIM.jpg
GEO:38.9228637;-77.0720087
END:VEVENT
BEGIN:VEVENT
DTSTART;TZID=America/New_York:20160403T113000
DTEND;TZID=America/New_York:20160403T123000
DTSTAMP:20260423T145457
CREATED:20160106T181201Z
LAST-MODIFIED:20160106T181508Z
UID:10000023-1459683000-1459686600@www.unitycenterdc.org
SUMMARY:A Course in Miracles Reading Group
DESCRIPTION:Each Sunday our A Course in Miracles reading group meets for approximately an hour after the 10:00 am service at 11:30am-12:30pm in the narthex. Anyone may attend the group\, you need no prior experience. If you have a book\, bring it and if not you are welcome to use one of ours. We offer an informal gathering place for reading and discussion.
URL:https://www.unitycenterdc.org/calendar/a-course-in-miracles-reading-group/2016-04-03/
LOCATION:Unity Center DC on Zoom\, Washington\, DC\, 20007
CATEGORIES:Study
ATTACH;FMTTYPE=image/jpeg:https://www.unitycenterdc.org/wp-content/uploads/2016/01/ACIM.jpg
GEO:38.9228637;-77.0720087
END:VEVENT
BEGIN:VEVENT
DTSTART;TZID=America/New_York:20160410T113000
DTEND;TZID=America/New_York:20160410T123000
DTSTAMP:20260423T145457
CREATED:20160106T181201Z
LAST-MODIFIED:20160106T181508Z
UID:10000024-1460287800-1460291400@www.unitycenterdc.org
SUMMARY:A Course in Miracles Reading Group
DESCRIPTION:Each Sunday our A Course in Miracles reading group meets for approximately an hour after the 10:00 am service at 11:30am-12:30pm in the narthex. Anyone may attend the group\, you need no prior experience. If you have a book\, bring it and if not you are welcome to use one of ours. We offer an informal gathering place for reading and discussion.
URL:https://www.unitycenterdc.org/calendar/a-course-in-miracles-reading-group/2016-04-10/
LOCATION:Unity Center DC on Zoom\, Washington\, DC\, 20007
CATEGORIES:Study
ATTACH;FMTTYPE=image/jpeg:https://www.unitycenterdc.org/wp-content/uploads/2016/01/ACIM.jpg
GEO:38.9228637;-77.0720087
END:VEVENT
BEGIN:VEVENT
DTSTART;TZID=America/New_York:20160417T113000
DTEND;TZID=America/New_York:20160417T123000
DTSTAMP:20260423T145457
CREATED:20160106T181201Z
LAST-MODIFIED:20160106T181508Z
UID:10000025-1460892600-1460896200@www.unitycenterdc.org
SUMMARY:A Course in Miracles Reading Group
DESCRIPTION:Each Sunday our A Course in Miracles reading group meets for approximately an hour after the 10:00 am service at 11:30am-12:30pm in the narthex. Anyone may attend the group\, you need no prior experience. If you have a book\, bring it and if not you are welcome to use one of ours. We offer an informal gathering place for reading and discussion.
URL:https://www.unitycenterdc.org/calendar/a-course-in-miracles-reading-group/2016-04-17/
LOCATION:Unity Center DC on Zoom\, Washington\, DC\, 20007
CATEGORIES:Study
ATTACH;FMTTYPE=image/jpeg:https://www.unitycenterdc.org/wp-content/uploads/2016/01/ACIM.jpg
GEO:38.9228637;-77.0720087
END:VEVENT
BEGIN:VEVENT
DTSTART;TZID=America/New_York:20160424T113000
DTEND;TZID=America/New_York:20160424T123000
DTSTAMP:20260423T145457
CREATED:20160106T181201Z
LAST-MODIFIED:20160106T181508Z
UID:10000026-1461497400-1461501000@www.unitycenterdc.org
SUMMARY:A Course in Miracles Reading Group
DESCRIPTION:Each Sunday our A Course in Miracles reading group meets for approximately an hour after the 10:00 am service at 11:30am-12:30pm in the narthex. Anyone may attend the group\, you need no prior experience. If you have a book\, bring it and if not you are welcome to use one of ours. We offer an informal gathering place for reading and discussion.
URL:https://www.unitycenterdc.org/calendar/a-course-in-miracles-reading-group/2016-04-24/
LOCATION:Unity Center DC on Zoom\, Washington\, DC\, 20007
CATEGORIES:Study
ATTACH;FMTTYPE=image/jpeg:https://www.unitycenterdc.org/wp-content/uploads/2016/01/ACIM.jpg
GEO:38.9228637;-77.0720087
END:VEVENT
BEGIN:VEVENT
DTSTART;TZID=America/New_York:20160501T113000
DTEND;TZID=America/New_York:20160501T123000
DTSTAMP:20260423T145457
CREATED:20160106T181201Z
LAST-MODIFIED:20160106T181508Z
UID:10000027-1462102200-1462105800@www.unitycenterdc.org
SUMMARY:A Course in Miracles Reading Group
DESCRIPTION:Each Sunday our A Course in Miracles reading group meets for approximately an hour after the 10:00 am service at 11:30am-12:30pm in the narthex. Anyone may attend the group\, you need no prior experience. If you have a book\, bring it and if not you are welcome to use one of ours. We offer an informal gathering place for reading and discussion.
URL:https://www.unitycenterdc.org/calendar/a-course-in-miracles-reading-group/2016-05-01/
LOCATION:Unity Center DC on Zoom\, Washington\, DC\, 20007
CATEGORIES:Study
ATTACH;FMTTYPE=image/jpeg:https://www.unitycenterdc.org/wp-content/uploads/2016/01/ACIM.jpg
GEO:38.9228637;-77.0720087
END:VEVENT
BEGIN:VEVENT
DTSTART;TZID=America/New_York:20160508T113000
DTEND;TZID=America/New_York:20160508T123000
DTSTAMP:20260423T145457
CREATED:20160106T181201Z
LAST-MODIFIED:20160106T181508Z
UID:10000028-1462707000-1462710600@www.unitycenterdc.org
SUMMARY:A Course in Miracles Reading Group
DESCRIPTION:Each Sunday our A Course in Miracles reading group meets for approximately an hour after the 10:00 am service at 11:30am-12:30pm in the narthex. Anyone may attend the group\, you need no prior experience. If you have a book\, bring it and if not you are welcome to use one of ours. We offer an informal gathering place for reading and discussion.
URL:https://www.unitycenterdc.org/calendar/a-course-in-miracles-reading-group/2016-05-08/
LOCATION:Unity Center DC on Zoom\, Washington\, DC\, 20007
CATEGORIES:Study
ATTACH;FMTTYPE=image/jpeg:https://www.unitycenterdc.org/wp-content/uploads/2016/01/ACIM.jpg
GEO:38.9228637;-77.0720087
END:VEVENT
BEGIN:VEVENT
DTSTART;TZID=America/New_York:20160515T113000
DTEND;TZID=America/New_York:20160515T123000
DTSTAMP:20260423T145457
CREATED:20160106T181201Z
LAST-MODIFIED:20160106T181508Z
UID:10000029-1463311800-1463315400@www.unitycenterdc.org
SUMMARY:A Course in Miracles Reading Group
DESCRIPTION:Each Sunday our A Course in Miracles reading group meets for approximately an hour after the 10:00 am service at 11:30am-12:30pm in the narthex. Anyone may attend the group\, you need no prior experience. If you have a book\, bring it and if not you are welcome to use one of ours. We offer an informal gathering place for reading and discussion.
URL:https://www.unitycenterdc.org/calendar/a-course-in-miracles-reading-group/2016-05-15/
LOCATION:Unity Center DC on Zoom\, Washington\, DC\, 20007
CATEGORIES:Study
ATTACH;FMTTYPE=image/jpeg:https://www.unitycenterdc.org/wp-content/uploads/2016/01/ACIM.jpg
GEO:38.9228637;-77.0720087
END:VEVENT
BEGIN:VEVENT
DTSTART;TZID=America/New_York:20160522T113000
DTEND;TZID=America/New_York:20160522T123000
DTSTAMP:20260423T145457
CREATED:20160106T181201Z
LAST-MODIFIED:20160106T181508Z
UID:10000030-1463916600-1463920200@www.unitycenterdc.org
SUMMARY:A Course in Miracles Reading Group
DESCRIPTION:Each Sunday our A Course in Miracles reading group meets for approximately an hour after the 10:00 am service at 11:30am-12:30pm in the narthex. Anyone may attend the group\, you need no prior experience. If you have a book\, bring it and if not you are welcome to use one of ours. We offer an informal gathering place for reading and discussion.
URL:https://www.unitycenterdc.org/calendar/a-course-in-miracles-reading-group/2016-05-22/
LOCATION:Unity Center DC on Zoom\, Washington\, DC\, 20007
CATEGORIES:Study
ATTACH;FMTTYPE=image/jpeg:https://www.unitycenterdc.org/wp-content/uploads/2016/01/ACIM.jpg
GEO:38.9228637;-77.0720087
END:VEVENT
BEGIN:VEVENT
DTSTART;TZID=America/New_York:20160529T113000
DTEND;TZID=America/New_York:20160529T123000
DTSTAMP:20260423T145457
CREATED:20160106T181201Z
LAST-MODIFIED:20160106T181508Z
UID:10000031-1464521400-1464525000@www.unitycenterdc.org
SUMMARY:A Course in Miracles Reading Group
DESCRIPTION:Each Sunday our A Course in Miracles reading group meets for approximately an hour after the 10:00 am service at 11:30am-12:30pm in the narthex. Anyone may attend the group\, you need no prior experience. If you have a book\, bring it and if not you are welcome to use one of ours. We offer an informal gathering place for reading and discussion.
URL:https://www.unitycenterdc.org/calendar/a-course-in-miracles-reading-group/2016-05-29/
LOCATION:Unity Center DC on Zoom\, Washington\, DC\, 20007
CATEGORIES:Study
ATTACH;FMTTYPE=image/jpeg:https://www.unitycenterdc.org/wp-content/uploads/2016/01/ACIM.jpg
GEO:38.9228637;-77.0720087
END:VEVENT
BEGIN:VEVENT
DTSTART;TZID=America/New_York:20160605T113000
DTEND;TZID=America/New_York:20160605T123000
DTSTAMP:20260423T145457
CREATED:20160106T181201Z
LAST-MODIFIED:20160106T181508Z
UID:10000032-1465126200-1465129800@www.unitycenterdc.org
SUMMARY:A Course in Miracles Reading Group
DESCRIPTION:Each Sunday our A Course in Miracles reading group meets for approximately an hour after the 10:00 am service at 11:30am-12:30pm in the narthex. Anyone may attend the group\, you need no prior experience. If you have a book\, bring it and if not you are welcome to use one of ours. We offer an informal gathering place for reading and discussion.
URL:https://www.unitycenterdc.org/calendar/a-course-in-miracles-reading-group/2016-06-05/
LOCATION:Unity Center DC on Zoom\, Washington\, DC\, 20007
CATEGORIES:Study
ATTACH;FMTTYPE=image/jpeg:https://www.unitycenterdc.org/wp-content/uploads/2016/01/ACIM.jpg
GEO:38.9228637;-77.0720087
END:VEVENT
BEGIN:VEVENT
DTSTART;TZID=America/New_York:20160612T113000
DTEND;TZID=America/New_York:20160612T123000
DTSTAMP:20260423T145457
CREATED:20160106T181201Z
LAST-MODIFIED:20160106T181508Z
UID:10000033-1465731000-1465734600@www.unitycenterdc.org
SUMMARY:A Course in Miracles Reading Group
DESCRIPTION:Each Sunday our A Course in Miracles reading group meets for approximately an hour after the 10:00 am service at 11:30am-12:30pm in the narthex. Anyone may attend the group\, you need no prior experience. If you have a book\, bring it and if not you are welcome to use one of ours. We offer an informal gathering place for reading and discussion.
URL:https://www.unitycenterdc.org/calendar/a-course-in-miracles-reading-group/2016-06-12/
LOCATION:Unity Center DC on Zoom\, Washington\, DC\, 20007
CATEGORIES:Study
ATTACH;FMTTYPE=image/jpeg:https://www.unitycenterdc.org/wp-content/uploads/2016/01/ACIM.jpg
GEO:38.9228637;-77.0720087
END:VEVENT
BEGIN:VEVENT
DTSTART;TZID=America/New_York:20160619T113000
DTEND;TZID=America/New_York:20160619T123000
DTSTAMP:20260423T145457
CREATED:20160106T181201Z
LAST-MODIFIED:20160106T181508Z
UID:10000034-1466335800-1466339400@www.unitycenterdc.org
SUMMARY:A Course in Miracles Reading Group
DESCRIPTION:Each Sunday our A Course in Miracles reading group meets for approximately an hour after the 10:00 am service at 11:30am-12:30pm in the narthex. Anyone may attend the group\, you need no prior experience. If you have a book\, bring it and if not you are welcome to use one of ours. We offer an informal gathering place for reading and discussion.
URL:https://www.unitycenterdc.org/calendar/a-course-in-miracles-reading-group/2016-06-19/
LOCATION:Unity Center DC on Zoom\, Washington\, DC\, 20007
CATEGORIES:Study
ATTACH;FMTTYPE=image/jpeg:https://www.unitycenterdc.org/wp-content/uploads/2016/01/ACIM.jpg
GEO:38.9228637;-77.0720087
END:VEVENT
BEGIN:VEVENT
DTSTART;TZID=America/New_York:20160626T113000
DTEND;TZID=America/New_York:20160626T123000
DTSTAMP:20260423T145457
CREATED:20160106T181201Z
LAST-MODIFIED:20160106T181508Z
UID:10000035-1466940600-1466944200@www.unitycenterdc.org
SUMMARY:A Course in Miracles Reading Group
DESCRIPTION:Each Sunday our A Course in Miracles reading group meets for approximately an hour after the 10:00 am service at 11:30am-12:30pm in the narthex. Anyone may attend the group\, you need no prior experience. If you have a book\, bring it and if not you are welcome to use one of ours. We offer an informal gathering place for reading and discussion.
URL:https://www.unitycenterdc.org/calendar/a-course-in-miracles-reading-group/2016-06-26/
LOCATION:Unity Center DC on Zoom\, Washington\, DC\, 20007
CATEGORIES:Study
ATTACH;FMTTYPE=image/jpeg:https://www.unitycenterdc.org/wp-content/uploads/2016/01/ACIM.jpg
GEO:38.9228637;-77.0720087
END:VEVENT
BEGIN:VEVENT
DTSTART;TZID=America/New_York:20160703T113000
DTEND;TZID=America/New_York:20160703T123000
DTSTAMP:20260423T145457
CREATED:20160106T181201Z
LAST-MODIFIED:20160106T181508Z
UID:10000036-1467545400-1467549000@www.unitycenterdc.org
SUMMARY:A Course in Miracles Reading Group
DESCRIPTION:Each Sunday our A Course in Miracles reading group meets for approximately an hour after the 10:00 am service at 11:30am-12:30pm in the narthex. Anyone may attend the group\, you need no prior experience. If you have a book\, bring it and if not you are welcome to use one of ours. We offer an informal gathering place for reading and discussion.
URL:https://www.unitycenterdc.org/calendar/a-course-in-miracles-reading-group/2016-07-03/
LOCATION:Unity Center DC on Zoom\, Washington\, DC\, 20007
CATEGORIES:Study
ATTACH;FMTTYPE=image/jpeg:https://www.unitycenterdc.org/wp-content/uploads/2016/01/ACIM.jpg
GEO:38.9228637;-77.0720087
END:VEVENT
BEGIN:VEVENT
DTSTART;TZID=America/New_York:20160710T113000
DTEND;TZID=America/New_York:20160710T123000
DTSTAMP:20260423T145457
CREATED:20160106T181201Z
LAST-MODIFIED:20160106T181508Z
UID:10000037-1468150200-1468153800@www.unitycenterdc.org
SUMMARY:A Course in Miracles Reading Group
DESCRIPTION:Each Sunday our A Course in Miracles reading group meets for approximately an hour after the 10:00 am service at 11:30am-12:30pm in the narthex. Anyone may attend the group\, you need no prior experience. If you have a book\, bring it and if not you are welcome to use one of ours. We offer an informal gathering place for reading and discussion.
URL:https://www.unitycenterdc.org/calendar/a-course-in-miracles-reading-group/2016-07-10/
LOCATION:Unity Center DC on Zoom\, Washington\, DC\, 20007
CATEGORIES:Study
ATTACH;FMTTYPE=image/jpeg:https://www.unitycenterdc.org/wp-content/uploads/2016/01/ACIM.jpg
GEO:38.9228637;-77.0720087
END:VEVENT
BEGIN:VEVENT
DTSTART;TZID=America/New_York:20160710T113000
DTEND;TZID=America/New_York:20160710T123000
DTSTAMP:20260423T145457
CREATED:20160106T181201Z
LAST-MODIFIED:20160707T175523Z
UID:10000181-1468150200-1468153800@www.unitycenterdc.org
SUMMARY:A Course in Miracles Reading Group
DESCRIPTION:CANCELLED — Due to our Town Hall Meeting\, this group will not meet July 10. Regular weekly meetings will resume July 17. \nOur A Course in Miracles reading group meets for approximately an hour after the 10:00 am service at 11:30am-12:30pm in the narthex. Anyone may attend the group\, you need no prior experience. If you have a book\, bring it and if not you are welcome to use one of ours. We offer an informal gathering place for reading and discussion.
URL:https://www.unitycenterdc.org/calendar/a-course-in-miracles-reading-group-2016-07-10/
LOCATION:Unity Center DC on Zoom\, Washington\, DC\, 20007
CATEGORIES:Study
ATTACH;FMTTYPE=image/jpeg:https://www.unitycenterdc.org/wp-content/uploads/2016/01/ACIM.jpg
GEO:38.9228637;-77.0720087
END:VEVENT
BEGIN:VEVENT
DTSTART;TZID=America/New_York:20160717T113000
DTEND;TZID=America/New_York:20160717T123000
DTSTAMP:20260423T145457
CREATED:20160106T181201Z
LAST-MODIFIED:20160106T181508Z
UID:10000038-1468755000-1468758600@www.unitycenterdc.org
SUMMARY:A Course in Miracles Reading Group
DESCRIPTION:Each Sunday our A Course in Miracles reading group meets for approximately an hour after the 10:00 am service at 11:30am-12:30pm in the narthex. Anyone may attend the group\, you need no prior experience. If you have a book\, bring it and if not you are welcome to use one of ours. We offer an informal gathering place for reading and discussion.
URL:https://www.unitycenterdc.org/calendar/a-course-in-miracles-reading-group/2016-07-17/
LOCATION:Unity Center DC on Zoom\, Washington\, DC\, 20007
CATEGORIES:Study
ATTACH;FMTTYPE=image/jpeg:https://www.unitycenterdc.org/wp-content/uploads/2016/01/ACIM.jpg
GEO:38.9228637;-77.0720087
END:VEVENT
END:VCALENDAR