BEGIN:VCALENDAR
VERSION:2.0
PRODID:-//Unity Center DC - ECPv6.15.20//NONSGML v1.0//EN
CALSCALE:GREGORIAN
METHOD:PUBLISH
X-WR-CALNAME:Unity Center DC
X-ORIGINAL-URL:https://www.unitycenterdc.org
X-WR-CALDESC:Events for Unity Center DC
REFRESH-INTERVAL;VALUE=DURATION:PT1H
X-Robots-Tag:noindex
X-PUBLISHED-TTL:PT1H
BEGIN:VTIMEZONE
TZID:America/New_York
BEGIN:DAYLIGHT
TZOFFSETFROM:-0500
TZOFFSETTO:-0400
TZNAME:EDT
DTSTART:20150308T070000
END:DAYLIGHT
BEGIN:STANDARD
TZOFFSETFROM:-0400
TZOFFSETTO:-0500
TZNAME:EST
DTSTART:20151101T060000
END:STANDARD
BEGIN:DAYLIGHT
TZOFFSETFROM:-0500
TZOFFSETTO:-0400
TZNAME:EDT
DTSTART:20160313T070000
END:DAYLIGHT
BEGIN:STANDARD
TZOFFSETFROM:-0400
TZOFFSETTO:-0500
TZNAME:EST
DTSTART:20161106T060000
END:STANDARD
BEGIN:DAYLIGHT
TZOFFSETFROM:-0500
TZOFFSETTO:-0400
TZNAME:EDT
DTSTART:20170312T070000
END:DAYLIGHT
BEGIN:STANDARD
TZOFFSETFROM:-0400
TZOFFSETTO:-0500
TZNAME:EST
DTSTART:20171105T060000
END:STANDARD
END:VTIMEZONE
BEGIN:VEVENT
DTSTART;TZID=America/New_York:20160522T113000
DTEND;TZID=America/New_York:20160522T123000
DTSTAMP:20260423T163220
CREATED:20160106T181201Z
LAST-MODIFIED:20160106T181508Z
UID:10000030-1463916600-1463920200@www.unitycenterdc.org
SUMMARY:A Course in Miracles Reading Group
DESCRIPTION:Each Sunday our A Course in Miracles reading group meets for approximately an hour after the 10:00 am service at 11:30am-12:30pm in the narthex. Anyone may attend the group\, you need no prior experience. If you have a book\, bring it and if not you are welcome to use one of ours. We offer an informal gathering place for reading and discussion.
URL:https://www.unitycenterdc.org/calendar/a-course-in-miracles-reading-group/2016-05-22/
LOCATION:Unity Center DC on Zoom\, Washington\, DC\, 20007
CATEGORIES:Study
ATTACH;FMTTYPE=image/jpeg:https://www.unitycenterdc.org/wp-content/uploads/2016/01/ACIM.jpg
GEO:38.9228637;-77.0720087
END:VEVENT
BEGIN:VEVENT
DTSTART;TZID=America/New_York:20160529T113000
DTEND;TZID=America/New_York:20160529T123000
DTSTAMP:20260423T163220
CREATED:20160106T181201Z
LAST-MODIFIED:20160106T181508Z
UID:10000031-1464521400-1464525000@www.unitycenterdc.org
SUMMARY:A Course in Miracles Reading Group
DESCRIPTION:Each Sunday our A Course in Miracles reading group meets for approximately an hour after the 10:00 am service at 11:30am-12:30pm in the narthex. Anyone may attend the group\, you need no prior experience. If you have a book\, bring it and if not you are welcome to use one of ours. We offer an informal gathering place for reading and discussion.
URL:https://www.unitycenterdc.org/calendar/a-course-in-miracles-reading-group/2016-05-29/
LOCATION:Unity Center DC on Zoom\, Washington\, DC\, 20007
CATEGORIES:Study
ATTACH;FMTTYPE=image/jpeg:https://www.unitycenterdc.org/wp-content/uploads/2016/01/ACIM.jpg
GEO:38.9228637;-77.0720087
END:VEVENT
BEGIN:VEVENT
DTSTART;TZID=America/New_York:20160605T113000
DTEND;TZID=America/New_York:20160605T123000
DTSTAMP:20260423T163221
CREATED:20160106T181201Z
LAST-MODIFIED:20160106T181508Z
UID:10000032-1465126200-1465129800@www.unitycenterdc.org
SUMMARY:A Course in Miracles Reading Group
DESCRIPTION:Each Sunday our A Course in Miracles reading group meets for approximately an hour after the 10:00 am service at 11:30am-12:30pm in the narthex. Anyone may attend the group\, you need no prior experience. If you have a book\, bring it and if not you are welcome to use one of ours. We offer an informal gathering place for reading and discussion.
URL:https://www.unitycenterdc.org/calendar/a-course-in-miracles-reading-group/2016-06-05/
LOCATION:Unity Center DC on Zoom\, Washington\, DC\, 20007
CATEGORIES:Study
ATTACH;FMTTYPE=image/jpeg:https://www.unitycenterdc.org/wp-content/uploads/2016/01/ACIM.jpg
GEO:38.9228637;-77.0720087
END:VEVENT
BEGIN:VEVENT
DTSTART;TZID=America/New_York:20160612T113000
DTEND;TZID=America/New_York:20160612T123000
DTSTAMP:20260423T163221
CREATED:20160106T181201Z
LAST-MODIFIED:20160106T181508Z
UID:10000033-1465731000-1465734600@www.unitycenterdc.org
SUMMARY:A Course in Miracles Reading Group
DESCRIPTION:Each Sunday our A Course in Miracles reading group meets for approximately an hour after the 10:00 am service at 11:30am-12:30pm in the narthex. Anyone may attend the group\, you need no prior experience. If you have a book\, bring it and if not you are welcome to use one of ours. We offer an informal gathering place for reading and discussion.
URL:https://www.unitycenterdc.org/calendar/a-course-in-miracles-reading-group/2016-06-12/
LOCATION:Unity Center DC on Zoom\, Washington\, DC\, 20007
CATEGORIES:Study
ATTACH;FMTTYPE=image/jpeg:https://www.unitycenterdc.org/wp-content/uploads/2016/01/ACIM.jpg
GEO:38.9228637;-77.0720087
END:VEVENT
BEGIN:VEVENT
DTSTART;TZID=America/New_York:20160619T113000
DTEND;TZID=America/New_York:20160619T123000
DTSTAMP:20260423T163221
CREATED:20160106T181201Z
LAST-MODIFIED:20160106T181508Z
UID:10000034-1466335800-1466339400@www.unitycenterdc.org
SUMMARY:A Course in Miracles Reading Group
DESCRIPTION:Each Sunday our A Course in Miracles reading group meets for approximately an hour after the 10:00 am service at 11:30am-12:30pm in the narthex. Anyone may attend the group\, you need no prior experience. If you have a book\, bring it and if not you are welcome to use one of ours. We offer an informal gathering place for reading and discussion.
URL:https://www.unitycenterdc.org/calendar/a-course-in-miracles-reading-group/2016-06-19/
LOCATION:Unity Center DC on Zoom\, Washington\, DC\, 20007
CATEGORIES:Study
ATTACH;FMTTYPE=image/jpeg:https://www.unitycenterdc.org/wp-content/uploads/2016/01/ACIM.jpg
GEO:38.9228637;-77.0720087
END:VEVENT
BEGIN:VEVENT
DTSTART;TZID=America/New_York:20160626T113000
DTEND;TZID=America/New_York:20160626T123000
DTSTAMP:20260423T163221
CREATED:20160106T181201Z
LAST-MODIFIED:20160106T181508Z
UID:10000035-1466940600-1466944200@www.unitycenterdc.org
SUMMARY:A Course in Miracles Reading Group
DESCRIPTION:Each Sunday our A Course in Miracles reading group meets for approximately an hour after the 10:00 am service at 11:30am-12:30pm in the narthex. Anyone may attend the group\, you need no prior experience. If you have a book\, bring it and if not you are welcome to use one of ours. We offer an informal gathering place for reading and discussion.
URL:https://www.unitycenterdc.org/calendar/a-course-in-miracles-reading-group/2016-06-26/
LOCATION:Unity Center DC on Zoom\, Washington\, DC\, 20007
CATEGORIES:Study
ATTACH;FMTTYPE=image/jpeg:https://www.unitycenterdc.org/wp-content/uploads/2016/01/ACIM.jpg
GEO:38.9228637;-77.0720087
END:VEVENT
BEGIN:VEVENT
DTSTART;TZID=America/New_York:20160703T113000
DTEND;TZID=America/New_York:20160703T123000
DTSTAMP:20260423T163221
CREATED:20160106T181201Z
LAST-MODIFIED:20160106T181508Z
UID:10000036-1467545400-1467549000@www.unitycenterdc.org
SUMMARY:A Course in Miracles Reading Group
DESCRIPTION:Each Sunday our A Course in Miracles reading group meets for approximately an hour after the 10:00 am service at 11:30am-12:30pm in the narthex. Anyone may attend the group\, you need no prior experience. If you have a book\, bring it and if not you are welcome to use one of ours. We offer an informal gathering place for reading and discussion.
URL:https://www.unitycenterdc.org/calendar/a-course-in-miracles-reading-group/2016-07-03/
LOCATION:Unity Center DC on Zoom\, Washington\, DC\, 20007
CATEGORIES:Study
ATTACH;FMTTYPE=image/jpeg:https://www.unitycenterdc.org/wp-content/uploads/2016/01/ACIM.jpg
GEO:38.9228637;-77.0720087
END:VEVENT
BEGIN:VEVENT
DTSTART;TZID=America/New_York:20160710T113000
DTEND;TZID=America/New_York:20160710T123000
DTSTAMP:20260423T163221
CREATED:20160106T181201Z
LAST-MODIFIED:20160106T181508Z
UID:10000037-1468150200-1468153800@www.unitycenterdc.org
SUMMARY:A Course in Miracles Reading Group
DESCRIPTION:Each Sunday our A Course in Miracles reading group meets for approximately an hour after the 10:00 am service at 11:30am-12:30pm in the narthex. Anyone may attend the group\, you need no prior experience. If you have a book\, bring it and if not you are welcome to use one of ours. We offer an informal gathering place for reading and discussion.
URL:https://www.unitycenterdc.org/calendar/a-course-in-miracles-reading-group/2016-07-10/
LOCATION:Unity Center DC on Zoom\, Washington\, DC\, 20007
CATEGORIES:Study
ATTACH;FMTTYPE=image/jpeg:https://www.unitycenterdc.org/wp-content/uploads/2016/01/ACIM.jpg
GEO:38.9228637;-77.0720087
END:VEVENT
BEGIN:VEVENT
DTSTART;TZID=America/New_York:20160710T113000
DTEND;TZID=America/New_York:20160710T123000
DTSTAMP:20260423T163221
CREATED:20160106T181201Z
LAST-MODIFIED:20160707T175523Z
UID:10000181-1468150200-1468153800@www.unitycenterdc.org
SUMMARY:A Course in Miracles Reading Group
DESCRIPTION:CANCELLED — Due to our Town Hall Meeting\, this group will not meet July 10. Regular weekly meetings will resume July 17. \nOur A Course in Miracles reading group meets for approximately an hour after the 10:00 am service at 11:30am-12:30pm in the narthex. Anyone may attend the group\, you need no prior experience. If you have a book\, bring it and if not you are welcome to use one of ours. We offer an informal gathering place for reading and discussion.
URL:https://www.unitycenterdc.org/calendar/a-course-in-miracles-reading-group-2016-07-10/
LOCATION:Unity Center DC on Zoom\, Washington\, DC\, 20007
CATEGORIES:Study
ATTACH;FMTTYPE=image/jpeg:https://www.unitycenterdc.org/wp-content/uploads/2016/01/ACIM.jpg
GEO:38.9228637;-77.0720087
END:VEVENT
BEGIN:VEVENT
DTSTART;TZID=America/New_York:20160717T113000
DTEND;TZID=America/New_York:20160717T123000
DTSTAMP:20260423T163221
CREATED:20160106T181201Z
LAST-MODIFIED:20160106T181508Z
UID:10000038-1468755000-1468758600@www.unitycenterdc.org
SUMMARY:A Course in Miracles Reading Group
DESCRIPTION:Each Sunday our A Course in Miracles reading group meets for approximately an hour after the 10:00 am service at 11:30am-12:30pm in the narthex. Anyone may attend the group\, you need no prior experience. If you have a book\, bring it and if not you are welcome to use one of ours. We offer an informal gathering place for reading and discussion.
URL:https://www.unitycenterdc.org/calendar/a-course-in-miracles-reading-group/2016-07-17/
LOCATION:Unity Center DC on Zoom\, Washington\, DC\, 20007
CATEGORIES:Study
ATTACH;FMTTYPE=image/jpeg:https://www.unitycenterdc.org/wp-content/uploads/2016/01/ACIM.jpg
GEO:38.9228637;-77.0720087
END:VEVENT
BEGIN:VEVENT
DTSTART;TZID=America/New_York:20160724T113000
DTEND;TZID=America/New_York:20160724T123000
DTSTAMP:20260423T163221
CREATED:20160106T181201Z
LAST-MODIFIED:20160106T181508Z
UID:10000039-1469359800-1469363400@www.unitycenterdc.org
SUMMARY:A Course in Miracles Reading Group
DESCRIPTION:Each Sunday our A Course in Miracles reading group meets for approximately an hour after the 10:00 am service at 11:30am-12:30pm in the narthex. Anyone may attend the group\, you need no prior experience. If you have a book\, bring it and if not you are welcome to use one of ours. We offer an informal gathering place for reading and discussion.
URL:https://www.unitycenterdc.org/calendar/a-course-in-miracles-reading-group/2016-07-24/
LOCATION:Unity Center DC on Zoom\, Washington\, DC\, 20007
CATEGORIES:Study
ATTACH;FMTTYPE=image/jpeg:https://www.unitycenterdc.org/wp-content/uploads/2016/01/ACIM.jpg
GEO:38.9228637;-77.0720087
END:VEVENT
BEGIN:VEVENT
DTSTART;TZID=America/New_York:20160731T113000
DTEND;TZID=America/New_York:20160731T123000
DTSTAMP:20260423T163221
CREATED:20160106T181201Z
LAST-MODIFIED:20160106T181508Z
UID:10000040-1469964600-1469968200@www.unitycenterdc.org
SUMMARY:A Course in Miracles Reading Group
DESCRIPTION:Each Sunday our A Course in Miracles reading group meets for approximately an hour after the 10:00 am service at 11:30am-12:30pm in the narthex. Anyone may attend the group\, you need no prior experience. If you have a book\, bring it and if not you are welcome to use one of ours. We offer an informal gathering place for reading and discussion.
URL:https://www.unitycenterdc.org/calendar/a-course-in-miracles-reading-group/2016-07-31/
LOCATION:Unity Center DC on Zoom\, Washington\, DC\, 20007
CATEGORIES:Study
ATTACH;FMTTYPE=image/jpeg:https://www.unitycenterdc.org/wp-content/uploads/2016/01/ACIM.jpg
GEO:38.9228637;-77.0720087
END:VEVENT
BEGIN:VEVENT
DTSTART;TZID=America/New_York:20160807T113000
DTEND;TZID=America/New_York:20160807T123000
DTSTAMP:20260423T163221
CREATED:20160106T181201Z
LAST-MODIFIED:20160106T181508Z
UID:10000041-1470569400-1470573000@www.unitycenterdc.org
SUMMARY:A Course in Miracles Reading Group
DESCRIPTION:Each Sunday our A Course in Miracles reading group meets for approximately an hour after the 10:00 am service at 11:30am-12:30pm in the narthex. Anyone may attend the group\, you need no prior experience. If you have a book\, bring it and if not you are welcome to use one of ours. We offer an informal gathering place for reading and discussion.
URL:https://www.unitycenterdc.org/calendar/a-course-in-miracles-reading-group/2016-08-07/
LOCATION:Unity Center DC on Zoom\, Washington\, DC\, 20007
CATEGORIES:Study
ATTACH;FMTTYPE=image/jpeg:https://www.unitycenterdc.org/wp-content/uploads/2016/01/ACIM.jpg
GEO:38.9228637;-77.0720087
END:VEVENT
BEGIN:VEVENT
DTSTART;TZID=America/New_York:20160814T113000
DTEND;TZID=America/New_York:20160814T123000
DTSTAMP:20260423T163221
CREATED:20160106T181201Z
LAST-MODIFIED:20160106T181508Z
UID:10000042-1471174200-1471177800@www.unitycenterdc.org
SUMMARY:A Course in Miracles Reading Group
DESCRIPTION:Each Sunday our A Course in Miracles reading group meets for approximately an hour after the 10:00 am service at 11:30am-12:30pm in the narthex. Anyone may attend the group\, you need no prior experience. If you have a book\, bring it and if not you are welcome to use one of ours. We offer an informal gathering place for reading and discussion.
URL:https://www.unitycenterdc.org/calendar/a-course-in-miracles-reading-group/2016-08-14/
LOCATION:Unity Center DC on Zoom\, Washington\, DC\, 20007
CATEGORIES:Study
ATTACH;FMTTYPE=image/jpeg:https://www.unitycenterdc.org/wp-content/uploads/2016/01/ACIM.jpg
GEO:38.9228637;-77.0720087
END:VEVENT
BEGIN:VEVENT
DTSTART;TZID=America/New_York:20160821T113000
DTEND;TZID=America/New_York:20160821T123000
DTSTAMP:20260423T163221
CREATED:20160106T181201Z
LAST-MODIFIED:20160106T181508Z
UID:10000043-1471779000-1471782600@www.unitycenterdc.org
SUMMARY:A Course in Miracles Reading Group
DESCRIPTION:Each Sunday our A Course in Miracles reading group meets for approximately an hour after the 10:00 am service at 11:30am-12:30pm in the narthex. Anyone may attend the group\, you need no prior experience. If you have a book\, bring it and if not you are welcome to use one of ours. We offer an informal gathering place for reading and discussion.
URL:https://www.unitycenterdc.org/calendar/a-course-in-miracles-reading-group/2016-08-21/
LOCATION:Unity Center DC on Zoom\, Washington\, DC\, 20007
CATEGORIES:Study
ATTACH;FMTTYPE=image/jpeg:https://www.unitycenterdc.org/wp-content/uploads/2016/01/ACIM.jpg
GEO:38.9228637;-77.0720087
END:VEVENT
BEGIN:VEVENT
DTSTART;TZID=America/New_York:20160828T113000
DTEND;TZID=America/New_York:20160828T123000
DTSTAMP:20260423T163221
CREATED:20160106T181201Z
LAST-MODIFIED:20160106T181508Z
UID:10000044-1472383800-1472387400@www.unitycenterdc.org
SUMMARY:A Course in Miracles Reading Group
DESCRIPTION:Each Sunday our A Course in Miracles reading group meets for approximately an hour after the 10:00 am service at 11:30am-12:30pm in the narthex. Anyone may attend the group\, you need no prior experience. If you have a book\, bring it and if not you are welcome to use one of ours. We offer an informal gathering place for reading and discussion.
URL:https://www.unitycenterdc.org/calendar/a-course-in-miracles-reading-group/2016-08-28/
LOCATION:Unity Center DC on Zoom\, Washington\, DC\, 20007
CATEGORIES:Study
ATTACH;FMTTYPE=image/jpeg:https://www.unitycenterdc.org/wp-content/uploads/2016/01/ACIM.jpg
GEO:38.9228637;-77.0720087
END:VEVENT
BEGIN:VEVENT
DTSTART;TZID=America/New_York:20160904T113000
DTEND;TZID=America/New_York:20160904T123000
DTSTAMP:20260423T163221
CREATED:20160106T181201Z
LAST-MODIFIED:20160106T181508Z
UID:10000045-1472988600-1472992200@www.unitycenterdc.org
SUMMARY:A Course in Miracles Reading Group
DESCRIPTION:Each Sunday our A Course in Miracles reading group meets for approximately an hour after the 10:00 am service at 11:30am-12:30pm in the narthex. Anyone may attend the group\, you need no prior experience. If you have a book\, bring it and if not you are welcome to use one of ours. We offer an informal gathering place for reading and discussion.
URL:https://www.unitycenterdc.org/calendar/a-course-in-miracles-reading-group/2016-09-04/
LOCATION:Unity Center DC on Zoom\, Washington\, DC\, 20007
CATEGORIES:Study
ATTACH;FMTTYPE=image/jpeg:https://www.unitycenterdc.org/wp-content/uploads/2016/01/ACIM.jpg
GEO:38.9228637;-77.0720087
END:VEVENT
BEGIN:VEVENT
DTSTART;TZID=America/New_York:20160911T113000
DTEND;TZID=America/New_York:20160911T123000
DTSTAMP:20260423T163221
CREATED:20160106T181201Z
LAST-MODIFIED:20160106T181508Z
UID:10000046-1473593400-1473597000@www.unitycenterdc.org
SUMMARY:A Course in Miracles Reading Group
DESCRIPTION:Each Sunday our A Course in Miracles reading group meets for approximately an hour after the 10:00 am service at 11:30am-12:30pm in the narthex. Anyone may attend the group\, you need no prior experience. If you have a book\, bring it and if not you are welcome to use one of ours. We offer an informal gathering place for reading and discussion.
URL:https://www.unitycenterdc.org/calendar/a-course-in-miracles-reading-group/2016-09-11/
LOCATION:Unity Center DC on Zoom\, Washington\, DC\, 20007
CATEGORIES:Study
ATTACH;FMTTYPE=image/jpeg:https://www.unitycenterdc.org/wp-content/uploads/2016/01/ACIM.jpg
GEO:38.9228637;-77.0720087
END:VEVENT
BEGIN:VEVENT
DTSTART;TZID=America/New_York:20160918T113000
DTEND;TZID=America/New_York:20160918T123000
DTSTAMP:20260423T163221
CREATED:20160106T181201Z
LAST-MODIFIED:20160106T181508Z
UID:10000047-1474198200-1474201800@www.unitycenterdc.org
SUMMARY:A Course in Miracles Reading Group
DESCRIPTION:Each Sunday our A Course in Miracles reading group meets for approximately an hour after the 10:00 am service at 11:30am-12:30pm in the narthex. Anyone may attend the group\, you need no prior experience. If you have a book\, bring it and if not you are welcome to use one of ours. We offer an informal gathering place for reading and discussion.
URL:https://www.unitycenterdc.org/calendar/a-course-in-miracles-reading-group/2016-09-18/
LOCATION:Unity Center DC on Zoom\, Washington\, DC\, 20007
CATEGORIES:Study
ATTACH;FMTTYPE=image/jpeg:https://www.unitycenterdc.org/wp-content/uploads/2016/01/ACIM.jpg
GEO:38.9228637;-77.0720087
END:VEVENT
BEGIN:VEVENT
DTSTART;TZID=America/New_York:20160925T113000
DTEND;TZID=America/New_York:20160925T123000
DTSTAMP:20260423T163221
CREATED:20160106T181201Z
LAST-MODIFIED:20160106T181508Z
UID:10000048-1474803000-1474806600@www.unitycenterdc.org
SUMMARY:A Course in Miracles Reading Group
DESCRIPTION:Each Sunday our A Course in Miracles reading group meets for approximately an hour after the 10:00 am service at 11:30am-12:30pm in the narthex. Anyone may attend the group\, you need no prior experience. If you have a book\, bring it and if not you are welcome to use one of ours. We offer an informal gathering place for reading and discussion.
URL:https://www.unitycenterdc.org/calendar/a-course-in-miracles-reading-group/2016-09-25/
LOCATION:Unity Center DC on Zoom\, Washington\, DC\, 20007
CATEGORIES:Study
ATTACH;FMTTYPE=image/jpeg:https://www.unitycenterdc.org/wp-content/uploads/2016/01/ACIM.jpg
GEO:38.9228637;-77.0720087
END:VEVENT
BEGIN:VEVENT
DTSTART;TZID=America/New_York:20161002T113000
DTEND;TZID=America/New_York:20161002T123000
DTSTAMP:20260423T163221
CREATED:20160106T181201Z
LAST-MODIFIED:20160106T181508Z
UID:10000049-1475407800-1475411400@www.unitycenterdc.org
SUMMARY:A Course in Miracles Reading Group
DESCRIPTION:Each Sunday our A Course in Miracles reading group meets for approximately an hour after the 10:00 am service at 11:30am-12:30pm in the narthex. Anyone may attend the group\, you need no prior experience. If you have a book\, bring it and if not you are welcome to use one of ours. We offer an informal gathering place for reading and discussion.
URL:https://www.unitycenterdc.org/calendar/a-course-in-miracles-reading-group/2016-10-02/
LOCATION:Unity Center DC on Zoom\, Washington\, DC\, 20007
CATEGORIES:Study
ATTACH;FMTTYPE=image/jpeg:https://www.unitycenterdc.org/wp-content/uploads/2016/01/ACIM.jpg
GEO:38.9228637;-77.0720087
END:VEVENT
BEGIN:VEVENT
DTSTART;TZID=America/New_York:20161009T113000
DTEND;TZID=America/New_York:20161009T123000
DTSTAMP:20260423T163221
CREATED:20160106T181201Z
LAST-MODIFIED:20160106T181508Z
UID:10000050-1476012600-1476016200@www.unitycenterdc.org
SUMMARY:A Course in Miracles Reading Group
DESCRIPTION:Each Sunday our A Course in Miracles reading group meets for approximately an hour after the 10:00 am service at 11:30am-12:30pm in the narthex. Anyone may attend the group\, you need no prior experience. If you have a book\, bring it and if not you are welcome to use one of ours. We offer an informal gathering place for reading and discussion.
URL:https://www.unitycenterdc.org/calendar/a-course-in-miracles-reading-group/2016-10-09/
LOCATION:Unity Center DC on Zoom\, Washington\, DC\, 20007
CATEGORIES:Study
ATTACH;FMTTYPE=image/jpeg:https://www.unitycenterdc.org/wp-content/uploads/2016/01/ACIM.jpg
GEO:38.9228637;-77.0720087
END:VEVENT
BEGIN:VEVENT
DTSTART;TZID=America/New_York:20161016T113000
DTEND;TZID=America/New_York:20161016T123000
DTSTAMP:20260423T163221
CREATED:20160106T181201Z
LAST-MODIFIED:20160106T181508Z
UID:10000051-1476617400-1476621000@www.unitycenterdc.org
SUMMARY:A Course in Miracles Reading Group
DESCRIPTION:Each Sunday our A Course in Miracles reading group meets for approximately an hour after the 10:00 am service at 11:30am-12:30pm in the narthex. Anyone may attend the group\, you need no prior experience. If you have a book\, bring it and if not you are welcome to use one of ours. We offer an informal gathering place for reading and discussion.
URL:https://www.unitycenterdc.org/calendar/a-course-in-miracles-reading-group/2016-10-16/
LOCATION:Unity Center DC on Zoom\, Washington\, DC\, 20007
CATEGORIES:Study
ATTACH;FMTTYPE=image/jpeg:https://www.unitycenterdc.org/wp-content/uploads/2016/01/ACIM.jpg
GEO:38.9228637;-77.0720087
END:VEVENT
BEGIN:VEVENT
DTSTART;TZID=America/New_York:20161023T113000
DTEND;TZID=America/New_York:20161023T123000
DTSTAMP:20260423T163221
CREATED:20160106T181201Z
LAST-MODIFIED:20160106T181508Z
UID:10000052-1477222200-1477225800@www.unitycenterdc.org
SUMMARY:A Course in Miracles Reading Group
DESCRIPTION:Each Sunday our A Course in Miracles reading group meets for approximately an hour after the 10:00 am service at 11:30am-12:30pm in the narthex. Anyone may attend the group\, you need no prior experience. If you have a book\, bring it and if not you are welcome to use one of ours. We offer an informal gathering place for reading and discussion.
URL:https://www.unitycenterdc.org/calendar/a-course-in-miracles-reading-group/2016-10-23/
LOCATION:Unity Center DC on Zoom\, Washington\, DC\, 20007
CATEGORIES:Study
ATTACH;FMTTYPE=image/jpeg:https://www.unitycenterdc.org/wp-content/uploads/2016/01/ACIM.jpg
GEO:38.9228637;-77.0720087
END:VEVENT
BEGIN:VEVENT
DTSTART;TZID=America/New_York:20161030T113000
DTEND;TZID=America/New_York:20161030T123000
DTSTAMP:20260423T163221
CREATED:20160106T181201Z
LAST-MODIFIED:20160106T181508Z
UID:10000053-1477827000-1477830600@www.unitycenterdc.org
SUMMARY:A Course in Miracles Reading Group
DESCRIPTION:Each Sunday our A Course in Miracles reading group meets for approximately an hour after the 10:00 am service at 11:30am-12:30pm in the narthex. Anyone may attend the group\, you need no prior experience. If you have a book\, bring it and if not you are welcome to use one of ours. We offer an informal gathering place for reading and discussion.
URL:https://www.unitycenterdc.org/calendar/a-course-in-miracles-reading-group/2016-10-30/
LOCATION:Unity Center DC on Zoom\, Washington\, DC\, 20007
CATEGORIES:Study
ATTACH;FMTTYPE=image/jpeg:https://www.unitycenterdc.org/wp-content/uploads/2016/01/ACIM.jpg
GEO:38.9228637;-77.0720087
END:VEVENT
BEGIN:VEVENT
DTSTART;TZID=America/New_York:20161106T113000
DTEND;TZID=America/New_York:20161106T123000
DTSTAMP:20260423T163221
CREATED:20160106T181201Z
LAST-MODIFIED:20160106T181508Z
UID:10000054-1478431800-1478435400@www.unitycenterdc.org
SUMMARY:A Course in Miracles Reading Group
DESCRIPTION:Each Sunday our A Course in Miracles reading group meets for approximately an hour after the 10:00 am service at 11:30am-12:30pm in the narthex. Anyone may attend the group\, you need no prior experience. If you have a book\, bring it and if not you are welcome to use one of ours. We offer an informal gathering place for reading and discussion.
URL:https://www.unitycenterdc.org/calendar/a-course-in-miracles-reading-group/2016-11-06/
LOCATION:Unity Center DC on Zoom\, Washington\, DC\, 20007
CATEGORIES:Study
ATTACH;FMTTYPE=image/jpeg:https://www.unitycenterdc.org/wp-content/uploads/2016/01/ACIM.jpg
GEO:38.9228637;-77.0720087
END:VEVENT
BEGIN:VEVENT
DTSTART;TZID=America/New_York:20161113T113000
DTEND;TZID=America/New_York:20161113T123000
DTSTAMP:20260423T163221
CREATED:20160106T181201Z
LAST-MODIFIED:20160106T181508Z
UID:10000055-1479036600-1479040200@www.unitycenterdc.org
SUMMARY:A Course in Miracles Reading Group
DESCRIPTION:Each Sunday our A Course in Miracles reading group meets for approximately an hour after the 10:00 am service at 11:30am-12:30pm in the narthex. Anyone may attend the group\, you need no prior experience. If you have a book\, bring it and if not you are welcome to use one of ours. We offer an informal gathering place for reading and discussion.
URL:https://www.unitycenterdc.org/calendar/a-course-in-miracles-reading-group/2016-11-13/
LOCATION:Unity Center DC on Zoom\, Washington\, DC\, 20007
CATEGORIES:Study
ATTACH;FMTTYPE=image/jpeg:https://www.unitycenterdc.org/wp-content/uploads/2016/01/ACIM.jpg
GEO:38.9228637;-77.0720087
END:VEVENT
BEGIN:VEVENT
DTSTART;TZID=America/New_York:20161120T113000
DTEND;TZID=America/New_York:20161120T123000
DTSTAMP:20260423T163221
CREATED:20160106T181201Z
LAST-MODIFIED:20160106T181508Z
UID:10000056-1479641400-1479645000@www.unitycenterdc.org
SUMMARY:A Course in Miracles Reading Group
DESCRIPTION:Each Sunday our A Course in Miracles reading group meets for approximately an hour after the 10:00 am service at 11:30am-12:30pm in the narthex. Anyone may attend the group\, you need no prior experience. If you have a book\, bring it and if not you are welcome to use one of ours. We offer an informal gathering place for reading and discussion.
URL:https://www.unitycenterdc.org/calendar/a-course-in-miracles-reading-group/2016-11-20/
LOCATION:Unity Center DC on Zoom\, Washington\, DC\, 20007
CATEGORIES:Study
ATTACH;FMTTYPE=image/jpeg:https://www.unitycenterdc.org/wp-content/uploads/2016/01/ACIM.jpg
GEO:38.9228637;-77.0720087
END:VEVENT
BEGIN:VEVENT
DTSTART;TZID=America/New_York:20161127T113000
DTEND;TZID=America/New_York:20161127T123000
DTSTAMP:20260423T163221
CREATED:20160106T181201Z
LAST-MODIFIED:20160106T181508Z
UID:10000057-1480246200-1480249800@www.unitycenterdc.org
SUMMARY:A Course in Miracles Reading Group
DESCRIPTION:Each Sunday our A Course in Miracles reading group meets for approximately an hour after the 10:00 am service at 11:30am-12:30pm in the narthex. Anyone may attend the group\, you need no prior experience. If you have a book\, bring it and if not you are welcome to use one of ours. We offer an informal gathering place for reading and discussion.
URL:https://www.unitycenterdc.org/calendar/a-course-in-miracles-reading-group/2016-11-27/
LOCATION:Unity Center DC on Zoom\, Washington\, DC\, 20007
CATEGORIES:Study
ATTACH;FMTTYPE=image/jpeg:https://www.unitycenterdc.org/wp-content/uploads/2016/01/ACIM.jpg
GEO:38.9228637;-77.0720087
END:VEVENT
BEGIN:VEVENT
DTSTART;TZID=America/New_York:20161204T113000
DTEND;TZID=America/New_York:20161204T123000
DTSTAMP:20260423T163221
CREATED:20160106T181201Z
LAST-MODIFIED:20160106T181508Z
UID:10000058-1480851000-1480854600@www.unitycenterdc.org
SUMMARY:A Course in Miracles Reading Group
DESCRIPTION:Each Sunday our A Course in Miracles reading group meets for approximately an hour after the 10:00 am service at 11:30am-12:30pm in the narthex. Anyone may attend the group\, you need no prior experience. If you have a book\, bring it and if not you are welcome to use one of ours. We offer an informal gathering place for reading and discussion.
URL:https://www.unitycenterdc.org/calendar/a-course-in-miracles-reading-group/2016-12-04/
LOCATION:Unity Center DC on Zoom\, Washington\, DC\, 20007
CATEGORIES:Study
ATTACH;FMTTYPE=image/jpeg:https://www.unitycenterdc.org/wp-content/uploads/2016/01/ACIM.jpg
GEO:38.9228637;-77.0720087
END:VEVENT
END:VCALENDAR