BEGIN:VCALENDAR
VERSION:2.0
PRODID:-//Unity Center DC - ECPv6.15.20//NONSGML v1.0//EN
CALSCALE:GREGORIAN
METHOD:PUBLISH
X-ORIGINAL-URL:https://www.unitycenterdc.org
X-WR-CALDESC:Events for Unity Center DC
REFRESH-INTERVAL;VALUE=DURATION:PT1H
X-Robots-Tag:noindex
X-PUBLISHED-TTL:PT1H
BEGIN:VTIMEZONE
TZID:America/New_York
BEGIN:DAYLIGHT
TZOFFSETFROM:-0500
TZOFFSETTO:-0400
TZNAME:EDT
DTSTART:20160313T070000
END:DAYLIGHT
BEGIN:STANDARD
TZOFFSETFROM:-0400
TZOFFSETTO:-0500
TZNAME:EST
DTSTART:20161106T060000
END:STANDARD
BEGIN:DAYLIGHT
TZOFFSETFROM:-0500
TZOFFSETTO:-0400
TZNAME:EDT
DTSTART:20170312T070000
END:DAYLIGHT
BEGIN:STANDARD
TZOFFSETFROM:-0400
TZOFFSETTO:-0500
TZNAME:EST
DTSTART:20171105T060000
END:STANDARD
BEGIN:DAYLIGHT
TZOFFSETFROM:-0500
TZOFFSETTO:-0400
TZNAME:EDT
DTSTART:20180311T070000
END:DAYLIGHT
BEGIN:STANDARD
TZOFFSETFROM:-0400
TZOFFSETTO:-0500
TZNAME:EST
DTSTART:20181104T060000
END:STANDARD
BEGIN:DAYLIGHT
TZOFFSETFROM:-0500
TZOFFSETTO:-0400
TZNAME:EDT
DTSTART:20190310T070000
END:DAYLIGHT
BEGIN:STANDARD
TZOFFSETFROM:-0400
TZOFFSETTO:-0500
TZNAME:EST
DTSTART:20191103T060000
END:STANDARD
END:VTIMEZONE
BEGIN:VEVENT
DTSTART;TZID=America/New_York:20170709T113000
DTEND;TZID=America/New_York:20170709T123000
DTSTAMP:20260423T213810
CREATED:20170110T035736Z
LAST-MODIFIED:20170822T181746Z
UID:10000536-1499599800-1499603400@www.unitycenterdc.org
SUMMARY:ACIM Study Group
DESCRIPTION:Each Sunday our A Course in Miracles reading group meets for approximately an hour after the 10:00 am service at 11:30am-12:30pm in the narthex. Anyone may attend the group\, you need no prior experience. If you have a book\, bring it and if not you are welcome to use one of ours. We offer an informal gathering place for reading and discussion.
URL:https://www.unitycenterdc.org/calendar/acim-study-group/2017-07-09/
LOCATION:Unity Center DC on Zoom\, Washington\, DC\, 20007
CATEGORIES:Study
ATTACH;FMTTYPE=image/jpeg:https://www.unitycenterdc.org/wp-content/uploads/2016/01/ACIM.jpg
GEO:38.9228637;-77.0720087
END:VEVENT
BEGIN:VEVENT
DTSTART;TZID=America/New_York:20170716T113000
DTEND;TZID=America/New_York:20170716T123000
DTSTAMP:20260423T213810
CREATED:20170110T035736Z
LAST-MODIFIED:20170822T181746Z
UID:10000537-1500204600-1500208200@www.unitycenterdc.org
SUMMARY:ACIM Study Group
DESCRIPTION:Each Sunday our A Course in Miracles reading group meets for approximately an hour after the 10:00 am service at 11:30am-12:30pm in the narthex. Anyone may attend the group\, you need no prior experience. If you have a book\, bring it and if not you are welcome to use one of ours. We offer an informal gathering place for reading and discussion.
URL:https://www.unitycenterdc.org/calendar/acim-study-group/2017-07-16/
LOCATION:Unity Center DC on Zoom\, Washington\, DC\, 20007
CATEGORIES:Study
ATTACH;FMTTYPE=image/jpeg:https://www.unitycenterdc.org/wp-content/uploads/2016/01/ACIM.jpg
GEO:38.9228637;-77.0720087
END:VEVENT
BEGIN:VEVENT
DTSTART;TZID=America/New_York:20170723T113000
DTEND;TZID=America/New_York:20170723T123000
DTSTAMP:20260423T213810
CREATED:20170110T035736Z
LAST-MODIFIED:20170822T181746Z
UID:10000538-1500809400-1500813000@www.unitycenterdc.org
SUMMARY:ACIM Study Group
DESCRIPTION:Each Sunday our A Course in Miracles reading group meets for approximately an hour after the 10:00 am service at 11:30am-12:30pm in the narthex. Anyone may attend the group\, you need no prior experience. If you have a book\, bring it and if not you are welcome to use one of ours. We offer an informal gathering place for reading and discussion.
URL:https://www.unitycenterdc.org/calendar/acim-study-group/2017-07-23/
LOCATION:Unity Center DC on Zoom\, Washington\, DC\, 20007
CATEGORIES:Study
ATTACH;FMTTYPE=image/jpeg:https://www.unitycenterdc.org/wp-content/uploads/2016/01/ACIM.jpg
GEO:38.9228637;-77.0720087
END:VEVENT
BEGIN:VEVENT
DTSTART;TZID=America/New_York:20170730T113000
DTEND;TZID=America/New_York:20170730T123000
DTSTAMP:20260423T213810
CREATED:20170110T035736Z
LAST-MODIFIED:20170822T181746Z
UID:10000539-1501414200-1501417800@www.unitycenterdc.org
SUMMARY:ACIM Study Group
DESCRIPTION:Each Sunday our A Course in Miracles reading group meets for approximately an hour after the 10:00 am service at 11:30am-12:30pm in the narthex. Anyone may attend the group\, you need no prior experience. If you have a book\, bring it and if not you are welcome to use one of ours. We offer an informal gathering place for reading and discussion.
URL:https://www.unitycenterdc.org/calendar/acim-study-group/2017-07-30/
LOCATION:Unity Center DC on Zoom\, Washington\, DC\, 20007
CATEGORIES:Study
ATTACH;FMTTYPE=image/jpeg:https://www.unitycenterdc.org/wp-content/uploads/2016/01/ACIM.jpg
GEO:38.9228637;-77.0720087
END:VEVENT
BEGIN:VEVENT
DTSTART;TZID=America/New_York:20170806T113000
DTEND;TZID=America/New_York:20170806T123000
DTSTAMP:20260423T213810
CREATED:20170110T035736Z
LAST-MODIFIED:20170822T181746Z
UID:10000540-1502019000-1502022600@www.unitycenterdc.org
SUMMARY:ACIM Study Group
DESCRIPTION:Each Sunday our A Course in Miracles reading group meets for approximately an hour after the 10:00 am service at 11:30am-12:30pm in the narthex. Anyone may attend the group\, you need no prior experience. If you have a book\, bring it and if not you are welcome to use one of ours. We offer an informal gathering place for reading and discussion.
URL:https://www.unitycenterdc.org/calendar/acim-study-group/2017-08-06/
LOCATION:Unity Center DC on Zoom\, Washington\, DC\, 20007
CATEGORIES:Study
ATTACH;FMTTYPE=image/jpeg:https://www.unitycenterdc.org/wp-content/uploads/2016/01/ACIM.jpg
GEO:38.9228637;-77.0720087
END:VEVENT
BEGIN:VEVENT
DTSTART;TZID=America/New_York:20170813T113000
DTEND;TZID=America/New_York:20170813T123000
DTSTAMP:20260423T213810
CREATED:20170110T035736Z
LAST-MODIFIED:20170822T181746Z
UID:10000541-1502623800-1502627400@www.unitycenterdc.org
SUMMARY:ACIM Study Group
DESCRIPTION:Each Sunday our A Course in Miracles reading group meets for approximately an hour after the 10:00 am service at 11:30am-12:30pm in the narthex. Anyone may attend the group\, you need no prior experience. If you have a book\, bring it and if not you are welcome to use one of ours. We offer an informal gathering place for reading and discussion.
URL:https://www.unitycenterdc.org/calendar/acim-study-group/2017-08-13/
LOCATION:Unity Center DC on Zoom\, Washington\, DC\, 20007
CATEGORIES:Study
ATTACH;FMTTYPE=image/jpeg:https://www.unitycenterdc.org/wp-content/uploads/2016/01/ACIM.jpg
GEO:38.9228637;-77.0720087
END:VEVENT
BEGIN:VEVENT
DTSTART;TZID=America/New_York:20170820T113000
DTEND;TZID=America/New_York:20170820T123000
DTSTAMP:20260423T213810
CREATED:20170110T035736Z
LAST-MODIFIED:20170822T181746Z
UID:10000542-1503228600-1503232200@www.unitycenterdc.org
SUMMARY:ACIM Study Group
DESCRIPTION:Each Sunday our A Course in Miracles reading group meets for approximately an hour after the 10:00 am service at 11:30am-12:30pm in the narthex. Anyone may attend the group\, you need no prior experience. If you have a book\, bring it and if not you are welcome to use one of ours. We offer an informal gathering place for reading and discussion.
URL:https://www.unitycenterdc.org/calendar/acim-study-group/2017-08-20/
LOCATION:Unity Center DC on Zoom\, Washington\, DC\, 20007
CATEGORIES:Study
ATTACH;FMTTYPE=image/jpeg:https://www.unitycenterdc.org/wp-content/uploads/2016/01/ACIM.jpg
GEO:38.9228637;-77.0720087
END:VEVENT
BEGIN:VEVENT
DTSTART;TZID=America/New_York:20170827T113000
DTEND;TZID=America/New_York:20170827T123000
DTSTAMP:20260423T213810
CREATED:20170110T035736Z
LAST-MODIFIED:20170822T181746Z
UID:10000543-1503833400-1503837000@www.unitycenterdc.org
SUMMARY:ACIM Study Group
DESCRIPTION:Each Sunday our A Course in Miracles reading group meets for approximately an hour after the 10:00 am service at 11:30am-12:30pm in the narthex. Anyone may attend the group\, you need no prior experience. If you have a book\, bring it and if not you are welcome to use one of ours. We offer an informal gathering place for reading and discussion.
URL:https://www.unitycenterdc.org/calendar/acim-study-group/2017-08-27/
LOCATION:Unity Center DC on Zoom\, Washington\, DC\, 20007
CATEGORIES:Study
ATTACH;FMTTYPE=image/jpeg:https://www.unitycenterdc.org/wp-content/uploads/2016/01/ACIM.jpg
GEO:38.9228637;-77.0720087
END:VEVENT
BEGIN:VEVENT
DTSTART;TZID=America/New_York:20170903T113000
DTEND;TZID=America/New_York:20170903T123000
DTSTAMP:20260423T213810
CREATED:20170110T035736Z
LAST-MODIFIED:20170822T181746Z
UID:10000544-1504438200-1504441800@www.unitycenterdc.org
SUMMARY:ACIM Study Group
DESCRIPTION:Each Sunday our A Course in Miracles reading group meets for approximately an hour after the 10:00 am service at 11:30am-12:30pm in the narthex. Anyone may attend the group\, you need no prior experience. If you have a book\, bring it and if not you are welcome to use one of ours. We offer an informal gathering place for reading and discussion.
URL:https://www.unitycenterdc.org/calendar/acim-study-group/2017-09-03/
LOCATION:Unity Center DC on Zoom\, Washington\, DC\, 20007
CATEGORIES:Study
ATTACH;FMTTYPE=image/jpeg:https://www.unitycenterdc.org/wp-content/uploads/2016/01/ACIM.jpg
GEO:38.9228637;-77.0720087
END:VEVENT
BEGIN:VEVENT
DTSTART;TZID=America/New_York:20170910T113000
DTEND;TZID=America/New_York:20170910T123000
DTSTAMP:20260423T213810
CREATED:20170110T035736Z
LAST-MODIFIED:20170822T181746Z
UID:10000545-1505043000-1505046600@www.unitycenterdc.org
SUMMARY:ACIM Study Group
DESCRIPTION:Each Sunday our A Course in Miracles reading group meets for approximately an hour after the 10:00 am service at 11:30am-12:30pm in the narthex. Anyone may attend the group\, you need no prior experience. If you have a book\, bring it and if not you are welcome to use one of ours. We offer an informal gathering place for reading and discussion.
URL:https://www.unitycenterdc.org/calendar/acim-study-group/2017-09-10/
LOCATION:Unity Center DC on Zoom\, Washington\, DC\, 20007
CATEGORIES:Study
ATTACH;FMTTYPE=image/jpeg:https://www.unitycenterdc.org/wp-content/uploads/2016/01/ACIM.jpg
GEO:38.9228637;-77.0720087
END:VEVENT
BEGIN:VEVENT
DTSTART;TZID=America/New_York:20170917T113000
DTEND;TZID=America/New_York:20170917T123000
DTSTAMP:20260423T213810
CREATED:20170110T035736Z
LAST-MODIFIED:20170822T181746Z
UID:10000546-1505647800-1505651400@www.unitycenterdc.org
SUMMARY:ACIM Study Group
DESCRIPTION:Each Sunday our A Course in Miracles reading group meets for approximately an hour after the 10:00 am service at 11:30am-12:30pm in the narthex. Anyone may attend the group\, you need no prior experience. If you have a book\, bring it and if not you are welcome to use one of ours. We offer an informal gathering place for reading and discussion.
URL:https://www.unitycenterdc.org/calendar/acim-study-group/2017-09-17/
LOCATION:Unity Center DC on Zoom\, Washington\, DC\, 20007
CATEGORIES:Study
ATTACH;FMTTYPE=image/jpeg:https://www.unitycenterdc.org/wp-content/uploads/2016/01/ACIM.jpg
GEO:38.9228637;-77.0720087
END:VEVENT
BEGIN:VEVENT
DTSTART;TZID=America/New_York:20170924T113000
DTEND;TZID=America/New_York:20170924T123000
DTSTAMP:20260423T213810
CREATED:20170110T035736Z
LAST-MODIFIED:20170822T181746Z
UID:10000547-1506252600-1506256200@www.unitycenterdc.org
SUMMARY:ACIM Study Group
DESCRIPTION:Each Sunday our A Course in Miracles reading group meets for approximately an hour after the 10:00 am service at 11:30am-12:30pm in the narthex. Anyone may attend the group\, you need no prior experience. If you have a book\, bring it and if not you are welcome to use one of ours. We offer an informal gathering place for reading and discussion.
URL:https://www.unitycenterdc.org/calendar/acim-study-group/2017-09-24/
LOCATION:Unity Center DC on Zoom\, Washington\, DC\, 20007
CATEGORIES:Study
ATTACH;FMTTYPE=image/jpeg:https://www.unitycenterdc.org/wp-content/uploads/2016/01/ACIM.jpg
GEO:38.9228637;-77.0720087
END:VEVENT
BEGIN:VEVENT
DTSTART;TZID=America/New_York:20171001T113000
DTEND;TZID=America/New_York:20171001T123000
DTSTAMP:20260423T213810
CREATED:20170110T035736Z
LAST-MODIFIED:20170822T181746Z
UID:10000548-1506857400-1506861000@www.unitycenterdc.org
SUMMARY:ACIM Study Group
DESCRIPTION:Each Sunday our A Course in Miracles reading group meets for approximately an hour after the 10:00 am service at 11:30am-12:30pm in the narthex. Anyone may attend the group\, you need no prior experience. If you have a book\, bring it and if not you are welcome to use one of ours. We offer an informal gathering place for reading and discussion.
URL:https://www.unitycenterdc.org/calendar/acim-study-group/2017-10-01/
LOCATION:Unity Center DC on Zoom\, Washington\, DC\, 20007
CATEGORIES:Study
ATTACH;FMTTYPE=image/jpeg:https://www.unitycenterdc.org/wp-content/uploads/2016/01/ACIM.jpg
GEO:38.9228637;-77.0720087
END:VEVENT
BEGIN:VEVENT
DTSTART;TZID=America/New_York:20171008T113000
DTEND;TZID=America/New_York:20171008T123000
DTSTAMP:20260423T213810
CREATED:20170110T035736Z
LAST-MODIFIED:20170822T181746Z
UID:10000549-1507462200-1507465800@www.unitycenterdc.org
SUMMARY:ACIM Study Group
DESCRIPTION:Each Sunday our A Course in Miracles reading group meets for approximately an hour after the 10:00 am service at 11:30am-12:30pm in the narthex. Anyone may attend the group\, you need no prior experience. If you have a book\, bring it and if not you are welcome to use one of ours. We offer an informal gathering place for reading and discussion.
URL:https://www.unitycenterdc.org/calendar/acim-study-group/2017-10-08/
LOCATION:Unity Center DC on Zoom\, Washington\, DC\, 20007
CATEGORIES:Study
ATTACH;FMTTYPE=image/jpeg:https://www.unitycenterdc.org/wp-content/uploads/2016/01/ACIM.jpg
GEO:38.9228637;-77.0720087
END:VEVENT
BEGIN:VEVENT
DTSTART;TZID=America/New_York:20171015T113000
DTEND;TZID=America/New_York:20171015T123000
DTSTAMP:20260423T213810
CREATED:20170110T035736Z
LAST-MODIFIED:20170822T181746Z
UID:10000550-1508067000-1508070600@www.unitycenterdc.org
SUMMARY:ACIM Study Group
DESCRIPTION:Each Sunday our A Course in Miracles reading group meets for approximately an hour after the 10:00 am service at 11:30am-12:30pm in the narthex. Anyone may attend the group\, you need no prior experience. If you have a book\, bring it and if not you are welcome to use one of ours. We offer an informal gathering place for reading and discussion.
URL:https://www.unitycenterdc.org/calendar/acim-study-group/2017-10-15/
LOCATION:Unity Center DC on Zoom\, Washington\, DC\, 20007
CATEGORIES:Study
ATTACH;FMTTYPE=image/jpeg:https://www.unitycenterdc.org/wp-content/uploads/2016/01/ACIM.jpg
GEO:38.9228637;-77.0720087
END:VEVENT
BEGIN:VEVENT
DTSTART;TZID=America/New_York:20171022T113000
DTEND;TZID=America/New_York:20171022T123000
DTSTAMP:20260423T213810
CREATED:20170110T035736Z
LAST-MODIFIED:20170822T181746Z
UID:10000551-1508671800-1508675400@www.unitycenterdc.org
SUMMARY:ACIM Study Group
DESCRIPTION:Each Sunday our A Course in Miracles reading group meets for approximately an hour after the 10:00 am service at 11:30am-12:30pm in the narthex. Anyone may attend the group\, you need no prior experience. If you have a book\, bring it and if not you are welcome to use one of ours. We offer an informal gathering place for reading and discussion.
URL:https://www.unitycenterdc.org/calendar/acim-study-group/2017-10-22/
LOCATION:Unity Center DC on Zoom\, Washington\, DC\, 20007
CATEGORIES:Study
ATTACH;FMTTYPE=image/jpeg:https://www.unitycenterdc.org/wp-content/uploads/2016/01/ACIM.jpg
GEO:38.9228637;-77.0720087
END:VEVENT
BEGIN:VEVENT
DTSTART;TZID=America/New_York:20171029T113000
DTEND;TZID=America/New_York:20171029T123000
DTSTAMP:20260423T213810
CREATED:20170110T035736Z
LAST-MODIFIED:20170822T181746Z
UID:10000552-1509276600-1509280200@www.unitycenterdc.org
SUMMARY:ACIM Study Group
DESCRIPTION:Each Sunday our A Course in Miracles reading group meets for approximately an hour after the 10:00 am service at 11:30am-12:30pm in the narthex. Anyone may attend the group\, you need no prior experience. If you have a book\, bring it and if not you are welcome to use one of ours. We offer an informal gathering place for reading and discussion.
URL:https://www.unitycenterdc.org/calendar/acim-study-group/2017-10-29/
LOCATION:Unity Center DC on Zoom\, Washington\, DC\, 20007
CATEGORIES:Study
ATTACH;FMTTYPE=image/jpeg:https://www.unitycenterdc.org/wp-content/uploads/2016/01/ACIM.jpg
GEO:38.9228637;-77.0720087
END:VEVENT
BEGIN:VEVENT
DTSTART;TZID=America/New_York:20171105T113000
DTEND;TZID=America/New_York:20171105T123000
DTSTAMP:20260423T213810
CREATED:20170110T035736Z
LAST-MODIFIED:20170822T181746Z
UID:10000553-1509881400-1509885000@www.unitycenterdc.org
SUMMARY:ACIM Study Group
DESCRIPTION:Each Sunday our A Course in Miracles reading group meets for approximately an hour after the 10:00 am service at 11:30am-12:30pm in the narthex. Anyone may attend the group\, you need no prior experience. If you have a book\, bring it and if not you are welcome to use one of ours. We offer an informal gathering place for reading and discussion.
URL:https://www.unitycenterdc.org/calendar/acim-study-group/2017-11-05/
LOCATION:Unity Center DC on Zoom\, Washington\, DC\, 20007
CATEGORIES:Study
ATTACH;FMTTYPE=image/jpeg:https://www.unitycenterdc.org/wp-content/uploads/2016/01/ACIM.jpg
GEO:38.9228637;-77.0720087
END:VEVENT
BEGIN:VEVENT
DTSTART;TZID=America/New_York:20171112T113000
DTEND;TZID=America/New_York:20171112T123000
DTSTAMP:20260423T213810
CREATED:20170110T035736Z
LAST-MODIFIED:20170822T181746Z
UID:10000554-1510486200-1510489800@www.unitycenterdc.org
SUMMARY:ACIM Study Group
DESCRIPTION:Each Sunday our A Course in Miracles reading group meets for approximately an hour after the 10:00 am service at 11:30am-12:30pm in the narthex. Anyone may attend the group\, you need no prior experience. If you have a book\, bring it and if not you are welcome to use one of ours. We offer an informal gathering place for reading and discussion.
URL:https://www.unitycenterdc.org/calendar/acim-study-group/2017-11-12/
LOCATION:Unity Center DC on Zoom\, Washington\, DC\, 20007
CATEGORIES:Study
ATTACH;FMTTYPE=image/jpeg:https://www.unitycenterdc.org/wp-content/uploads/2016/01/ACIM.jpg
GEO:38.9228637;-77.0720087
END:VEVENT
BEGIN:VEVENT
DTSTART;TZID=America/New_York:20171119T113000
DTEND;TZID=America/New_York:20171119T123000
DTSTAMP:20260423T213810
CREATED:20170110T035736Z
LAST-MODIFIED:20170822T181746Z
UID:10000555-1511091000-1511094600@www.unitycenterdc.org
SUMMARY:ACIM Study Group
DESCRIPTION:Each Sunday our A Course in Miracles reading group meets for approximately an hour after the 10:00 am service at 11:30am-12:30pm in the narthex. Anyone may attend the group\, you need no prior experience. If you have a book\, bring it and if not you are welcome to use one of ours. We offer an informal gathering place for reading and discussion.
URL:https://www.unitycenterdc.org/calendar/acim-study-group/2017-11-19/
LOCATION:Unity Center DC on Zoom\, Washington\, DC\, 20007
CATEGORIES:Study
ATTACH;FMTTYPE=image/jpeg:https://www.unitycenterdc.org/wp-content/uploads/2016/01/ACIM.jpg
GEO:38.9228637;-77.0720087
END:VEVENT
BEGIN:VEVENT
DTSTART;TZID=America/New_York:20171126T113000
DTEND;TZID=America/New_York:20171126T123000
DTSTAMP:20260423T213810
CREATED:20170110T035736Z
LAST-MODIFIED:20170822T181746Z
UID:10000556-1511695800-1511699400@www.unitycenterdc.org
SUMMARY:ACIM Study Group
DESCRIPTION:Each Sunday our A Course in Miracles reading group meets for approximately an hour after the 10:00 am service at 11:30am-12:30pm in the narthex. Anyone may attend the group\, you need no prior experience. If you have a book\, bring it and if not you are welcome to use one of ours. We offer an informal gathering place for reading and discussion.
URL:https://www.unitycenterdc.org/calendar/acim-study-group/2017-11-26/
LOCATION:Unity Center DC on Zoom\, Washington\, DC\, 20007
CATEGORIES:Study
ATTACH;FMTTYPE=image/jpeg:https://www.unitycenterdc.org/wp-content/uploads/2016/01/ACIM.jpg
GEO:38.9228637;-77.0720087
END:VEVENT
BEGIN:VEVENT
DTSTART;TZID=America/New_York:20171203T113000
DTEND;TZID=America/New_York:20171203T123000
DTSTAMP:20260423T213810
CREATED:20170110T035736Z
LAST-MODIFIED:20170822T181746Z
UID:10000557-1512300600-1512304200@www.unitycenterdc.org
SUMMARY:ACIM Study Group
DESCRIPTION:Each Sunday our A Course in Miracles reading group meets for approximately an hour after the 10:00 am service at 11:30am-12:30pm in the narthex. Anyone may attend the group\, you need no prior experience. If you have a book\, bring it and if not you are welcome to use one of ours. We offer an informal gathering place for reading and discussion.
URL:https://www.unitycenterdc.org/calendar/acim-study-group/2017-12-03/
LOCATION:Unity Center DC on Zoom\, Washington\, DC\, 20007
CATEGORIES:Study
ATTACH;FMTTYPE=image/jpeg:https://www.unitycenterdc.org/wp-content/uploads/2016/01/ACIM.jpg
GEO:38.9228637;-77.0720087
END:VEVENT
BEGIN:VEVENT
DTSTART;TZID=America/New_York:20171210T113000
DTEND;TZID=America/New_York:20171210T123000
DTSTAMP:20260423T213810
CREATED:20170110T035736Z
LAST-MODIFIED:20170822T181746Z
UID:10000558-1512905400-1512909000@www.unitycenterdc.org
SUMMARY:ACIM Study Group
DESCRIPTION:Each Sunday our A Course in Miracles reading group meets for approximately an hour after the 10:00 am service at 11:30am-12:30pm in the narthex. Anyone may attend the group\, you need no prior experience. If you have a book\, bring it and if not you are welcome to use one of ours. We offer an informal gathering place for reading and discussion.
URL:https://www.unitycenterdc.org/calendar/acim-study-group/2017-12-10/
LOCATION:Unity Center DC on Zoom\, Washington\, DC\, 20007
CATEGORIES:Study
ATTACH;FMTTYPE=image/jpeg:https://www.unitycenterdc.org/wp-content/uploads/2016/01/ACIM.jpg
GEO:38.9228637;-77.0720087
END:VEVENT
BEGIN:VEVENT
DTSTART;TZID=America/New_York:20171217T113000
DTEND;TZID=America/New_York:20171217T123000
DTSTAMP:20260423T213810
CREATED:20170110T035736Z
LAST-MODIFIED:20170822T181746Z
UID:10000559-1513510200-1513513800@www.unitycenterdc.org
SUMMARY:ACIM Study Group
DESCRIPTION:Each Sunday our A Course in Miracles reading group meets for approximately an hour after the 10:00 am service at 11:30am-12:30pm in the narthex. Anyone may attend the group\, you need no prior experience. If you have a book\, bring it and if not you are welcome to use one of ours. We offer an informal gathering place for reading and discussion.
URL:https://www.unitycenterdc.org/calendar/acim-study-group/2017-12-17/
LOCATION:Unity Center DC on Zoom\, Washington\, DC\, 20007
CATEGORIES:Study
ATTACH;FMTTYPE=image/jpeg:https://www.unitycenterdc.org/wp-content/uploads/2016/01/ACIM.jpg
GEO:38.9228637;-77.0720087
END:VEVENT
BEGIN:VEVENT
DTSTART;TZID=America/New_York:20171224T113000
DTEND;TZID=America/New_York:20171224T123000
DTSTAMP:20260423T213810
CREATED:20170110T035736Z
LAST-MODIFIED:20170822T181746Z
UID:10000560-1514115000-1514118600@www.unitycenterdc.org
SUMMARY:ACIM Study Group
DESCRIPTION:Each Sunday our A Course in Miracles reading group meets for approximately an hour after the 10:00 am service at 11:30am-12:30pm in the narthex. Anyone may attend the group\, you need no prior experience. If you have a book\, bring it and if not you are welcome to use one of ours. We offer an informal gathering place for reading and discussion.
URL:https://www.unitycenterdc.org/calendar/acim-study-group/2017-12-24/
LOCATION:Unity Center DC on Zoom\, Washington\, DC\, 20007
CATEGORIES:Study
ATTACH;FMTTYPE=image/jpeg:https://www.unitycenterdc.org/wp-content/uploads/2016/01/ACIM.jpg
GEO:38.9228637;-77.0720087
END:VEVENT
BEGIN:VEVENT
DTSTART;TZID=America/New_York:20171231T113000
DTEND;TZID=America/New_York:20171231T123000
DTSTAMP:20260423T213810
CREATED:20170110T035736Z
LAST-MODIFIED:20170822T181746Z
UID:10000561-1514719800-1514723400@www.unitycenterdc.org
SUMMARY:ACIM Study Group
DESCRIPTION:Each Sunday our A Course in Miracles reading group meets for approximately an hour after the 10:00 am service at 11:30am-12:30pm in the narthex. Anyone may attend the group\, you need no prior experience. If you have a book\, bring it and if not you are welcome to use one of ours. We offer an informal gathering place for reading and discussion.
URL:https://www.unitycenterdc.org/calendar/acim-study-group/2017-12-31/
LOCATION:Unity Center DC on Zoom\, Washington\, DC\, 20007
CATEGORIES:Study
ATTACH;FMTTYPE=image/jpeg:https://www.unitycenterdc.org/wp-content/uploads/2016/01/ACIM.jpg
GEO:38.9228637;-77.0720087
END:VEVENT
BEGIN:VEVENT
DTSTART;TZID=America/New_York:20180107T113000
DTEND;TZID=America/New_York:20180107T123000
DTSTAMP:20260423T213810
CREATED:20180109T002610Z
LAST-MODIFIED:20180524T154813Z
UID:10000640-1515324600-1515328200@www.unitycenterdc.org
SUMMARY:ACIM Study Group
DESCRIPTION:Each Sunday our A Course in Miracles reading group meets for approximately an hour after the 10:00 am service from 11:30am-12:30pm. Anyone may attend the group\, you need no prior experience. If you have a book\, bring it and if not you are welcome to use one of ours. We offer an informal gathering place for reading and discussion.
URL:https://www.unitycenterdc.org/calendar/acim-study-group-2/2018-01-07/
LOCATION:Unity Center DC on Zoom\, Washington\, DC\, 20007
CATEGORIES:Study
ATTACH;FMTTYPE=image/jpeg:https://www.unitycenterdc.org/wp-content/uploads/2016/01/ACIM.jpg
GEO:38.9228637;-77.0720087
END:VEVENT
BEGIN:VEVENT
DTSTART;TZID=America/New_York:20180114T113000
DTEND;TZID=America/New_York:20180114T123000
DTSTAMP:20260423T213810
CREATED:20180109T002610Z
LAST-MODIFIED:20180524T154813Z
UID:10000641-1515929400-1515933000@www.unitycenterdc.org
SUMMARY:ACIM Study Group
DESCRIPTION:Each Sunday our A Course in Miracles reading group meets for approximately an hour after the 10:00 am service from 11:30am-12:30pm. Anyone may attend the group\, you need no prior experience. If you have a book\, bring it and if not you are welcome to use one of ours. We offer an informal gathering place for reading and discussion.
URL:https://www.unitycenterdc.org/calendar/acim-study-group-2/2018-01-14/
LOCATION:Unity Center DC on Zoom\, Washington\, DC\, 20007
CATEGORIES:Study
ATTACH;FMTTYPE=image/jpeg:https://www.unitycenterdc.org/wp-content/uploads/2016/01/ACIM.jpg
GEO:38.9228637;-77.0720087
END:VEVENT
BEGIN:VEVENT
DTSTART;TZID=America/New_York:20180121T113000
DTEND;TZID=America/New_York:20180121T123000
DTSTAMP:20260423T213810
CREATED:20180109T002610Z
LAST-MODIFIED:20180524T154813Z
UID:10000642-1516534200-1516537800@www.unitycenterdc.org
SUMMARY:ACIM Study Group
DESCRIPTION:Each Sunday our A Course in Miracles reading group meets for approximately an hour after the 10:00 am service from 11:30am-12:30pm. Anyone may attend the group\, you need no prior experience. If you have a book\, bring it and if not you are welcome to use one of ours. We offer an informal gathering place for reading and discussion.
URL:https://www.unitycenterdc.org/calendar/acim-study-group-2/2018-01-21/
LOCATION:Unity Center DC on Zoom\, Washington\, DC\, 20007
CATEGORIES:Study
ATTACH;FMTTYPE=image/jpeg:https://www.unitycenterdc.org/wp-content/uploads/2016/01/ACIM.jpg
GEO:38.9228637;-77.0720087
END:VEVENT
BEGIN:VEVENT
DTSTART;TZID=America/New_York:20180128T113000
DTEND;TZID=America/New_York:20180128T123000
DTSTAMP:20260423T213810
CREATED:20180109T002610Z
LAST-MODIFIED:20180524T154813Z
UID:10000643-1517139000-1517142600@www.unitycenterdc.org
SUMMARY:ACIM Study Group
DESCRIPTION:Each Sunday our A Course in Miracles reading group meets for approximately an hour after the 10:00 am service from 11:30am-12:30pm. Anyone may attend the group\, you need no prior experience. If you have a book\, bring it and if not you are welcome to use one of ours. We offer an informal gathering place for reading and discussion.
URL:https://www.unitycenterdc.org/calendar/acim-study-group-2/2018-01-28/
LOCATION:Unity Center DC on Zoom\, Washington\, DC\, 20007
CATEGORIES:Study
ATTACH;FMTTYPE=image/jpeg:https://www.unitycenterdc.org/wp-content/uploads/2016/01/ACIM.jpg
GEO:38.9228637;-77.0720087
END:VEVENT
END:VCALENDAR