BEGIN:VCALENDAR
VERSION:2.0
PRODID:-//Unity Center DC - ECPv6.15.20//NONSGML v1.0//EN
CALSCALE:GREGORIAN
METHOD:PUBLISH
X-ORIGINAL-URL:https://www.unitycenterdc.org
X-WR-CALDESC:Events for Unity Center DC
REFRESH-INTERVAL;VALUE=DURATION:PT1H
X-Robots-Tag:noindex
X-PUBLISHED-TTL:PT1H
BEGIN:VTIMEZONE
TZID:America/New_York
BEGIN:DAYLIGHT
TZOFFSETFROM:-0500
TZOFFSETTO:-0400
TZNAME:EDT
DTSTART:20170312T070000
END:DAYLIGHT
BEGIN:STANDARD
TZOFFSETFROM:-0400
TZOFFSETTO:-0500
TZNAME:EST
DTSTART:20171105T060000
END:STANDARD
BEGIN:DAYLIGHT
TZOFFSETFROM:-0500
TZOFFSETTO:-0400
TZNAME:EDT
DTSTART:20180311T070000
END:DAYLIGHT
BEGIN:STANDARD
TZOFFSETFROM:-0400
TZOFFSETTO:-0500
TZNAME:EST
DTSTART:20181104T060000
END:STANDARD
BEGIN:DAYLIGHT
TZOFFSETFROM:-0500
TZOFFSETTO:-0400
TZNAME:EDT
DTSTART:20190310T070000
END:DAYLIGHT
BEGIN:STANDARD
TZOFFSETFROM:-0400
TZOFFSETTO:-0500
TZNAME:EST
DTSTART:20191103T060000
END:STANDARD
BEGIN:DAYLIGHT
TZOFFSETFROM:-0500
TZOFFSETTO:-0400
TZNAME:EDT
DTSTART:20200308T070000
END:DAYLIGHT
BEGIN:STANDARD
TZOFFSETFROM:-0400
TZOFFSETTO:-0500
TZNAME:EST
DTSTART:20201101T060000
END:STANDARD
END:VTIMEZONE
BEGIN:VEVENT
DTSTART;TZID=America/New_York:20180415T113000
DTEND;TZID=America/New_York:20180415T123000
DTSTAMP:20260424T051510
CREATED:20180109T002610Z
LAST-MODIFIED:20180524T154813Z
UID:10000654-1523791800-1523795400@www.unitycenterdc.org
SUMMARY:ACIM Study Group
DESCRIPTION:Each Sunday our A Course in Miracles reading group meets for approximately an hour after the 10:00 am service from 11:30am-12:30pm. Anyone may attend the group\, you need no prior experience. If you have a book\, bring it and if not you are welcome to use one of ours. We offer an informal gathering place for reading and discussion.
URL:https://www.unitycenterdc.org/calendar/acim-study-group-2/2018-04-15/
LOCATION:Unity Center DC on Zoom\, Washington\, DC\, 20007
CATEGORIES:Study
ATTACH;FMTTYPE=image/jpeg:https://www.unitycenterdc.org/wp-content/uploads/2016/01/ACIM.jpg
GEO:38.9228637;-77.0720087
END:VEVENT
BEGIN:VEVENT
DTSTART;TZID=America/New_York:20180422T113000
DTEND;TZID=America/New_York:20180422T123000
DTSTAMP:20260424T051510
CREATED:20180109T002610Z
LAST-MODIFIED:20180524T154813Z
UID:10000655-1524396600-1524400200@www.unitycenterdc.org
SUMMARY:ACIM Study Group
DESCRIPTION:Each Sunday our A Course in Miracles reading group meets for approximately an hour after the 10:00 am service from 11:30am-12:30pm. Anyone may attend the group\, you need no prior experience. If you have a book\, bring it and if not you are welcome to use one of ours. We offer an informal gathering place for reading and discussion.
URL:https://www.unitycenterdc.org/calendar/acim-study-group-2/2018-04-22/
LOCATION:Unity Center DC on Zoom\, Washington\, DC\, 20007
CATEGORIES:Study
ATTACH;FMTTYPE=image/jpeg:https://www.unitycenterdc.org/wp-content/uploads/2016/01/ACIM.jpg
GEO:38.9228637;-77.0720087
END:VEVENT
BEGIN:VEVENT
DTSTART;TZID=America/New_York:20180429T113000
DTEND;TZID=America/New_York:20180429T123000
DTSTAMP:20260424T051510
CREATED:20180109T002610Z
LAST-MODIFIED:20180524T154813Z
UID:10000656-1525001400-1525005000@www.unitycenterdc.org
SUMMARY:ACIM Study Group
DESCRIPTION:Each Sunday our A Course in Miracles reading group meets for approximately an hour after the 10:00 am service from 11:30am-12:30pm. Anyone may attend the group\, you need no prior experience. If you have a book\, bring it and if not you are welcome to use one of ours. We offer an informal gathering place for reading and discussion.
URL:https://www.unitycenterdc.org/calendar/acim-study-group-2/2018-04-29/
LOCATION:Unity Center DC on Zoom\, Washington\, DC\, 20007
CATEGORIES:Study
ATTACH;FMTTYPE=image/jpeg:https://www.unitycenterdc.org/wp-content/uploads/2016/01/ACIM.jpg
GEO:38.9228637;-77.0720087
END:VEVENT
BEGIN:VEVENT
DTSTART;TZID=America/New_York:20180506T113000
DTEND;TZID=America/New_York:20180506T123000
DTSTAMP:20260424T051510
CREATED:20180109T002610Z
LAST-MODIFIED:20180524T154813Z
UID:10000657-1525606200-1525609800@www.unitycenterdc.org
SUMMARY:ACIM Study Group
DESCRIPTION:Each Sunday our A Course in Miracles reading group meets for approximately an hour after the 10:00 am service from 11:30am-12:30pm. Anyone may attend the group\, you need no prior experience. If you have a book\, bring it and if not you are welcome to use one of ours. We offer an informal gathering place for reading and discussion.
URL:https://www.unitycenterdc.org/calendar/acim-study-group-2/2018-05-06/
LOCATION:Unity Center DC on Zoom\, Washington\, DC\, 20007
CATEGORIES:Study
ATTACH;FMTTYPE=image/jpeg:https://www.unitycenterdc.org/wp-content/uploads/2016/01/ACIM.jpg
GEO:38.9228637;-77.0720087
END:VEVENT
BEGIN:VEVENT
DTSTART;TZID=America/New_York:20180513T113000
DTEND;TZID=America/New_York:20180513T123000
DTSTAMP:20260424T051510
CREATED:20180109T002610Z
LAST-MODIFIED:20180524T154813Z
UID:10000658-1526211000-1526214600@www.unitycenterdc.org
SUMMARY:ACIM Study Group
DESCRIPTION:Each Sunday our A Course in Miracles reading group meets for approximately an hour after the 10:00 am service from 11:30am-12:30pm. Anyone may attend the group\, you need no prior experience. If you have a book\, bring it and if not you are welcome to use one of ours. We offer an informal gathering place for reading and discussion.
URL:https://www.unitycenterdc.org/calendar/acim-study-group-2/2018-05-13/
LOCATION:Unity Center DC on Zoom\, Washington\, DC\, 20007
CATEGORIES:Study
ATTACH;FMTTYPE=image/jpeg:https://www.unitycenterdc.org/wp-content/uploads/2016/01/ACIM.jpg
GEO:38.9228637;-77.0720087
END:VEVENT
BEGIN:VEVENT
DTSTART;TZID=America/New_York:20180520T113000
DTEND;TZID=America/New_York:20180520T123000
DTSTAMP:20260424T051510
CREATED:20180109T002610Z
LAST-MODIFIED:20180524T154813Z
UID:10000659-1526815800-1526819400@www.unitycenterdc.org
SUMMARY:ACIM Study Group
DESCRIPTION:Each Sunday our A Course in Miracles reading group meets for approximately an hour after the 10:00 am service from 11:30am-12:30pm. Anyone may attend the group\, you need no prior experience. If you have a book\, bring it and if not you are welcome to use one of ours. We offer an informal gathering place for reading and discussion.
URL:https://www.unitycenterdc.org/calendar/acim-study-group-2/2018-05-20/
LOCATION:Unity Center DC on Zoom\, Washington\, DC\, 20007
CATEGORIES:Study
ATTACH;FMTTYPE=image/jpeg:https://www.unitycenterdc.org/wp-content/uploads/2016/01/ACIM.jpg
GEO:38.9228637;-77.0720087
END:VEVENT
BEGIN:VEVENT
DTSTART;TZID=America/New_York:20190505T123000
DTEND;TZID=America/New_York:20190505T133000
DTSTAMP:20260424T051510
CREATED:20190506T221100Z
LAST-MODIFIED:20190829T234311Z
UID:10000773-1557059400-1557063000@www.unitycenterdc.org
SUMMARY:A Course in Miracles Study Group
DESCRIPTION:Each Sunday our A Course in Miracles reading group meets for approximately an hour after the regular service at 12:30 pm – 1:30 pm. Anyone may attend the group; you need no prior experience. If you have a book\, bring it and\, if not\, you are welcome to use one of ours. We offer an informal gathering place for reading and discussion.
URL:https://www.unitycenterdc.org/calendar/a-course-in-miracles-study-group/2019-05-05/
LOCATION:Unity Center DC on Zoom\, Washington\, DC\, 20007
CATEGORIES:Study
ATTACH;FMTTYPE=image/jpeg:https://www.unitycenterdc.org/wp-content/uploads/2016/01/ACIM.jpg
GEO:38.9228637;-77.0720087
END:VEVENT
BEGIN:VEVENT
DTSTART;TZID=America/New_York:20190512T123000
DTEND;TZID=America/New_York:20190512T133000
DTSTAMP:20260424T051510
CREATED:20190506T221100Z
LAST-MODIFIED:20190829T234311Z
UID:10000774-1557664200-1557667800@www.unitycenterdc.org
SUMMARY:A Course in Miracles Study Group
DESCRIPTION:Each Sunday our A Course in Miracles reading group meets for approximately an hour after the regular service at 12:30 pm – 1:30 pm. Anyone may attend the group; you need no prior experience. If you have a book\, bring it and\, if not\, you are welcome to use one of ours. We offer an informal gathering place for reading and discussion.
URL:https://www.unitycenterdc.org/calendar/a-course-in-miracles-study-group/2019-05-12/
LOCATION:Unity Center DC on Zoom\, Washington\, DC\, 20007
CATEGORIES:Study
ATTACH;FMTTYPE=image/jpeg:https://www.unitycenterdc.org/wp-content/uploads/2016/01/ACIM.jpg
GEO:38.9228637;-77.0720087
END:VEVENT
BEGIN:VEVENT
DTSTART;TZID=America/New_York:20190519T123000
DTEND;TZID=America/New_York:20190519T133000
DTSTAMP:20260424T051510
CREATED:20190506T221100Z
LAST-MODIFIED:20190829T234311Z
UID:10000775-1558269000-1558272600@www.unitycenterdc.org
SUMMARY:A Course in Miracles Study Group
DESCRIPTION:Each Sunday our A Course in Miracles reading group meets for approximately an hour after the regular service at 12:30 pm – 1:30 pm. Anyone may attend the group; you need no prior experience. If you have a book\, bring it and\, if not\, you are welcome to use one of ours. We offer an informal gathering place for reading and discussion.
URL:https://www.unitycenterdc.org/calendar/a-course-in-miracles-study-group/2019-05-19/
LOCATION:Unity Center DC on Zoom\, Washington\, DC\, 20007
CATEGORIES:Study
ATTACH;FMTTYPE=image/jpeg:https://www.unitycenterdc.org/wp-content/uploads/2016/01/ACIM.jpg
GEO:38.9228637;-77.0720087
END:VEVENT
BEGIN:VEVENT
DTSTART;TZID=America/New_York:20190526T123000
DTEND;TZID=America/New_York:20190526T133000
DTSTAMP:20260424T051510
CREATED:20190506T221100Z
LAST-MODIFIED:20190829T234311Z
UID:10000776-1558873800-1558877400@www.unitycenterdc.org
SUMMARY:A Course in Miracles Study Group
DESCRIPTION:Each Sunday our A Course in Miracles reading group meets for approximately an hour after the regular service at 12:30 pm – 1:30 pm. Anyone may attend the group; you need no prior experience. If you have a book\, bring it and\, if not\, you are welcome to use one of ours. We offer an informal gathering place for reading and discussion.
URL:https://www.unitycenterdc.org/calendar/a-course-in-miracles-study-group/2019-05-26/
LOCATION:Unity Center DC on Zoom\, Washington\, DC\, 20007
CATEGORIES:Study
ATTACH;FMTTYPE=image/jpeg:https://www.unitycenterdc.org/wp-content/uploads/2016/01/ACIM.jpg
GEO:38.9228637;-77.0720087
END:VEVENT
BEGIN:VEVENT
DTSTART;TZID=America/New_York:20190602T123000
DTEND;TZID=America/New_York:20190602T133000
DTSTAMP:20260424T051510
CREATED:20190506T221100Z
LAST-MODIFIED:20190829T234311Z
UID:10000777-1559478600-1559482200@www.unitycenterdc.org
SUMMARY:A Course in Miracles Study Group
DESCRIPTION:Each Sunday our A Course in Miracles reading group meets for approximately an hour after the regular service at 12:30 pm – 1:30 pm. Anyone may attend the group; you need no prior experience. If you have a book\, bring it and\, if not\, you are welcome to use one of ours. We offer an informal gathering place for reading and discussion.
URL:https://www.unitycenterdc.org/calendar/a-course-in-miracles-study-group/2019-06-02/
LOCATION:Unity Center DC on Zoom\, Washington\, DC\, 20007
CATEGORIES:Study
ATTACH;FMTTYPE=image/jpeg:https://www.unitycenterdc.org/wp-content/uploads/2016/01/ACIM.jpg
GEO:38.9228637;-77.0720087
END:VEVENT
BEGIN:VEVENT
DTSTART;TZID=America/New_York:20190609T123000
DTEND;TZID=America/New_York:20190609T133000
DTSTAMP:20260424T051510
CREATED:20190506T221100Z
LAST-MODIFIED:20190829T234311Z
UID:10000778-1560083400-1560087000@www.unitycenterdc.org
SUMMARY:A Course in Miracles Study Group
DESCRIPTION:Each Sunday our A Course in Miracles reading group meets for approximately an hour after the regular service at 12:30 pm – 1:30 pm. Anyone may attend the group; you need no prior experience. If you have a book\, bring it and\, if not\, you are welcome to use one of ours. We offer an informal gathering place for reading and discussion.
URL:https://www.unitycenterdc.org/calendar/a-course-in-miracles-study-group/2019-06-09/
LOCATION:Unity Center DC on Zoom\, Washington\, DC\, 20007
CATEGORIES:Study
ATTACH;FMTTYPE=image/jpeg:https://www.unitycenterdc.org/wp-content/uploads/2016/01/ACIM.jpg
GEO:38.9228637;-77.0720087
END:VEVENT
BEGIN:VEVENT
DTSTART;TZID=America/New_York:20190616T123000
DTEND;TZID=America/New_York:20190616T133000
DTSTAMP:20260424T051510
CREATED:20190506T221100Z
LAST-MODIFIED:20190829T234311Z
UID:10000779-1560688200-1560691800@www.unitycenterdc.org
SUMMARY:A Course in Miracles Study Group
DESCRIPTION:Each Sunday our A Course in Miracles reading group meets for approximately an hour after the regular service at 12:30 pm – 1:30 pm. Anyone may attend the group; you need no prior experience. If you have a book\, bring it and\, if not\, you are welcome to use one of ours. We offer an informal gathering place for reading and discussion.
URL:https://www.unitycenterdc.org/calendar/a-course-in-miracles-study-group/2019-06-16/
LOCATION:Unity Center DC on Zoom\, Washington\, DC\, 20007
CATEGORIES:Study
ATTACH;FMTTYPE=image/jpeg:https://www.unitycenterdc.org/wp-content/uploads/2016/01/ACIM.jpg
GEO:38.9228637;-77.0720087
END:VEVENT
BEGIN:VEVENT
DTSTART;TZID=America/New_York:20190623T123000
DTEND;TZID=America/New_York:20190623T133000
DTSTAMP:20260424T051510
CREATED:20190506T221100Z
LAST-MODIFIED:20190829T234311Z
UID:10000780-1561293000-1561296600@www.unitycenterdc.org
SUMMARY:A Course in Miracles Study Group
DESCRIPTION:Each Sunday our A Course in Miracles reading group meets for approximately an hour after the regular service at 12:30 pm – 1:30 pm. Anyone may attend the group; you need no prior experience. If you have a book\, bring it and\, if not\, you are welcome to use one of ours. We offer an informal gathering place for reading and discussion.
URL:https://www.unitycenterdc.org/calendar/a-course-in-miracles-study-group/2019-06-23/
LOCATION:Unity Center DC on Zoom\, Washington\, DC\, 20007
CATEGORIES:Study
ATTACH;FMTTYPE=image/jpeg:https://www.unitycenterdc.org/wp-content/uploads/2016/01/ACIM.jpg
GEO:38.9228637;-77.0720087
END:VEVENT
BEGIN:VEVENT
DTSTART;TZID=America/New_York:20190630T123000
DTEND;TZID=America/New_York:20190630T133000
DTSTAMP:20260424T051510
CREATED:20190506T221100Z
LAST-MODIFIED:20190829T234311Z
UID:10000781-1561897800-1561901400@www.unitycenterdc.org
SUMMARY:A Course in Miracles Study Group
DESCRIPTION:Each Sunday our A Course in Miracles reading group meets for approximately an hour after the regular service at 12:30 pm – 1:30 pm. Anyone may attend the group; you need no prior experience. If you have a book\, bring it and\, if not\, you are welcome to use one of ours. We offer an informal gathering place for reading and discussion.
URL:https://www.unitycenterdc.org/calendar/a-course-in-miracles-study-group/2019-06-30/
LOCATION:Unity Center DC on Zoom\, Washington\, DC\, 20007
CATEGORIES:Study
ATTACH;FMTTYPE=image/jpeg:https://www.unitycenterdc.org/wp-content/uploads/2016/01/ACIM.jpg
GEO:38.9228637;-77.0720087
END:VEVENT
BEGIN:VEVENT
DTSTART;TZID=America/New_York:20190707T123000
DTEND;TZID=America/New_York:20190707T133000
DTSTAMP:20260424T051510
CREATED:20190506T221100Z
LAST-MODIFIED:20190829T234311Z
UID:10000782-1562502600-1562506200@www.unitycenterdc.org
SUMMARY:A Course in Miracles Study Group
DESCRIPTION:Each Sunday our A Course in Miracles reading group meets for approximately an hour after the regular service at 12:30 pm – 1:30 pm. Anyone may attend the group; you need no prior experience. If you have a book\, bring it and\, if not\, you are welcome to use one of ours. We offer an informal gathering place for reading and discussion.
URL:https://www.unitycenterdc.org/calendar/a-course-in-miracles-study-group/2019-07-07/
LOCATION:Unity Center DC on Zoom\, Washington\, DC\, 20007
CATEGORIES:Study
ATTACH;FMTTYPE=image/jpeg:https://www.unitycenterdc.org/wp-content/uploads/2016/01/ACIM.jpg
GEO:38.9228637;-77.0720087
END:VEVENT
BEGIN:VEVENT
DTSTART;TZID=America/New_York:20190714T123000
DTEND;TZID=America/New_York:20190714T133000
DTSTAMP:20260424T051510
CREATED:20190506T221100Z
LAST-MODIFIED:20190829T234311Z
UID:10000783-1563107400-1563111000@www.unitycenterdc.org
SUMMARY:A Course in Miracles Study Group
DESCRIPTION:Each Sunday our A Course in Miracles reading group meets for approximately an hour after the regular service at 12:30 pm – 1:30 pm. Anyone may attend the group; you need no prior experience. If you have a book\, bring it and\, if not\, you are welcome to use one of ours. We offer an informal gathering place for reading and discussion.
URL:https://www.unitycenterdc.org/calendar/a-course-in-miracles-study-group/2019-07-14/
LOCATION:Unity Center DC on Zoom\, Washington\, DC\, 20007
CATEGORIES:Study
ATTACH;FMTTYPE=image/jpeg:https://www.unitycenterdc.org/wp-content/uploads/2016/01/ACIM.jpg
GEO:38.9228637;-77.0720087
END:VEVENT
BEGIN:VEVENT
DTSTART;TZID=America/New_York:20190721T123000
DTEND;TZID=America/New_York:20190721T133000
DTSTAMP:20260424T051510
CREATED:20190506T221100Z
LAST-MODIFIED:20190829T234311Z
UID:10000784-1563712200-1563715800@www.unitycenterdc.org
SUMMARY:A Course in Miracles Study Group
DESCRIPTION:Each Sunday our A Course in Miracles reading group meets for approximately an hour after the regular service at 12:30 pm – 1:30 pm. Anyone may attend the group; you need no prior experience. If you have a book\, bring it and\, if not\, you are welcome to use one of ours. We offer an informal gathering place for reading and discussion.
URL:https://www.unitycenterdc.org/calendar/a-course-in-miracles-study-group/2019-07-21/
LOCATION:Unity Center DC on Zoom\, Washington\, DC\, 20007
CATEGORIES:Study
ATTACH;FMTTYPE=image/jpeg:https://www.unitycenterdc.org/wp-content/uploads/2016/01/ACIM.jpg
GEO:38.9228637;-77.0720087
END:VEVENT
BEGIN:VEVENT
DTSTART;TZID=America/New_York:20190728T123000
DTEND;TZID=America/New_York:20190728T133000
DTSTAMP:20260424T051510
CREATED:20190506T221100Z
LAST-MODIFIED:20190829T234311Z
UID:10000785-1564317000-1564320600@www.unitycenterdc.org
SUMMARY:A Course in Miracles Study Group
DESCRIPTION:Each Sunday our A Course in Miracles reading group meets for approximately an hour after the regular service at 12:30 pm – 1:30 pm. Anyone may attend the group; you need no prior experience. If you have a book\, bring it and\, if not\, you are welcome to use one of ours. We offer an informal gathering place for reading and discussion.
URL:https://www.unitycenterdc.org/calendar/a-course-in-miracles-study-group/2019-07-28/
LOCATION:Unity Center DC on Zoom\, Washington\, DC\, 20007
CATEGORIES:Study
ATTACH;FMTTYPE=image/jpeg:https://www.unitycenterdc.org/wp-content/uploads/2016/01/ACIM.jpg
GEO:38.9228637;-77.0720087
END:VEVENT
BEGIN:VEVENT
DTSTART;TZID=America/New_York:20190804T123000
DTEND;TZID=America/New_York:20190804T133000
DTSTAMP:20260424T051510
CREATED:20190506T221100Z
LAST-MODIFIED:20190829T234311Z
UID:10000786-1564921800-1564925400@www.unitycenterdc.org
SUMMARY:A Course in Miracles Study Group
DESCRIPTION:Each Sunday our A Course in Miracles reading group meets for approximately an hour after the regular service at 12:30 pm – 1:30 pm. Anyone may attend the group; you need no prior experience. If you have a book\, bring it and\, if not\, you are welcome to use one of ours. We offer an informal gathering place for reading and discussion.
URL:https://www.unitycenterdc.org/calendar/a-course-in-miracles-study-group/2019-08-04/
LOCATION:Unity Center DC on Zoom\, Washington\, DC\, 20007
CATEGORIES:Study
ATTACH;FMTTYPE=image/jpeg:https://www.unitycenterdc.org/wp-content/uploads/2016/01/ACIM.jpg
GEO:38.9228637;-77.0720087
END:VEVENT
BEGIN:VEVENT
DTSTART;TZID=America/New_York:20190811T123000
DTEND;TZID=America/New_York:20190811T133000
DTSTAMP:20260424T051510
CREATED:20190506T221100Z
LAST-MODIFIED:20190829T234311Z
UID:10000787-1565526600-1565530200@www.unitycenterdc.org
SUMMARY:A Course in Miracles Study Group
DESCRIPTION:Each Sunday our A Course in Miracles reading group meets for approximately an hour after the regular service at 12:30 pm – 1:30 pm. Anyone may attend the group; you need no prior experience. If you have a book\, bring it and\, if not\, you are welcome to use one of ours. We offer an informal gathering place for reading and discussion.
URL:https://www.unitycenterdc.org/calendar/a-course-in-miracles-study-group/2019-08-11/
LOCATION:Unity Center DC on Zoom\, Washington\, DC\, 20007
CATEGORIES:Study
ATTACH;FMTTYPE=image/jpeg:https://www.unitycenterdc.org/wp-content/uploads/2016/01/ACIM.jpg
GEO:38.9228637;-77.0720087
END:VEVENT
BEGIN:VEVENT
DTSTART;TZID=America/New_York:20190818T123000
DTEND;TZID=America/New_York:20190818T133000
DTSTAMP:20260424T051510
CREATED:20190506T221100Z
LAST-MODIFIED:20190829T234311Z
UID:10000788-1566131400-1566135000@www.unitycenterdc.org
SUMMARY:A Course in Miracles Study Group
DESCRIPTION:Each Sunday our A Course in Miracles reading group meets for approximately an hour after the regular service at 12:30 pm – 1:30 pm. Anyone may attend the group; you need no prior experience. If you have a book\, bring it and\, if not\, you are welcome to use one of ours. We offer an informal gathering place for reading and discussion.
URL:https://www.unitycenterdc.org/calendar/a-course-in-miracles-study-group/2019-08-18/
LOCATION:Unity Center DC on Zoom\, Washington\, DC\, 20007
CATEGORIES:Study
ATTACH;FMTTYPE=image/jpeg:https://www.unitycenterdc.org/wp-content/uploads/2016/01/ACIM.jpg
GEO:38.9228637;-77.0720087
END:VEVENT
BEGIN:VEVENT
DTSTART;TZID=America/New_York:20190825T123000
DTEND;TZID=America/New_York:20190825T133000
DTSTAMP:20260424T051510
CREATED:20190506T221100Z
LAST-MODIFIED:20190829T234311Z
UID:10000789-1566736200-1566739800@www.unitycenterdc.org
SUMMARY:A Course in Miracles Study Group
DESCRIPTION:Each Sunday our A Course in Miracles reading group meets for approximately an hour after the regular service at 12:30 pm – 1:30 pm. Anyone may attend the group; you need no prior experience. If you have a book\, bring it and\, if not\, you are welcome to use one of ours. We offer an informal gathering place for reading and discussion.
URL:https://www.unitycenterdc.org/calendar/a-course-in-miracles-study-group/2019-08-25/
LOCATION:Unity Center DC on Zoom\, Washington\, DC\, 20007
CATEGORIES:Study
ATTACH;FMTTYPE=image/jpeg:https://www.unitycenterdc.org/wp-content/uploads/2016/01/ACIM.jpg
GEO:38.9228637;-77.0720087
END:VEVENT
BEGIN:VEVENT
DTSTART;TZID=America/New_York:20190901T123000
DTEND;TZID=America/New_York:20190901T133000
DTSTAMP:20260424T051510
CREATED:20190506T221100Z
LAST-MODIFIED:20190829T234311Z
UID:10000790-1567341000-1567344600@www.unitycenterdc.org
SUMMARY:A Course in Miracles Study Group
DESCRIPTION:Each Sunday our A Course in Miracles reading group meets for approximately an hour after the regular service at 12:30 pm – 1:30 pm. Anyone may attend the group; you need no prior experience. If you have a book\, bring it and\, if not\, you are welcome to use one of ours. We offer an informal gathering place for reading and discussion.
URL:https://www.unitycenterdc.org/calendar/a-course-in-miracles-study-group/2019-09-01/
LOCATION:Unity Center DC on Zoom\, Washington\, DC\, 20007
CATEGORIES:Study
ATTACH;FMTTYPE=image/jpeg:https://www.unitycenterdc.org/wp-content/uploads/2016/01/ACIM.jpg
GEO:38.9228637;-77.0720087
END:VEVENT
BEGIN:VEVENT
DTSTART;TZID=America/New_York:20190908T123000
DTEND;TZID=America/New_York:20190908T133000
DTSTAMP:20260424T051510
CREATED:20190506T221100Z
LAST-MODIFIED:20190829T234311Z
UID:10000791-1567945800-1567949400@www.unitycenterdc.org
SUMMARY:A Course in Miracles Study Group
DESCRIPTION:Each Sunday our A Course in Miracles reading group meets for approximately an hour after the regular service at 12:30 pm – 1:30 pm. Anyone may attend the group; you need no prior experience. If you have a book\, bring it and\, if not\, you are welcome to use one of ours. We offer an informal gathering place for reading and discussion.
URL:https://www.unitycenterdc.org/calendar/a-course-in-miracles-study-group/2019-09-08/
LOCATION:Unity Center DC on Zoom\, Washington\, DC\, 20007
CATEGORIES:Study
ATTACH;FMTTYPE=image/jpeg:https://www.unitycenterdc.org/wp-content/uploads/2016/01/ACIM.jpg
GEO:38.9228637;-77.0720087
END:VEVENT
BEGIN:VEVENT
DTSTART;TZID=America/New_York:20190915T123000
DTEND;TZID=America/New_York:20190915T133000
DTSTAMP:20260424T051510
CREATED:20190506T221100Z
LAST-MODIFIED:20190829T234311Z
UID:10000792-1568550600-1568554200@www.unitycenterdc.org
SUMMARY:A Course in Miracles Study Group
DESCRIPTION:Each Sunday our A Course in Miracles reading group meets for approximately an hour after the regular service at 12:30 pm – 1:30 pm. Anyone may attend the group; you need no prior experience. If you have a book\, bring it and\, if not\, you are welcome to use one of ours. We offer an informal gathering place for reading and discussion.
URL:https://www.unitycenterdc.org/calendar/a-course-in-miracles-study-group/2019-09-15/
LOCATION:Unity Center DC on Zoom\, Washington\, DC\, 20007
CATEGORIES:Study
ATTACH;FMTTYPE=image/jpeg:https://www.unitycenterdc.org/wp-content/uploads/2016/01/ACIM.jpg
GEO:38.9228637;-77.0720087
END:VEVENT
BEGIN:VEVENT
DTSTART;TZID=America/New_York:20190922T123000
DTEND;TZID=America/New_York:20190922T133000
DTSTAMP:20260424T051510
CREATED:20190506T221100Z
LAST-MODIFIED:20190829T234311Z
UID:10000793-1569155400-1569159000@www.unitycenterdc.org
SUMMARY:A Course in Miracles Study Group
DESCRIPTION:Each Sunday our A Course in Miracles reading group meets for approximately an hour after the regular service at 12:30 pm – 1:30 pm. Anyone may attend the group; you need no prior experience. If you have a book\, bring it and\, if not\, you are welcome to use one of ours. We offer an informal gathering place for reading and discussion.
URL:https://www.unitycenterdc.org/calendar/a-course-in-miracles-study-group/2019-09-22/
LOCATION:Unity Center DC on Zoom\, Washington\, DC\, 20007
CATEGORIES:Study
ATTACH;FMTTYPE=image/jpeg:https://www.unitycenterdc.org/wp-content/uploads/2016/01/ACIM.jpg
GEO:38.9228637;-77.0720087
END:VEVENT
BEGIN:VEVENT
DTSTART;TZID=America/New_York:20190929T123000
DTEND;TZID=America/New_York:20190929T133000
DTSTAMP:20260424T051510
CREATED:20190506T221100Z
LAST-MODIFIED:20190829T234311Z
UID:10000794-1569760200-1569763800@www.unitycenterdc.org
SUMMARY:A Course in Miracles Study Group
DESCRIPTION:Each Sunday our A Course in Miracles reading group meets for approximately an hour after the regular service at 12:30 pm – 1:30 pm. Anyone may attend the group; you need no prior experience. If you have a book\, bring it and\, if not\, you are welcome to use one of ours. We offer an informal gathering place for reading and discussion.
URL:https://www.unitycenterdc.org/calendar/a-course-in-miracles-study-group/2019-09-29/
LOCATION:Unity Center DC on Zoom\, Washington\, DC\, 20007
CATEGORIES:Study
ATTACH;FMTTYPE=image/jpeg:https://www.unitycenterdc.org/wp-content/uploads/2016/01/ACIM.jpg
GEO:38.9228637;-77.0720087
END:VEVENT
BEGIN:VEVENT
DTSTART;TZID=America/New_York:20191006T123000
DTEND;TZID=America/New_York:20191006T133000
DTSTAMP:20260424T051510
CREATED:20190506T221100Z
LAST-MODIFIED:20190829T234311Z
UID:10000795-1570365000-1570368600@www.unitycenterdc.org
SUMMARY:A Course in Miracles Study Group
DESCRIPTION:Each Sunday our A Course in Miracles reading group meets for approximately an hour after the regular service at 12:30 pm – 1:30 pm. Anyone may attend the group; you need no prior experience. If you have a book\, bring it and\, if not\, you are welcome to use one of ours. We offer an informal gathering place for reading and discussion.
URL:https://www.unitycenterdc.org/calendar/a-course-in-miracles-study-group/2019-10-06/
LOCATION:Unity Center DC on Zoom\, Washington\, DC\, 20007
CATEGORIES:Study
ATTACH;FMTTYPE=image/jpeg:https://www.unitycenterdc.org/wp-content/uploads/2016/01/ACIM.jpg
GEO:38.9228637;-77.0720087
END:VEVENT
BEGIN:VEVENT
DTSTART;TZID=America/New_York:20191013T123000
DTEND;TZID=America/New_York:20191013T133000
DTSTAMP:20260424T051510
CREATED:20190506T221100Z
LAST-MODIFIED:20190829T234311Z
UID:10000796-1570969800-1570973400@www.unitycenterdc.org
SUMMARY:A Course in Miracles Study Group
DESCRIPTION:Each Sunday our A Course in Miracles reading group meets for approximately an hour after the regular service at 12:30 pm – 1:30 pm. Anyone may attend the group; you need no prior experience. If you have a book\, bring it and\, if not\, you are welcome to use one of ours. We offer an informal gathering place for reading and discussion.
URL:https://www.unitycenterdc.org/calendar/a-course-in-miracles-study-group/2019-10-13/
LOCATION:Unity Center DC on Zoom\, Washington\, DC\, 20007
CATEGORIES:Study
ATTACH;FMTTYPE=image/jpeg:https://www.unitycenterdc.org/wp-content/uploads/2016/01/ACIM.jpg
GEO:38.9228637;-77.0720087
END:VEVENT
END:VCALENDAR