BEGIN:VCALENDAR
VERSION:2.0
PRODID:-//Unity Center DC - ECPv6.15.20//NONSGML v1.0//EN
CALSCALE:GREGORIAN
METHOD:PUBLISH
X-WR-CALNAME:Unity Center DC
X-ORIGINAL-URL:https://www.unitycenterdc.org
X-WR-CALDESC:Events for Unity Center DC
REFRESH-INTERVAL;VALUE=DURATION:PT1H
X-Robots-Tag:noindex
X-PUBLISHED-TTL:PT1H
BEGIN:VTIMEZONE
TZID:America/New_York
BEGIN:DAYLIGHT
TZOFFSETFROM:-0500
TZOFFSETTO:-0400
TZNAME:EDT
DTSTART:20220313T070000
END:DAYLIGHT
BEGIN:STANDARD
TZOFFSETFROM:-0400
TZOFFSETTO:-0500
TZNAME:EST
DTSTART:20221106T060000
END:STANDARD
BEGIN:DAYLIGHT
TZOFFSETFROM:-0500
TZOFFSETTO:-0400
TZNAME:EDT
DTSTART:20230312T070000
END:DAYLIGHT
BEGIN:STANDARD
TZOFFSETFROM:-0400
TZOFFSETTO:-0500
TZNAME:EST
DTSTART:20231105T060000
END:STANDARD
BEGIN:DAYLIGHT
TZOFFSETFROM:-0500
TZOFFSETTO:-0400
TZNAME:EDT
DTSTART:20240310T070000
END:DAYLIGHT
BEGIN:STANDARD
TZOFFSETFROM:-0400
TZOFFSETTO:-0500
TZNAME:EST
DTSTART:20241103T060000
END:STANDARD
BEGIN:DAYLIGHT
TZOFFSETFROM:-0500
TZOFFSETTO:-0400
TZNAME:EDT
DTSTART:20250309T070000
END:DAYLIGHT
BEGIN:STANDARD
TZOFFSETFROM:-0400
TZOFFSETTO:-0500
TZNAME:EST
DTSTART:20251102T060000
END:STANDARD
END:VTIMEZONE
BEGIN:VEVENT
DTSTART;TZID=America/New_York:20240124T193000
DTEND;TZID=America/New_York:20240124T203000
DTSTAMP:20260423T232006
CREATED:20231231T180930Z
LAST-MODIFIED:20231231T181021Z
UID:10001776-1706124600-1706128200@www.unitycenterdc.org
SUMMARY:A Course in Miracles Wednesday Study Group
DESCRIPTION:Our ACIM Study Group meets Wednesday\, 7:30PM to 8:30PM. We welcome Course students of all levels. We read from the Text with discussion as desired. \nACIM Wednesdays 7:30-8:30PM\nJoin Zoom Meeting\nhttps://us02web.zoom.us/j/81683083429?pwd=MXhaTjBZUTJyRlRaSFF6VnNLTHB4Zz09\nMeeting ID: 816 8308 3429\nPassword: 761662\nPhone: 1-301-715-8592
URL:https://www.unitycenterdc.org/calendar/a-course-in-miracles-wednesday-study-group-3-2/2024-01-24/
LOCATION:Unity Center DC on Zoom\, Washington\, DC\, 20007
CATEGORIES:Study
ATTACH;FMTTYPE=image/jpeg:https://www.unitycenterdc.org/wp-content/uploads/2016/01/ACIM.jpg
GEO:38.9228637;-77.0720087
END:VEVENT
BEGIN:VEVENT
DTSTART;TZID=America/New_York:20240117T193000
DTEND;TZID=America/New_York:20240117T203000
DTSTAMP:20260423T232006
CREATED:20231231T180930Z
LAST-MODIFIED:20231231T181021Z
UID:10001775-1705519800-1705523400@www.unitycenterdc.org
SUMMARY:A Course in Miracles Wednesday Study Group
DESCRIPTION:Our ACIM Study Group meets Wednesday\, 7:30PM to 8:30PM. We welcome Course students of all levels. We read from the Text with discussion as desired. \nACIM Wednesdays 7:30-8:30PM\nJoin Zoom Meeting\nhttps://us02web.zoom.us/j/81683083429?pwd=MXhaTjBZUTJyRlRaSFF6VnNLTHB4Zz09\nMeeting ID: 816 8308 3429\nPassword: 761662\nPhone: 1-301-715-8592
URL:https://www.unitycenterdc.org/calendar/a-course-in-miracles-wednesday-study-group-3-2/2024-01-17/
LOCATION:Unity Center DC on Zoom\, Washington\, DC\, 20007
CATEGORIES:Study
ATTACH;FMTTYPE=image/jpeg:https://www.unitycenterdc.org/wp-content/uploads/2016/01/ACIM.jpg
GEO:38.9228637;-77.0720087
END:VEVENT
BEGIN:VEVENT
DTSTART;TZID=America/New_York:20240110T193000
DTEND;TZID=America/New_York:20240110T203000
DTSTAMP:20260423T232006
CREATED:20231231T180930Z
LAST-MODIFIED:20231231T181021Z
UID:10001774-1704915000-1704918600@www.unitycenterdc.org
SUMMARY:A Course in Miracles Wednesday Study Group
DESCRIPTION:Our ACIM Study Group meets Wednesday\, 7:30PM to 8:30PM. We welcome Course students of all levels. We read from the Text with discussion as desired. \nACIM Wednesdays 7:30-8:30PM\nJoin Zoom Meeting\nhttps://us02web.zoom.us/j/81683083429?pwd=MXhaTjBZUTJyRlRaSFF6VnNLTHB4Zz09\nMeeting ID: 816 8308 3429\nPassword: 761662\nPhone: 1-301-715-8592
URL:https://www.unitycenterdc.org/calendar/a-course-in-miracles-wednesday-study-group-3-2/2024-01-10/
LOCATION:Unity Center DC on Zoom\, Washington\, DC\, 20007
CATEGORIES:Study
ATTACH;FMTTYPE=image/jpeg:https://www.unitycenterdc.org/wp-content/uploads/2016/01/ACIM.jpg
GEO:38.9228637;-77.0720087
END:VEVENT
BEGIN:VEVENT
DTSTART;TZID=America/New_York:20240103T193000
DTEND;TZID=America/New_York:20240103T203000
DTSTAMP:20260423T232006
CREATED:20231231T180930Z
LAST-MODIFIED:20231231T181021Z
UID:10001773-1704310200-1704313800@www.unitycenterdc.org
SUMMARY:A Course in Miracles Wednesday Study Group
DESCRIPTION:Our ACIM Study Group meets Wednesday\, 7:30PM to 8:30PM. We welcome Course students of all levels. We read from the Text with discussion as desired. \nACIM Wednesdays 7:30-8:30PM\nJoin Zoom Meeting\nhttps://us02web.zoom.us/j/81683083429?pwd=MXhaTjBZUTJyRlRaSFF6VnNLTHB4Zz09\nMeeting ID: 816 8308 3429\nPassword: 761662\nPhone: 1-301-715-8592
URL:https://www.unitycenterdc.org/calendar/a-course-in-miracles-wednesday-study-group-3-2/2024-01-03/
LOCATION:Unity Center DC on Zoom\, Washington\, DC\, 20007
CATEGORIES:Study
ATTACH;FMTTYPE=image/jpeg:https://www.unitycenterdc.org/wp-content/uploads/2016/01/ACIM.jpg
GEO:38.9228637;-77.0720087
END:VEVENT
BEGIN:VEVENT
DTSTART;TZID=America/New_York:20231227T193000
DTEND;TZID=America/New_York:20231227T203000
DTSTAMP:20260423T232006
CREATED:20231231T180930Z
LAST-MODIFIED:20231231T181021Z
UID:10001716-1703705400-1703709000@www.unitycenterdc.org
SUMMARY:A Course in Miracles Wednesday Study Group
DESCRIPTION:Our ACIM Study Group meets Wednesday\, 7:30PM to 8:30PM. We welcome Course students of all levels. We read from the Text with discussion as desired. \nACIM Wednesdays 7:30-8:30PM\nJoin Zoom Meeting\nhttps://us02web.zoom.us/j/81683083429?pwd=MXhaTjBZUTJyRlRaSFF6VnNLTHB4Zz09\nMeeting ID: 816 8308 3429\nPassword: 761662\nPhone: 1-301-715-8592
URL:https://www.unitycenterdc.org/calendar/a-course-in-miracles-wednesday-study-group-3-2/2023-12-27/
LOCATION:Unity Center DC on Zoom\, Washington\, DC\, 20007
CATEGORIES:Study
ATTACH;FMTTYPE=image/jpeg:https://www.unitycenterdc.org/wp-content/uploads/2016/01/ACIM.jpg
GEO:38.9228637;-77.0720087
END:VEVENT
BEGIN:VEVENT
DTSTART;TZID=America/New_York:20231220T193000
DTEND;TZID=America/New_York:20231220T203000
DTSTAMP:20260423T232006
CREATED:20230831T145644Z
LAST-MODIFIED:20230831T150231Z
UID:10001715-1703100600-1703104200@www.unitycenterdc.org
SUMMARY:A Course in Miracles Wednesday Study Group
DESCRIPTION:Our ACIM Study Group meets Wednesday\, 7:30PM to 8:30PM. We welcome Course students of all levels. We read from the Text with discussion as desired. \nACIM Wednesdays 7:30-8:30PM\nJoin Zoom Meeting\nhttps://us02web.zoom.us/j/81683083429?pwd=MXhaTjBZUTJyRlRaSFF6VnNLTHB4Zz09\nMeeting ID: 816 8308 3429\nPassword: 761662\nPhone: 1-301-715-8592
URL:https://www.unitycenterdc.org/calendar/a-course-in-miracles-wednesday-study-group-3/2023-12-20/
LOCATION:Unity Center DC on Zoom\, Washington\, DC\, 20007
CATEGORIES:Study
ATTACH;FMTTYPE=image/jpeg:https://www.unitycenterdc.org/wp-content/uploads/2016/01/ACIM.jpg
GEO:38.9228637;-77.0720087
END:VEVENT
BEGIN:VEVENT
DTSTART;TZID=America/New_York:20231213T193000
DTEND;TZID=America/New_York:20231213T203000
DTSTAMP:20260423T232006
CREATED:20230831T145644Z
LAST-MODIFIED:20230831T150231Z
UID:10001714-1702495800-1702499400@www.unitycenterdc.org
SUMMARY:A Course in Miracles Wednesday Study Group
DESCRIPTION:Our ACIM Study Group meets Wednesday\, 7:30PM to 8:30PM. We welcome Course students of all levels. We read from the Text with discussion as desired. \nACIM Wednesdays 7:30-8:30PM\nJoin Zoom Meeting\nhttps://us02web.zoom.us/j/81683083429?pwd=MXhaTjBZUTJyRlRaSFF6VnNLTHB4Zz09\nMeeting ID: 816 8308 3429\nPassword: 761662\nPhone: 1-301-715-8592
URL:https://www.unitycenterdc.org/calendar/a-course-in-miracles-wednesday-study-group-3/2023-12-13/
LOCATION:Unity Center DC on Zoom\, Washington\, DC\, 20007
CATEGORIES:Study
ATTACH;FMTTYPE=image/jpeg:https://www.unitycenterdc.org/wp-content/uploads/2016/01/ACIM.jpg
GEO:38.9228637;-77.0720087
END:VEVENT
BEGIN:VEVENT
DTSTART;TZID=America/New_York:20231206T193000
DTEND;TZID=America/New_York:20231206T203000
DTSTAMP:20260423T232006
CREATED:20230831T145644Z
LAST-MODIFIED:20230831T150231Z
UID:10001713-1701891000-1701894600@www.unitycenterdc.org
SUMMARY:A Course in Miracles Wednesday Study Group
DESCRIPTION:Our ACIM Study Group meets Wednesday\, 7:30PM to 8:30PM. We welcome Course students of all levels. We read from the Text with discussion as desired. \nACIM Wednesdays 7:30-8:30PM\nJoin Zoom Meeting\nhttps://us02web.zoom.us/j/81683083429?pwd=MXhaTjBZUTJyRlRaSFF6VnNLTHB4Zz09\nMeeting ID: 816 8308 3429\nPassword: 761662\nPhone: 1-301-715-8592
URL:https://www.unitycenterdc.org/calendar/a-course-in-miracles-wednesday-study-group-3/2023-12-06/
LOCATION:Unity Center DC on Zoom\, Washington\, DC\, 20007
CATEGORIES:Study
ATTACH;FMTTYPE=image/jpeg:https://www.unitycenterdc.org/wp-content/uploads/2016/01/ACIM.jpg
GEO:38.9228637;-77.0720087
END:VEVENT
BEGIN:VEVENT
DTSTART;TZID=America/New_York:20231129T193000
DTEND;TZID=America/New_York:20231129T203000
DTSTAMP:20260423T232006
CREATED:20230831T145644Z
LAST-MODIFIED:20230831T150231Z
UID:10001712-1701286200-1701289800@www.unitycenterdc.org
SUMMARY:A Course in Miracles Wednesday Study Group
DESCRIPTION:Our ACIM Study Group meets Wednesday\, 7:30PM to 8:30PM. We welcome Course students of all levels. We read from the Text with discussion as desired. \nACIM Wednesdays 7:30-8:30PM\nJoin Zoom Meeting\nhttps://us02web.zoom.us/j/81683083429?pwd=MXhaTjBZUTJyRlRaSFF6VnNLTHB4Zz09\nMeeting ID: 816 8308 3429\nPassword: 761662\nPhone: 1-301-715-8592
URL:https://www.unitycenterdc.org/calendar/a-course-in-miracles-wednesday-study-group-3/2023-11-29/
LOCATION:Unity Center DC on Zoom\, Washington\, DC\, 20007
CATEGORIES:Study
ATTACH;FMTTYPE=image/jpeg:https://www.unitycenterdc.org/wp-content/uploads/2016/01/ACIM.jpg
GEO:38.9228637;-77.0720087
END:VEVENT
BEGIN:VEVENT
DTSTART;TZID=America/New_York:20231122T193000
DTEND;TZID=America/New_York:20231122T203000
DTSTAMP:20260423T232006
CREATED:20230831T145644Z
LAST-MODIFIED:20230831T150231Z
UID:10001711-1700681400-1700685000@www.unitycenterdc.org
SUMMARY:A Course in Miracles Wednesday Study Group
DESCRIPTION:Our ACIM Study Group meets Wednesday\, 7:30PM to 8:30PM. We welcome Course students of all levels. We read from the Text with discussion as desired. \nACIM Wednesdays 7:30-8:30PM\nJoin Zoom Meeting\nhttps://us02web.zoom.us/j/81683083429?pwd=MXhaTjBZUTJyRlRaSFF6VnNLTHB4Zz09\nMeeting ID: 816 8308 3429\nPassword: 761662\nPhone: 1-301-715-8592
URL:https://www.unitycenterdc.org/calendar/a-course-in-miracles-wednesday-study-group-3/2023-11-22/
LOCATION:Unity Center DC on Zoom\, Washington\, DC\, 20007
CATEGORIES:Study
ATTACH;FMTTYPE=image/jpeg:https://www.unitycenterdc.org/wp-content/uploads/2016/01/ACIM.jpg
GEO:38.9228637;-77.0720087
END:VEVENT
BEGIN:VEVENT
DTSTART;TZID=America/New_York:20231115T193000
DTEND;TZID=America/New_York:20231115T203000
DTSTAMP:20260423T232006
CREATED:20230831T145644Z
LAST-MODIFIED:20230831T150231Z
UID:10001710-1700076600-1700080200@www.unitycenterdc.org
SUMMARY:A Course in Miracles Wednesday Study Group
DESCRIPTION:Our ACIM Study Group meets Wednesday\, 7:30PM to 8:30PM. We welcome Course students of all levels. We read from the Text with discussion as desired. \nACIM Wednesdays 7:30-8:30PM\nJoin Zoom Meeting\nhttps://us02web.zoom.us/j/81683083429?pwd=MXhaTjBZUTJyRlRaSFF6VnNLTHB4Zz09\nMeeting ID: 816 8308 3429\nPassword: 761662\nPhone: 1-301-715-8592
URL:https://www.unitycenterdc.org/calendar/a-course-in-miracles-wednesday-study-group-3/2023-11-15/
LOCATION:Unity Center DC on Zoom\, Washington\, DC\, 20007
CATEGORIES:Study
ATTACH;FMTTYPE=image/jpeg:https://www.unitycenterdc.org/wp-content/uploads/2016/01/ACIM.jpg
GEO:38.9228637;-77.0720087
END:VEVENT
BEGIN:VEVENT
DTSTART;TZID=America/New_York:20231108T193000
DTEND;TZID=America/New_York:20231108T203000
DTSTAMP:20260423T232006
CREATED:20230831T145644Z
LAST-MODIFIED:20230831T150231Z
UID:10001709-1699471800-1699475400@www.unitycenterdc.org
SUMMARY:A Course in Miracles Wednesday Study Group
DESCRIPTION:Our ACIM Study Group meets Wednesday\, 7:30PM to 8:30PM. We welcome Course students of all levels. We read from the Text with discussion as desired. \nACIM Wednesdays 7:30-8:30PM\nJoin Zoom Meeting\nhttps://us02web.zoom.us/j/81683083429?pwd=MXhaTjBZUTJyRlRaSFF6VnNLTHB4Zz09\nMeeting ID: 816 8308 3429\nPassword: 761662\nPhone: 1-301-715-8592
URL:https://www.unitycenterdc.org/calendar/a-course-in-miracles-wednesday-study-group-3/2023-11-08/
LOCATION:Unity Center DC on Zoom\, Washington\, DC\, 20007
CATEGORIES:Study
ATTACH;FMTTYPE=image/jpeg:https://www.unitycenterdc.org/wp-content/uploads/2016/01/ACIM.jpg
GEO:38.9228637;-77.0720087
END:VEVENT
BEGIN:VEVENT
DTSTART;TZID=America/New_York:20231101T193000
DTEND;TZID=America/New_York:20231101T203000
DTSTAMP:20260423T232006
CREATED:20230831T145644Z
LAST-MODIFIED:20230831T150231Z
UID:10001708-1698867000-1698870600@www.unitycenterdc.org
SUMMARY:A Course in Miracles Wednesday Study Group
DESCRIPTION:Our ACIM Study Group meets Wednesday\, 7:30PM to 8:30PM. We welcome Course students of all levels. We read from the Text with discussion as desired. \nACIM Wednesdays 7:30-8:30PM\nJoin Zoom Meeting\nhttps://us02web.zoom.us/j/81683083429?pwd=MXhaTjBZUTJyRlRaSFF6VnNLTHB4Zz09\nMeeting ID: 816 8308 3429\nPassword: 761662\nPhone: 1-301-715-8592
URL:https://www.unitycenterdc.org/calendar/a-course-in-miracles-wednesday-study-group-3/2023-11-01/
LOCATION:Unity Center DC on Zoom\, Washington\, DC\, 20007
CATEGORIES:Study
ATTACH;FMTTYPE=image/jpeg:https://www.unitycenterdc.org/wp-content/uploads/2016/01/ACIM.jpg
GEO:38.9228637;-77.0720087
END:VEVENT
BEGIN:VEVENT
DTSTART;TZID=America/New_York:20231025T193000
DTEND;TZID=America/New_York:20231025T203000
DTSTAMP:20260423T232006
CREATED:20230831T145644Z
LAST-MODIFIED:20230831T150231Z
UID:10001707-1698262200-1698265800@www.unitycenterdc.org
SUMMARY:A Course in Miracles Wednesday Study Group
DESCRIPTION:Our ACIM Study Group meets Wednesday\, 7:30PM to 8:30PM. We welcome Course students of all levels. We read from the Text with discussion as desired. \nACIM Wednesdays 7:30-8:30PM\nJoin Zoom Meeting\nhttps://us02web.zoom.us/j/81683083429?pwd=MXhaTjBZUTJyRlRaSFF6VnNLTHB4Zz09\nMeeting ID: 816 8308 3429\nPassword: 761662\nPhone: 1-301-715-8592
URL:https://www.unitycenterdc.org/calendar/a-course-in-miracles-wednesday-study-group-3/2023-10-25/
LOCATION:Unity Center DC on Zoom\, Washington\, DC\, 20007
CATEGORIES:Study
ATTACH;FMTTYPE=image/jpeg:https://www.unitycenterdc.org/wp-content/uploads/2016/01/ACIM.jpg
GEO:38.9228637;-77.0720087
END:VEVENT
BEGIN:VEVENT
DTSTART;TZID=America/New_York:20231018T193000
DTEND;TZID=America/New_York:20231018T203000
DTSTAMP:20260423T232006
CREATED:20230831T145644Z
LAST-MODIFIED:20230831T150231Z
UID:10001706-1697657400-1697661000@www.unitycenterdc.org
SUMMARY:A Course in Miracles Wednesday Study Group
DESCRIPTION:Our ACIM Study Group meets Wednesday\, 7:30PM to 8:30PM. We welcome Course students of all levels. We read from the Text with discussion as desired. \nACIM Wednesdays 7:30-8:30PM\nJoin Zoom Meeting\nhttps://us02web.zoom.us/j/81683083429?pwd=MXhaTjBZUTJyRlRaSFF6VnNLTHB4Zz09\nMeeting ID: 816 8308 3429\nPassword: 761662\nPhone: 1-301-715-8592
URL:https://www.unitycenterdc.org/calendar/a-course-in-miracles-wednesday-study-group-3/2023-10-18/
LOCATION:Unity Center DC on Zoom\, Washington\, DC\, 20007
CATEGORIES:Study
ATTACH;FMTTYPE=image/jpeg:https://www.unitycenterdc.org/wp-content/uploads/2016/01/ACIM.jpg
GEO:38.9228637;-77.0720087
END:VEVENT
BEGIN:VEVENT
DTSTART;TZID=America/New_York:20231011T193000
DTEND;TZID=America/New_York:20231011T203000
DTSTAMP:20260423T232006
CREATED:20230831T145644Z
LAST-MODIFIED:20230831T150231Z
UID:10001705-1697052600-1697056200@www.unitycenterdc.org
SUMMARY:A Course in Miracles Wednesday Study Group
DESCRIPTION:Our ACIM Study Group meets Wednesday\, 7:30PM to 8:30PM. We welcome Course students of all levels. We read from the Text with discussion as desired. \nACIM Wednesdays 7:30-8:30PM\nJoin Zoom Meeting\nhttps://us02web.zoom.us/j/81683083429?pwd=MXhaTjBZUTJyRlRaSFF6VnNLTHB4Zz09\nMeeting ID: 816 8308 3429\nPassword: 761662\nPhone: 1-301-715-8592
URL:https://www.unitycenterdc.org/calendar/a-course-in-miracles-wednesday-study-group-3/2023-10-11/
LOCATION:Unity Center DC on Zoom\, Washington\, DC\, 20007
CATEGORIES:Study
ATTACH;FMTTYPE=image/jpeg:https://www.unitycenterdc.org/wp-content/uploads/2016/01/ACIM.jpg
GEO:38.9228637;-77.0720087
END:VEVENT
BEGIN:VEVENT
DTSTART;TZID=America/New_York:20231004T193000
DTEND;TZID=America/New_York:20231004T203000
DTSTAMP:20260423T232006
CREATED:20230831T145644Z
LAST-MODIFIED:20230831T150231Z
UID:10001704-1696447800-1696451400@www.unitycenterdc.org
SUMMARY:A Course in Miracles Wednesday Study Group
DESCRIPTION:Our ACIM Study Group meets Wednesday\, 7:30PM to 8:30PM. We welcome Course students of all levels. We read from the Text with discussion as desired. \nACIM Wednesdays 7:30-8:30PM\nJoin Zoom Meeting\nhttps://us02web.zoom.us/j/81683083429?pwd=MXhaTjBZUTJyRlRaSFF6VnNLTHB4Zz09\nMeeting ID: 816 8308 3429\nPassword: 761662\nPhone: 1-301-715-8592
URL:https://www.unitycenterdc.org/calendar/a-course-in-miracles-wednesday-study-group-3/2023-10-04/
LOCATION:Unity Center DC on Zoom\, Washington\, DC\, 20007
CATEGORIES:Study
ATTACH;FMTTYPE=image/jpeg:https://www.unitycenterdc.org/wp-content/uploads/2016/01/ACIM.jpg
GEO:38.9228637;-77.0720087
END:VEVENT
BEGIN:VEVENT
DTSTART;TZID=America/New_York:20230927T193000
DTEND;TZID=America/New_York:20230927T203000
DTSTAMP:20260423T232006
CREATED:20230831T145644Z
LAST-MODIFIED:20230831T150231Z
UID:10001703-1695843000-1695846600@www.unitycenterdc.org
SUMMARY:A Course in Miracles Wednesday Study Group
DESCRIPTION:Our ACIM Study Group meets Wednesday\, 7:30PM to 8:30PM. We welcome Course students of all levels. We read from the Text with discussion as desired. \nACIM Wednesdays 7:30-8:30PM\nJoin Zoom Meeting\nhttps://us02web.zoom.us/j/81683083429?pwd=MXhaTjBZUTJyRlRaSFF6VnNLTHB4Zz09\nMeeting ID: 816 8308 3429\nPassword: 761662\nPhone: 1-301-715-8592
URL:https://www.unitycenterdc.org/calendar/a-course-in-miracles-wednesday-study-group-3/2023-09-27/
LOCATION:Unity Center DC on Zoom\, Washington\, DC\, 20007
CATEGORIES:Study
ATTACH;FMTTYPE=image/jpeg:https://www.unitycenterdc.org/wp-content/uploads/2016/01/ACIM.jpg
GEO:38.9228637;-77.0720087
END:VEVENT
BEGIN:VEVENT
DTSTART;TZID=America/New_York:20230920T193000
DTEND;TZID=America/New_York:20230920T203000
DTSTAMP:20260423T232006
CREATED:20230831T145644Z
LAST-MODIFIED:20230831T150231Z
UID:10001702-1695238200-1695241800@www.unitycenterdc.org
SUMMARY:A Course in Miracles Wednesday Study Group
DESCRIPTION:Our ACIM Study Group meets Wednesday\, 7:30PM to 8:30PM. We welcome Course students of all levels. We read from the Text with discussion as desired. \nACIM Wednesdays 7:30-8:30PM\nJoin Zoom Meeting\nhttps://us02web.zoom.us/j/81683083429?pwd=MXhaTjBZUTJyRlRaSFF6VnNLTHB4Zz09\nMeeting ID: 816 8308 3429\nPassword: 761662\nPhone: 1-301-715-8592
URL:https://www.unitycenterdc.org/calendar/a-course-in-miracles-wednesday-study-group-3/2023-09-20/
LOCATION:Unity Center DC on Zoom\, Washington\, DC\, 20007
CATEGORIES:Study
ATTACH;FMTTYPE=image/jpeg:https://www.unitycenterdc.org/wp-content/uploads/2016/01/ACIM.jpg
GEO:38.9228637;-77.0720087
END:VEVENT
BEGIN:VEVENT
DTSTART;TZID=America/New_York:20230913T193000
DTEND;TZID=America/New_York:20230913T203000
DTSTAMP:20260423T232006
CREATED:20230831T145644Z
LAST-MODIFIED:20230831T150231Z
UID:10001701-1694633400-1694637000@www.unitycenterdc.org
SUMMARY:A Course in Miracles Wednesday Study Group
DESCRIPTION:Our ACIM Study Group meets Wednesday\, 7:30PM to 8:30PM. We welcome Course students of all levels. We read from the Text with discussion as desired. \nACIM Wednesdays 7:30-8:30PM\nJoin Zoom Meeting\nhttps://us02web.zoom.us/j/81683083429?pwd=MXhaTjBZUTJyRlRaSFF6VnNLTHB4Zz09\nMeeting ID: 816 8308 3429\nPassword: 761662\nPhone: 1-301-715-8592
URL:https://www.unitycenterdc.org/calendar/a-course-in-miracles-wednesday-study-group-3/2023-09-13/
LOCATION:Unity Center DC on Zoom\, Washington\, DC\, 20007
CATEGORIES:Study
ATTACH;FMTTYPE=image/jpeg:https://www.unitycenterdc.org/wp-content/uploads/2016/01/ACIM.jpg
GEO:38.9228637;-77.0720087
END:VEVENT
BEGIN:VEVENT
DTSTART;TZID=America/New_York:20230906T193000
DTEND;TZID=America/New_York:20230906T203000
DTSTAMP:20260423T232006
CREATED:20230831T145644Z
LAST-MODIFIED:20230831T150231Z
UID:10001700-1694028600-1694032200@www.unitycenterdc.org
SUMMARY:A Course in Miracles Wednesday Study Group
DESCRIPTION:Our ACIM Study Group meets Wednesday\, 7:30PM to 8:30PM. We welcome Course students of all levels. We read from the Text with discussion as desired. \nACIM Wednesdays 7:30-8:30PM\nJoin Zoom Meeting\nhttps://us02web.zoom.us/j/81683083429?pwd=MXhaTjBZUTJyRlRaSFF6VnNLTHB4Zz09\nMeeting ID: 816 8308 3429\nPassword: 761662\nPhone: 1-301-715-8592
URL:https://www.unitycenterdc.org/calendar/a-course-in-miracles-wednesday-study-group-3/2023-09-06/
LOCATION:Unity Center DC on Zoom\, Washington\, DC\, 20007
CATEGORIES:Study
ATTACH;FMTTYPE=image/jpeg:https://www.unitycenterdc.org/wp-content/uploads/2016/01/ACIM.jpg
GEO:38.9228637;-77.0720087
END:VEVENT
BEGIN:VEVENT
DTSTART;TZID=America/New_York:20230607T190000
DTEND;TZID=America/New_York:20230607T200000
DTSTAMP:20260423T232006
CREATED:20230301T175423Z
LAST-MODIFIED:20230301T180106Z
UID:10001560-1686164400-1686168000@www.unitycenterdc.org
SUMMARY:A Course in Miracles Wednesday Study Group
DESCRIPTION:Our ACIM Study Group meeting Sunday\, 12:30PM to 1:30PM and Wednesday\, 7:00PM to 8:00PM. We welcome Course students of all levels. We read from the Text with discussion as desired.  \nACIM Wednesdays 7:00-8:00PM\nJoin Zoom Meeting\nhttps://us02web.zoom.us/j/114822785?pwd=TjBpWC9zSnQxWFZleDhlcVpseUhyUT09\nMeeting ID: 114 822 785\nPassword: 503323\nPhone: 1-301-715-8592
URL:https://www.unitycenterdc.org/calendar/a-course-in-miracles-wednesday-study-group/2023-06-07/
LOCATION:Unity Center DC on Zoom\, Washington\, DC\, 20007
CATEGORIES:Study
ATTACH;FMTTYPE=image/jpeg:https://www.unitycenterdc.org/wp-content/uploads/2016/01/ACIM.jpg
GEO:38.9228637;-77.0720087
END:VEVENT
BEGIN:VEVENT
DTSTART;TZID=America/New_York:20230604T123000
DTEND;TZID=America/New_York:20230604T133000
DTSTAMP:20260423T232006
CREATED:20230301T174924Z
LAST-MODIFIED:20230629T194330Z
UID:10001503-1685881800-1685885400@www.unitycenterdc.org
SUMMARY:A Course in Miracles Sunday Study Group
DESCRIPTION:Our ACIM Study Group meeting Sunday\, 12:30PM to 1:30PM and Wednesday\, 7:00PM to 8:00PM. We welcome Course students of all levels. We read from the Text with discussion as desired.
URL:https://www.unitycenterdc.org/calendar/a-course-in-miracles-sunday-study-group/2023-06-04/
LOCATION:Unity Center DC on Zoom\, Washington\, DC\, 20007
CATEGORIES:Study
ATTACH;FMTTYPE=image/jpeg:https://www.unitycenterdc.org/wp-content/uploads/2016/01/ACIM.jpg
GEO:38.9228637;-77.0720087
END:VEVENT
BEGIN:VEVENT
DTSTART;TZID=America/New_York:20230531T190000
DTEND;TZID=America/New_York:20230531T200000
DTSTAMP:20260423T232006
CREATED:20230301T175423Z
LAST-MODIFIED:20230301T180106Z
UID:10001559-1685559600-1685563200@www.unitycenterdc.org
SUMMARY:A Course in Miracles Wednesday Study Group
DESCRIPTION:Our ACIM Study Group meeting Sunday\, 12:30PM to 1:30PM and Wednesday\, 7:00PM to 8:00PM. We welcome Course students of all levels. We read from the Text with discussion as desired.  \nACIM Wednesdays 7:00-8:00PM\nJoin Zoom Meeting\nhttps://us02web.zoom.us/j/114822785?pwd=TjBpWC9zSnQxWFZleDhlcVpseUhyUT09\nMeeting ID: 114 822 785\nPassword: 503323\nPhone: 1-301-715-8592
URL:https://www.unitycenterdc.org/calendar/a-course-in-miracles-wednesday-study-group/2023-05-31/
LOCATION:Unity Center DC on Zoom\, Washington\, DC\, 20007
CATEGORIES:Study
ATTACH;FMTTYPE=image/jpeg:https://www.unitycenterdc.org/wp-content/uploads/2016/01/ACIM.jpg
GEO:38.9228637;-77.0720087
END:VEVENT
BEGIN:VEVENT
DTSTART;TZID=America/New_York:20230528T123000
DTEND;TZID=America/New_York:20230528T133000
DTSTAMP:20260423T232006
CREATED:20230301T174924Z
LAST-MODIFIED:20230629T194330Z
UID:10001502-1685277000-1685280600@www.unitycenterdc.org
SUMMARY:A Course in Miracles Sunday Study Group
DESCRIPTION:Our ACIM Study Group meeting Sunday\, 12:30PM to 1:30PM and Wednesday\, 7:00PM to 8:00PM. We welcome Course students of all levels. We read from the Text with discussion as desired.
URL:https://www.unitycenterdc.org/calendar/a-course-in-miracles-sunday-study-group/2023-05-28/
LOCATION:Unity Center DC on Zoom\, Washington\, DC\, 20007
CATEGORIES:Study
ATTACH;FMTTYPE=image/jpeg:https://www.unitycenterdc.org/wp-content/uploads/2016/01/ACIM.jpg
GEO:38.9228637;-77.0720087
END:VEVENT
BEGIN:VEVENT
DTSTART;TZID=America/New_York:20230524T190000
DTEND;TZID=America/New_York:20230524T200000
DTSTAMP:20260423T232006
CREATED:20230301T175423Z
LAST-MODIFIED:20230301T180106Z
UID:10001558-1684954800-1684958400@www.unitycenterdc.org
SUMMARY:A Course in Miracles Wednesday Study Group
DESCRIPTION:Our ACIM Study Group meeting Sunday\, 12:30PM to 1:30PM and Wednesday\, 7:00PM to 8:00PM. We welcome Course students of all levels. We read from the Text with discussion as desired.  \nACIM Wednesdays 7:00-8:00PM\nJoin Zoom Meeting\nhttps://us02web.zoom.us/j/114822785?pwd=TjBpWC9zSnQxWFZleDhlcVpseUhyUT09\nMeeting ID: 114 822 785\nPassword: 503323\nPhone: 1-301-715-8592
URL:https://www.unitycenterdc.org/calendar/a-course-in-miracles-wednesday-study-group/2023-05-24/
LOCATION:Unity Center DC on Zoom\, Washington\, DC\, 20007
CATEGORIES:Study
ATTACH;FMTTYPE=image/jpeg:https://www.unitycenterdc.org/wp-content/uploads/2016/01/ACIM.jpg
GEO:38.9228637;-77.0720087
END:VEVENT
BEGIN:VEVENT
DTSTART;TZID=America/New_York:20230521T123000
DTEND;TZID=America/New_York:20230521T133000
DTSTAMP:20260423T232006
CREATED:20230301T174924Z
LAST-MODIFIED:20230629T194330Z
UID:10001501-1684672200-1684675800@www.unitycenterdc.org
SUMMARY:A Course in Miracles Sunday Study Group
DESCRIPTION:Our ACIM Study Group meeting Sunday\, 12:30PM to 1:30PM and Wednesday\, 7:00PM to 8:00PM. We welcome Course students of all levels. We read from the Text with discussion as desired.
URL:https://www.unitycenterdc.org/calendar/a-course-in-miracles-sunday-study-group/2023-05-21/
LOCATION:Unity Center DC on Zoom\, Washington\, DC\, 20007
CATEGORIES:Study
ATTACH;FMTTYPE=image/jpeg:https://www.unitycenterdc.org/wp-content/uploads/2016/01/ACIM.jpg
GEO:38.9228637;-77.0720087
END:VEVENT
BEGIN:VEVENT
DTSTART;TZID=America/New_York:20230517T190000
DTEND;TZID=America/New_York:20230517T200000
DTSTAMP:20260423T232006
CREATED:20230301T175423Z
LAST-MODIFIED:20230301T180106Z
UID:10001557-1684350000-1684353600@www.unitycenterdc.org
SUMMARY:A Course in Miracles Wednesday Study Group
DESCRIPTION:Our ACIM Study Group meeting Sunday\, 12:30PM to 1:30PM and Wednesday\, 7:00PM to 8:00PM. We welcome Course students of all levels. We read from the Text with discussion as desired.  \nACIM Wednesdays 7:00-8:00PM\nJoin Zoom Meeting\nhttps://us02web.zoom.us/j/114822785?pwd=TjBpWC9zSnQxWFZleDhlcVpseUhyUT09\nMeeting ID: 114 822 785\nPassword: 503323\nPhone: 1-301-715-8592
URL:https://www.unitycenterdc.org/calendar/a-course-in-miracles-wednesday-study-group/2023-05-17/
LOCATION:Unity Center DC on Zoom\, Washington\, DC\, 20007
CATEGORIES:Study
ATTACH;FMTTYPE=image/jpeg:https://www.unitycenterdc.org/wp-content/uploads/2016/01/ACIM.jpg
GEO:38.9228637;-77.0720087
END:VEVENT
BEGIN:VEVENT
DTSTART;TZID=America/New_York:20230514T123000
DTEND;TZID=America/New_York:20230514T133000
DTSTAMP:20260423T232006
CREATED:20230301T174924Z
LAST-MODIFIED:20230629T194330Z
UID:10001500-1684067400-1684071000@www.unitycenterdc.org
SUMMARY:A Course in Miracles Sunday Study Group
DESCRIPTION:Our ACIM Study Group meeting Sunday\, 12:30PM to 1:30PM and Wednesday\, 7:00PM to 8:00PM. We welcome Course students of all levels. We read from the Text with discussion as desired.
URL:https://www.unitycenterdc.org/calendar/a-course-in-miracles-sunday-study-group/2023-05-14/
LOCATION:Unity Center DC on Zoom\, Washington\, DC\, 20007
CATEGORIES:Study
ATTACH;FMTTYPE=image/jpeg:https://www.unitycenterdc.org/wp-content/uploads/2016/01/ACIM.jpg
GEO:38.9228637;-77.0720087
END:VEVENT
BEGIN:VEVENT
DTSTART;TZID=America/New_York:20230510T190000
DTEND;TZID=America/New_York:20230510T200000
DTSTAMP:20260423T232006
CREATED:20230301T175423Z
LAST-MODIFIED:20230301T180106Z
UID:10001556-1683745200-1683748800@www.unitycenterdc.org
SUMMARY:A Course in Miracles Wednesday Study Group
DESCRIPTION:Our ACIM Study Group meeting Sunday\, 12:30PM to 1:30PM and Wednesday\, 7:00PM to 8:00PM. We welcome Course students of all levels. We read from the Text with discussion as desired.  \nACIM Wednesdays 7:00-8:00PM\nJoin Zoom Meeting\nhttps://us02web.zoom.us/j/114822785?pwd=TjBpWC9zSnQxWFZleDhlcVpseUhyUT09\nMeeting ID: 114 822 785\nPassword: 503323\nPhone: 1-301-715-8592
URL:https://www.unitycenterdc.org/calendar/a-course-in-miracles-wednesday-study-group/2023-05-10/
LOCATION:Unity Center DC on Zoom\, Washington\, DC\, 20007
CATEGORIES:Study
ATTACH;FMTTYPE=image/jpeg:https://www.unitycenterdc.org/wp-content/uploads/2016/01/ACIM.jpg
GEO:38.9228637;-77.0720087
END:VEVENT
END:VCALENDAR