BEGIN:VCALENDAR
VERSION:2.0
PRODID:-//Unity Center DC - ECPv6.15.20//NONSGML v1.0//EN
CALSCALE:GREGORIAN
METHOD:PUBLISH
X-WR-CALNAME:Unity Center DC
X-ORIGINAL-URL:https://www.unitycenterdc.org
X-WR-CALDESC:Events for Unity Center DC
REFRESH-INTERVAL;VALUE=DURATION:PT1H
X-Robots-Tag:noindex
X-PUBLISHED-TTL:PT1H
BEGIN:VTIMEZONE
TZID:America/New_York
BEGIN:DAYLIGHT
TZOFFSETFROM:-0500
TZOFFSETTO:-0400
TZNAME:EDT
DTSTART:20240310T070000
END:DAYLIGHT
BEGIN:STANDARD
TZOFFSETFROM:-0400
TZOFFSETTO:-0500
TZNAME:EST
DTSTART:20241103T060000
END:STANDARD
BEGIN:DAYLIGHT
TZOFFSETFROM:-0500
TZOFFSETTO:-0400
TZNAME:EDT
DTSTART:20250309T070000
END:DAYLIGHT
BEGIN:STANDARD
TZOFFSETFROM:-0400
TZOFFSETTO:-0500
TZNAME:EST
DTSTART:20251102T060000
END:STANDARD
BEGIN:DAYLIGHT
TZOFFSETFROM:-0500
TZOFFSETTO:-0400
TZNAME:EDT
DTSTART:20260308T070000
END:DAYLIGHT
BEGIN:STANDARD
TZOFFSETFROM:-0400
TZOFFSETTO:-0500
TZNAME:EST
DTSTART:20261101T060000
END:STANDARD
END:VTIMEZONE
BEGIN:VEVENT
DTSTART;TZID=America/New_York:20250226T193000
DTEND;TZID=America/New_York:20250226T203000
DTSTAMP:20260424T110100
CREATED:20240710T195714Z
LAST-MODIFIED:20251215T015512Z
UID:10002352-1740598200-1740601800@www.unitycenterdc.org
SUMMARY:A Course in Miracles Wednesday Study Group
DESCRIPTION:Our ACIM Study Group meets Wednesday\, 7:30PM to 8:30PM. We welcome Course students of all levels. We read from the Text with discussion as desired. \nACIM Wednesdays 7:30-8:30PM\nJoin Zoom Meeting\nhttps://us02web.zoom.us/j/81683083429?pwd=MXhaTjBZUTJyRlRaSFF6VnNLTHB4Zz09\nMeeting ID: 816 8308 3429\nPassword: 761662\nPhone: 1-301-715-8592
URL:https://www.unitycenterdc.org/calendar/a-course-in-miracles-wednesday-study-group-3-2-2/2025-02-26/
LOCATION:Unity Center DC on Zoom\, Washington\, DC\, 20007
CATEGORIES:Study
ATTACH;FMTTYPE=image/jpeg:https://www.unitycenterdc.org/wp-content/uploads/2016/01/ACIM.jpg
GEO:38.9228637;-77.0720087
END:VEVENT
BEGIN:VEVENT
DTSTART;TZID=America/New_York:20250227T190000
DTEND;TZID=America/New_York:20250227T203000
DTSTAMP:20260424T110100
CREATED:20240710T201239Z
LAST-MODIFIED:20241008T174112Z
UID:10001880-1740682800-1740688200@www.unitycenterdc.org
SUMMARY:Metaphysical Bible Study
DESCRIPTION:Metaphysical Bible Study\nFacilitated by Rev Karen Gray\nSix sessions starting\, Thursday\, July 25\,\n7:00 to 8:30 PM\nFourth Thursday of Each Month\nJoin Rev Karen Gray for a six month Metaphysical Bible Study\, the last Thursday of each month starting July 25 through February 27\, 2025 (no sessions on Thanksgiving or Christmas). We will gather at her home 7:00 to 8:30 PM or join on Zoom for a casual reading and discussion group. BYOB—Bring your own Bible (or you can borrow one). Learn how to read the Bible from a metaphysical perspective. \n((•)) Zoom to Meeting\nMeeting ID: 815 0927 1606\nPasscode: bible
URL:https://www.unitycenterdc.org/calendar/metaphysical-bible-study/2025-02-27/
LOCATION:Unity Center DC on Zoom\, Washington\, DC\, 20007
CATEGORIES:Class,Study
ATTACH;FMTTYPE=image/jpeg:https://www.unitycenterdc.org/wp-content/uploads/2024/07/Bible.jpg
GEO:38.9228637;-77.0720087
END:VEVENT
END:VCALENDAR