BEGIN:VCALENDAR
VERSION:2.0
PRODID:-//Unity Center DC - ECPv6.15.20//NONSGML v1.0//EN
CALSCALE:GREGORIAN
METHOD:PUBLISH
X-WR-CALNAME:Unity Center DC
X-ORIGINAL-URL:https://www.unitycenterdc.org
X-WR-CALDESC:Events for Unity Center DC
REFRESH-INTERVAL;VALUE=DURATION:PT1H
X-Robots-Tag:noindex
X-PUBLISHED-TTL:PT1H
BEGIN:VTIMEZONE
TZID:America/New_York
BEGIN:DAYLIGHT
TZOFFSETFROM:-0500
TZOFFSETTO:-0400
TZNAME:EDT
DTSTART:20150308T070000
END:DAYLIGHT
BEGIN:STANDARD
TZOFFSETFROM:-0400
TZOFFSETTO:-0500
TZNAME:EST
DTSTART:20151101T060000
END:STANDARD
BEGIN:DAYLIGHT
TZOFFSETFROM:-0500
TZOFFSETTO:-0400
TZNAME:EDT
DTSTART:20160313T070000
END:DAYLIGHT
BEGIN:STANDARD
TZOFFSETFROM:-0400
TZOFFSETTO:-0500
TZNAME:EST
DTSTART:20161106T060000
END:STANDARD
BEGIN:DAYLIGHT
TZOFFSETFROM:-0500
TZOFFSETTO:-0400
TZNAME:EDT
DTSTART:20170312T070000
END:DAYLIGHT
BEGIN:STANDARD
TZOFFSETFROM:-0400
TZOFFSETTO:-0500
TZNAME:EST
DTSTART:20171105T060000
END:STANDARD
END:VTIMEZONE
BEGIN:VEVENT
DTSTART;TZID=America/New_York:20161020T181500
DTEND;TZID=America/New_York:20161020T191500
DTSTAMP:20260425T082956
CREATED:20161006T225409Z
LAST-MODIFIED:20161006T230133Z
UID:10000372-1476987300-1476990900@www.unitycenterdc.org
SUMMARY:Piano Lesson-Private Event
DESCRIPTION:The sanctuary is unavailable for use during this time.
URL:https://www.unitycenterdc.org/calendar/piano-lesson-private-event-3/2016-10-20/
LOCATION:Unity Center DC on Zoom\, Washington\, DC\, 20007
CATEGORIES:Private Event
GEO:38.9228637;-77.0720087
END:VEVENT
BEGIN:VEVENT
DTSTART;TZID=America/New_York:20161020T193000
DTEND;TZID=America/New_York:20161020T210000
DTSTAMP:20260425T082956
CREATED:20160906T041121Z
LAST-MODIFIED:20161006T230443Z
UID:10000331-1476991800-1476997200@www.unitycenterdc.org
SUMMARY:Choir Practice
DESCRIPTION:Weekly COTH choir practice. Contact Barbara Wilkinson if interested in joining.
URL:https://www.unitycenterdc.org/calendar/choir-practice-3/2016-10-20/
LOCATION:Unity Center DC on Zoom\, Washington\, DC\, 20007
CATEGORIES:Music
ATTACH;FMTTYPE=image/jpeg:https://www.unitycenterdc.org/wp-content/uploads/2015/11/Choir1-scaled.jpg
GEO:38.9228637;-77.0720087
END:VEVENT
BEGIN:VEVENT
DTSTART;TZID=America/New_York:20161023T113000
DTEND;TZID=America/New_York:20161023T123000
DTSTAMP:20260425T082956
CREATED:20160107T011030Z
LAST-MODIFIED:20160107T012718Z
UID:10000226-1477222200-1477225800@www.unitycenterdc.org
SUMMARY:Master Mind Prayer Group
DESCRIPTION:Mastermind Group Group Format. Each Sunday our Mastermind Group meets for approximately an hour after fellowship following the service. After an opening prayer\, the group attendees check in on their goals\, set intentions for the future\, identify prayer requests\, determine a prayer list for the week\, and denials and affirmations are formulated for those in need. \nAlthough no materials are required\, many members find it helpful to keep a prayer journal or MasterMind Journal. These materials are available at the bookstore at the beginning of the calendar year. New members are always welcome and no time commitment is required.
URL:https://www.unitycenterdc.org/calendar/master-mind-prayer-group/2016-10-23/
LOCATION:Unity Center DC on Zoom\, Washington\, DC\, 20007
CATEGORIES:Prayer
ATTACH;FMTTYPE=image/png:https://www.unitycenterdc.org/wp-content/uploads/2016/01/Master-Mind-Word-Cloud.png
GEO:38.9228637;-77.0720087
END:VEVENT
BEGIN:VEVENT
DTSTART;TZID=America/New_York:20161023T113000
DTEND;TZID=America/New_York:20161023T123000
DTSTAMP:20260425T082956
CREATED:20160106T181201Z
LAST-MODIFIED:20160106T181508Z
UID:10000052-1477222200-1477225800@www.unitycenterdc.org
SUMMARY:A Course in Miracles Reading Group
DESCRIPTION:Each Sunday our A Course in Miracles reading group meets for approximately an hour after the 10:00 am service at 11:30am-12:30pm in the narthex. Anyone may attend the group\, you need no prior experience. If you have a book\, bring it and if not you are welcome to use one of ours. We offer an informal gathering place for reading and discussion.
URL:https://www.unitycenterdc.org/calendar/a-course-in-miracles-reading-group/2016-10-23/
LOCATION:Unity Center DC on Zoom\, Washington\, DC\, 20007
CATEGORIES:Study
ATTACH;FMTTYPE=image/jpeg:https://www.unitycenterdc.org/wp-content/uploads/2016/01/ACIM.jpg
GEO:38.9228637;-77.0720087
END:VEVENT
BEGIN:VEVENT
DTSTART;TZID=America/New_York:20161024T133000
DTEND;TZID=America/New_York:20161024T180000
DTSTAMP:20260425T082956
CREATED:20161006T224921Z
LAST-MODIFIED:20161201T235852Z
UID:10000360-1477315800-1477332000@www.unitycenterdc.org
SUMMARY:Piano Lesson—Private Event
DESCRIPTION:The sanctuary is unavailable for use during this time.
URL:https://www.unitycenterdc.org/calendar/piano-lesson-private-event/2016-10-24/
LOCATION:Unity Center DC on Zoom\, Washington\, DC\, 20007
CATEGORIES:Private Event
GEO:38.9228637;-77.0720087
END:VEVENT
BEGIN:VEVENT
DTSTART;TZID=America/New_York:20161027T181500
DTEND;TZID=America/New_York:20161027T191500
DTSTAMP:20260425T082956
CREATED:20161006T225409Z
LAST-MODIFIED:20161006T230133Z
UID:10000373-1477592100-1477595700@www.unitycenterdc.org
SUMMARY:Piano Lesson-Private Event
DESCRIPTION:The sanctuary is unavailable for use during this time.
URL:https://www.unitycenterdc.org/calendar/piano-lesson-private-event-3/2016-10-27/
LOCATION:Unity Center DC on Zoom\, Washington\, DC\, 20007
CATEGORIES:Private Event
GEO:38.9228637;-77.0720087
END:VEVENT
BEGIN:VEVENT
DTSTART;TZID=America/New_York:20161027T193000
DTEND;TZID=America/New_York:20161027T210000
DTSTAMP:20260425T082956
CREATED:20160906T041121Z
LAST-MODIFIED:20161006T230443Z
UID:10000332-1477596600-1477602000@www.unitycenterdc.org
SUMMARY:Choir Practice
DESCRIPTION:Weekly COTH choir practice. Contact Barbara Wilkinson if interested in joining.
URL:https://www.unitycenterdc.org/calendar/choir-practice-3/2016-10-27/
LOCATION:Unity Center DC on Zoom\, Washington\, DC\, 20007
CATEGORIES:Music
ATTACH;FMTTYPE=image/jpeg:https://www.unitycenterdc.org/wp-content/uploads/2015/11/Choir1-scaled.jpg
GEO:38.9228637;-77.0720087
END:VEVENT
BEGIN:VEVENT
DTSTART;TZID=America/New_York:20161030T113000
DTEND;TZID=America/New_York:20161030T123000
DTSTAMP:20260425T082956
CREATED:20160107T011030Z
LAST-MODIFIED:20160107T012718Z
UID:10000227-1477827000-1477830600@www.unitycenterdc.org
SUMMARY:Master Mind Prayer Group
DESCRIPTION:Mastermind Group Group Format. Each Sunday our Mastermind Group meets for approximately an hour after fellowship following the service. After an opening prayer\, the group attendees check in on their goals\, set intentions for the future\, identify prayer requests\, determine a prayer list for the week\, and denials and affirmations are formulated for those in need. \nAlthough no materials are required\, many members find it helpful to keep a prayer journal or MasterMind Journal. These materials are available at the bookstore at the beginning of the calendar year. New members are always welcome and no time commitment is required.
URL:https://www.unitycenterdc.org/calendar/master-mind-prayer-group/2016-10-30/
LOCATION:Unity Center DC on Zoom\, Washington\, DC\, 20007
CATEGORIES:Prayer
ATTACH;FMTTYPE=image/png:https://www.unitycenterdc.org/wp-content/uploads/2016/01/Master-Mind-Word-Cloud.png
GEO:38.9228637;-77.0720087
END:VEVENT
BEGIN:VEVENT
DTSTART;TZID=America/New_York:20161030T113000
DTEND;TZID=America/New_York:20161030T123000
DTSTAMP:20260425T082956
CREATED:20160106T181201Z
LAST-MODIFIED:20160106T181508Z
UID:10000053-1477827000-1477830600@www.unitycenterdc.org
SUMMARY:A Course in Miracles Reading Group
DESCRIPTION:Each Sunday our A Course in Miracles reading group meets for approximately an hour after the 10:00 am service at 11:30am-12:30pm in the narthex. Anyone may attend the group\, you need no prior experience. If you have a book\, bring it and if not you are welcome to use one of ours. We offer an informal gathering place for reading and discussion.
URL:https://www.unitycenterdc.org/calendar/a-course-in-miracles-reading-group/2016-10-30/
LOCATION:Unity Center DC on Zoom\, Washington\, DC\, 20007
CATEGORIES:Study
ATTACH;FMTTYPE=image/jpeg:https://www.unitycenterdc.org/wp-content/uploads/2016/01/ACIM.jpg
GEO:38.9228637;-77.0720087
END:VEVENT
BEGIN:VEVENT
DTSTART;TZID=America/New_York:20161031T133000
DTEND;TZID=America/New_York:20161031T180000
DTSTAMP:20260425T082956
CREATED:20161006T224921Z
LAST-MODIFIED:20161201T235852Z
UID:10000361-1477920600-1477936800@www.unitycenterdc.org
SUMMARY:Piano Lesson—Private Event
DESCRIPTION:The sanctuary is unavailable for use during this time.
URL:https://www.unitycenterdc.org/calendar/piano-lesson-private-event/2016-10-31/
LOCATION:Unity Center DC on Zoom\, Washington\, DC\, 20007
CATEGORIES:Private Event
GEO:38.9228637;-77.0720087
END:VEVENT
BEGIN:VEVENT
DTSTART;TZID=America/New_York:20161103T100000
DTEND;TZID=America/New_York:20161103T150000
DTSTAMP:20260425T082956
CREATED:20151202T163443Z
LAST-MODIFIED:20160731T121830Z
UID:10000109-1478167200-1478185200@www.unitycenterdc.org
SUMMARY:Eden Energy Medicine Share
DESCRIPTION:Eden Energy Medicine Share open to Eden Energy Medicine Practitioners. Facilitated by Sylvia Sturm.
URL:https://www.unitycenterdc.org/calendar/eden-energy-medicine-share-2016-07-02-2016-09-03/2016-11-03/
LOCATION:Unity Center DC on Zoom\, Washington\, DC\, 20007
CATEGORIES:Reiki
ATTACH;FMTTYPE=image/png:https://www.unitycenterdc.org/wp-content/uploads/2015/12/Eden-Energy.png
GEO:38.9228637;-77.0720087
END:VEVENT
BEGIN:VEVENT
DTSTART;TZID=America/New_York:20161103T181500
DTEND;TZID=America/New_York:20161103T191500
DTSTAMP:20260425T082956
CREATED:20161006T225409Z
LAST-MODIFIED:20161006T230133Z
UID:10000374-1478196900-1478200500@www.unitycenterdc.org
SUMMARY:Piano Lesson-Private Event
DESCRIPTION:The sanctuary is unavailable for use during this time.
URL:https://www.unitycenterdc.org/calendar/piano-lesson-private-event-3/2016-11-03/
LOCATION:Unity Center DC on Zoom\, Washington\, DC\, 20007
CATEGORIES:Private Event
GEO:38.9228637;-77.0720087
END:VEVENT
BEGIN:VEVENT
DTSTART;TZID=America/New_York:20161103T193000
DTEND;TZID=America/New_York:20161103T210000
DTSTAMP:20260425T082956
CREATED:20160906T041121Z
LAST-MODIFIED:20161006T230443Z
UID:10000333-1478201400-1478206800@www.unitycenterdc.org
SUMMARY:Choir Practice
DESCRIPTION:Weekly COTH choir practice. Contact Barbara Wilkinson if interested in joining.
URL:https://www.unitycenterdc.org/calendar/choir-practice-3/2016-11-03/
LOCATION:Unity Center DC on Zoom\, Washington\, DC\, 20007
CATEGORIES:Music
ATTACH;FMTTYPE=image/jpeg:https://www.unitycenterdc.org/wp-content/uploads/2015/11/Choir1-scaled.jpg
GEO:38.9228637;-77.0720087
END:VEVENT
BEGIN:VEVENT
DTSTART;TZID=America/New_York:20161104T190000
DTEND;TZID=America/New_York:20161104T210000
DTSTAMP:20260425T082956
CREATED:20151202T162743Z
LAST-MODIFIED:20181022T201502Z
UID:10000118-1478286000-1478293200@www.unitycenterdc.org
SUMMARY:Reiki Share
DESCRIPTION:Join Sylvia Sturm and Chic Welsh-Charrier for a relaxing evening of reiki. This reiki share is open to all who wish to give and receive. Come to learn\, practice and have fun. Love offering welcome. \nSylvia Sturm is a Subtle Energies Practitioner\, Eden Energy Medicine Clinical Practitioner and Reiki Master Teacher. She is a Reiki Fellow\, GW Center for Integrative Medicine Clinical Program Director\, Subtle Energy Program at seniors’ residence\, Washington\,DC\, EFT Certification of Completion Level 1 and Level 2\, and has over 400 volunteer Reiki hours at the George Washington University Hospital.
URL:https://www.unitycenterdc.org/calendar/reiki-share/2016-11-04/
CATEGORIES:Reiki
ATTACH;FMTTYPE=image/jpeg:https://www.unitycenterdc.org/wp-content/uploads/2015/12/Reiki.jpg
END:VEVENT
BEGIN:VEVENT
DTSTART;TZID=America/New_York:20161106T113000
DTEND;TZID=America/New_York:20161106T123000
DTSTAMP:20260425T082956
CREATED:20160107T011030Z
LAST-MODIFIED:20160107T012718Z
UID:10000228-1478431800-1478435400@www.unitycenterdc.org
SUMMARY:Master Mind Prayer Group
DESCRIPTION:Mastermind Group Group Format. Each Sunday our Mastermind Group meets for approximately an hour after fellowship following the service. After an opening prayer\, the group attendees check in on their goals\, set intentions for the future\, identify prayer requests\, determine a prayer list for the week\, and denials and affirmations are formulated for those in need. \nAlthough no materials are required\, many members find it helpful to keep a prayer journal or MasterMind Journal. These materials are available at the bookstore at the beginning of the calendar year. New members are always welcome and no time commitment is required.
URL:https://www.unitycenterdc.org/calendar/master-mind-prayer-group/2016-11-06/
LOCATION:Unity Center DC on Zoom\, Washington\, DC\, 20007
CATEGORIES:Prayer
ATTACH;FMTTYPE=image/png:https://www.unitycenterdc.org/wp-content/uploads/2016/01/Master-Mind-Word-Cloud.png
GEO:38.9228637;-77.0720087
END:VEVENT
BEGIN:VEVENT
DTSTART;TZID=America/New_York:20161106T113000
DTEND;TZID=America/New_York:20161106T123000
DTSTAMP:20260425T082956
CREATED:20160106T181201Z
LAST-MODIFIED:20160106T181508Z
UID:10000054-1478431800-1478435400@www.unitycenterdc.org
SUMMARY:A Course in Miracles Reading Group
DESCRIPTION:Each Sunday our A Course in Miracles reading group meets for approximately an hour after the 10:00 am service at 11:30am-12:30pm in the narthex. Anyone may attend the group\, you need no prior experience. If you have a book\, bring it and if not you are welcome to use one of ours. We offer an informal gathering place for reading and discussion.
URL:https://www.unitycenterdc.org/calendar/a-course-in-miracles-reading-group/2016-11-06/
LOCATION:Unity Center DC on Zoom\, Washington\, DC\, 20007
CATEGORIES:Study
ATTACH;FMTTYPE=image/jpeg:https://www.unitycenterdc.org/wp-content/uploads/2016/01/ACIM.jpg
GEO:38.9228637;-77.0720087
END:VEVENT
BEGIN:VEVENT
DTSTART;TZID=America/New_York:20161107T133000
DTEND;TZID=America/New_York:20161107T180000
DTSTAMP:20260425T082956
CREATED:20161006T224921Z
LAST-MODIFIED:20161201T235852Z
UID:10000362-1478525400-1478541600@www.unitycenterdc.org
SUMMARY:Piano Lesson—Private Event
DESCRIPTION:The sanctuary is unavailable for use during this time.
URL:https://www.unitycenterdc.org/calendar/piano-lesson-private-event/2016-11-07/
LOCATION:Unity Center DC on Zoom\, Washington\, DC\, 20007
CATEGORIES:Private Event
GEO:38.9228637;-77.0720087
END:VEVENT
BEGIN:VEVENT
DTSTART;TZID=America/New_York:20161110T181500
DTEND;TZID=America/New_York:20161110T191500
DTSTAMP:20260425T082956
CREATED:20161006T225409Z
LAST-MODIFIED:20161006T230133Z
UID:10000375-1478801700-1478805300@www.unitycenterdc.org
SUMMARY:Piano Lesson-Private Event
DESCRIPTION:The sanctuary is unavailable for use during this time.
URL:https://www.unitycenterdc.org/calendar/piano-lesson-private-event-3/2016-11-10/
LOCATION:Unity Center DC on Zoom\, Washington\, DC\, 20007
CATEGORIES:Private Event
GEO:38.9228637;-77.0720087
END:VEVENT
BEGIN:VEVENT
DTSTART;TZID=America/New_York:20161110T193000
DTEND;TZID=America/New_York:20161110T210000
DTSTAMP:20260425T082956
CREATED:20160906T041121Z
LAST-MODIFIED:20161006T230443Z
UID:10000334-1478806200-1478811600@www.unitycenterdc.org
SUMMARY:Choir Practice
DESCRIPTION:Weekly COTH choir practice. Contact Barbara Wilkinson if interested in joining.
URL:https://www.unitycenterdc.org/calendar/choir-practice-3/2016-11-10/
LOCATION:Unity Center DC on Zoom\, Washington\, DC\, 20007
CATEGORIES:Music
ATTACH;FMTTYPE=image/jpeg:https://www.unitycenterdc.org/wp-content/uploads/2015/11/Choir1-scaled.jpg
GEO:38.9228637;-77.0720087
END:VEVENT
BEGIN:VEVENT
DTSTART;TZID=America/New_York:20161112T173000
DTEND;TZID=America/New_York:20161112T181500
DTSTAMP:20260425T082956
CREATED:20160526T045738Z
LAST-MODIFIED:20160526T045738Z
UID:10000149-1478971800-1478974500@www.unitycenterdc.org
SUMMARY:Meditation Group
DESCRIPTION:The purpose will be to hold “the sacred space” for our community and for the world. We will begin with prayer and/or chanting then sit in the silence ending with an OM. All are welcome\, including new or experienced meditators. Contact Kathleen Healy kathleenannhealy at gmail.com for details.
URL:https://www.unitycenterdc.org/calendar/meditation-group/2016-11-12/
LOCATION:Unity Center DC on Zoom\, Washington\, DC\, 20007
ATTACH;FMTTYPE=image/jpeg:https://www.unitycenterdc.org/wp-content/uploads/2016/05/Meditation-Group.jpg
GEO:38.9228637;-77.0720087
END:VEVENT
BEGIN:VEVENT
DTSTART;TZID=America/New_York:20161113T113000
DTEND;TZID=America/New_York:20161113T123000
DTSTAMP:20260425T082956
CREATED:20160107T011030Z
LAST-MODIFIED:20160107T012718Z
UID:10000229-1479036600-1479040200@www.unitycenterdc.org
SUMMARY:Master Mind Prayer Group
DESCRIPTION:Mastermind Group Group Format. Each Sunday our Mastermind Group meets for approximately an hour after fellowship following the service. After an opening prayer\, the group attendees check in on their goals\, set intentions for the future\, identify prayer requests\, determine a prayer list for the week\, and denials and affirmations are formulated for those in need. \nAlthough no materials are required\, many members find it helpful to keep a prayer journal or MasterMind Journal. These materials are available at the bookstore at the beginning of the calendar year. New members are always welcome and no time commitment is required.
URL:https://www.unitycenterdc.org/calendar/master-mind-prayer-group/2016-11-13/
LOCATION:Unity Center DC on Zoom\, Washington\, DC\, 20007
CATEGORIES:Prayer
ATTACH;FMTTYPE=image/png:https://www.unitycenterdc.org/wp-content/uploads/2016/01/Master-Mind-Word-Cloud.png
GEO:38.9228637;-77.0720087
END:VEVENT
BEGIN:VEVENT
DTSTART;TZID=America/New_York:20161113T113000
DTEND;TZID=America/New_York:20161113T123000
DTSTAMP:20260425T082956
CREATED:20160106T181201Z
LAST-MODIFIED:20160106T181508Z
UID:10000055-1479036600-1479040200@www.unitycenterdc.org
SUMMARY:A Course in Miracles Reading Group
DESCRIPTION:Each Sunday our A Course in Miracles reading group meets for approximately an hour after the 10:00 am service at 11:30am-12:30pm in the narthex. Anyone may attend the group\, you need no prior experience. If you have a book\, bring it and if not you are welcome to use one of ours. We offer an informal gathering place for reading and discussion.
URL:https://www.unitycenterdc.org/calendar/a-course-in-miracles-reading-group/2016-11-13/
LOCATION:Unity Center DC on Zoom\, Washington\, DC\, 20007
CATEGORIES:Study
ATTACH;FMTTYPE=image/jpeg:https://www.unitycenterdc.org/wp-content/uploads/2016/01/ACIM.jpg
GEO:38.9228637;-77.0720087
END:VEVENT
BEGIN:VEVENT
DTSTART;TZID=America/New_York:20161114T133000
DTEND;TZID=America/New_York:20161114T180000
DTSTAMP:20260425T082956
CREATED:20161006T224921Z
LAST-MODIFIED:20161201T235852Z
UID:10000363-1479130200-1479146400@www.unitycenterdc.org
SUMMARY:Piano Lesson—Private Event
DESCRIPTION:The sanctuary is unavailable for use during this time.
URL:https://www.unitycenterdc.org/calendar/piano-lesson-private-event/2016-11-14/
LOCATION:Unity Center DC on Zoom\, Washington\, DC\, 20007
CATEGORIES:Private Event
GEO:38.9228637;-77.0720087
END:VEVENT
BEGIN:VEVENT
DTSTART;TZID=America/New_York:20161116T100000
DTEND;TZID=America/New_York:20161116T120000
DTSTAMP:20260425T082956
CREATED:20160906T043616Z
LAST-MODIFIED:20170110T033217Z
UID:10000350-1479290400-1479297600@www.unitycenterdc.org
SUMMARY:Board Meeting
DESCRIPTION:Monthly meeting of the COTH Board of Trustees.
URL:https://www.unitycenterdc.org/calendar/board-meeting-3/2016-11-16/
LOCATION:Unity Center DC on Zoom\, Washington\, DC\, 20007
CATEGORIES:Board of Trustees
ATTACH;FMTTYPE=image/jpeg:https://www.unitycenterdc.org/wp-content/uploads/2015/12/Board-Meeting.jpg
GEO:38.9228637;-77.0720087
END:VEVENT
BEGIN:VEVENT
DTSTART;TZID=America/New_York:20161117T181500
DTEND;TZID=America/New_York:20161117T191500
DTSTAMP:20260425T082956
CREATED:20161006T225409Z
LAST-MODIFIED:20161006T230133Z
UID:10000376-1479406500-1479410100@www.unitycenterdc.org
SUMMARY:Piano Lesson-Private Event
DESCRIPTION:The sanctuary is unavailable for use during this time.
URL:https://www.unitycenterdc.org/calendar/piano-lesson-private-event-3/2016-11-17/
LOCATION:Unity Center DC on Zoom\, Washington\, DC\, 20007
CATEGORIES:Private Event
GEO:38.9228637;-77.0720087
END:VEVENT
BEGIN:VEVENT
DTSTART;TZID=America/New_York:20161117T193000
DTEND;TZID=America/New_York:20161117T210000
DTSTAMP:20260425T082956
CREATED:20160906T041121Z
LAST-MODIFIED:20161006T230443Z
UID:10000335-1479411000-1479416400@www.unitycenterdc.org
SUMMARY:Choir Practice
DESCRIPTION:Weekly COTH choir practice. Contact Barbara Wilkinson if interested in joining.
URL:https://www.unitycenterdc.org/calendar/choir-practice-3/2016-11-17/
LOCATION:Unity Center DC on Zoom\, Washington\, DC\, 20007
CATEGORIES:Music
ATTACH;FMTTYPE=image/jpeg:https://www.unitycenterdc.org/wp-content/uploads/2015/11/Choir1-scaled.jpg
GEO:38.9228637;-77.0720087
END:VEVENT
BEGIN:VEVENT
DTSTART;TZID=America/New_York:20161120T113000
DTEND;TZID=America/New_York:20161120T123000
DTSTAMP:20260425T082956
CREATED:20160107T011030Z
LAST-MODIFIED:20160107T012718Z
UID:10000230-1479641400-1479645000@www.unitycenterdc.org
SUMMARY:Master Mind Prayer Group
DESCRIPTION:Mastermind Group Group Format. Each Sunday our Mastermind Group meets for approximately an hour after fellowship following the service. After an opening prayer\, the group attendees check in on their goals\, set intentions for the future\, identify prayer requests\, determine a prayer list for the week\, and denials and affirmations are formulated for those in need. \nAlthough no materials are required\, many members find it helpful to keep a prayer journal or MasterMind Journal. These materials are available at the bookstore at the beginning of the calendar year. New members are always welcome and no time commitment is required.
URL:https://www.unitycenterdc.org/calendar/master-mind-prayer-group/2016-11-20/
LOCATION:Unity Center DC on Zoom\, Washington\, DC\, 20007
CATEGORIES:Prayer
ATTACH;FMTTYPE=image/png:https://www.unitycenterdc.org/wp-content/uploads/2016/01/Master-Mind-Word-Cloud.png
GEO:38.9228637;-77.0720087
END:VEVENT
BEGIN:VEVENT
DTSTART;TZID=America/New_York:20161120T113000
DTEND;TZID=America/New_York:20161120T123000
DTSTAMP:20260425T082956
CREATED:20160106T181201Z
LAST-MODIFIED:20160106T181508Z
UID:10000056-1479641400-1479645000@www.unitycenterdc.org
SUMMARY:A Course in Miracles Reading Group
DESCRIPTION:Each Sunday our A Course in Miracles reading group meets for approximately an hour after the 10:00 am service at 11:30am-12:30pm in the narthex. Anyone may attend the group\, you need no prior experience. If you have a book\, bring it and if not you are welcome to use one of ours. We offer an informal gathering place for reading and discussion.
URL:https://www.unitycenterdc.org/calendar/a-course-in-miracles-reading-group/2016-11-20/
LOCATION:Unity Center DC on Zoom\, Washington\, DC\, 20007
CATEGORIES:Study
ATTACH;FMTTYPE=image/jpeg:https://www.unitycenterdc.org/wp-content/uploads/2016/01/ACIM.jpg
GEO:38.9228637;-77.0720087
END:VEVENT
BEGIN:VEVENT
DTSTART;TZID=America/New_York:20161121T133000
DTEND;TZID=America/New_York:20161121T180000
DTSTAMP:20260425T082956
CREATED:20161006T224921Z
LAST-MODIFIED:20161201T235852Z
UID:10000364-1479735000-1479751200@www.unitycenterdc.org
SUMMARY:Piano Lesson—Private Event
DESCRIPTION:The sanctuary is unavailable for use during this time.
URL:https://www.unitycenterdc.org/calendar/piano-lesson-private-event/2016-11-21/
LOCATION:Unity Center DC on Zoom\, Washington\, DC\, 20007
CATEGORIES:Private Event
GEO:38.9228637;-77.0720087
END:VEVENT
BEGIN:VEVENT
DTSTART;TZID=America/New_York:20161124T181500
DTEND;TZID=America/New_York:20161124T191500
DTSTAMP:20260425T082956
CREATED:20161006T225409Z
LAST-MODIFIED:20161006T230133Z
UID:10000377-1480011300-1480014900@www.unitycenterdc.org
SUMMARY:Piano Lesson-Private Event
DESCRIPTION:The sanctuary is unavailable for use during this time.
URL:https://www.unitycenterdc.org/calendar/piano-lesson-private-event-3/2016-11-24/
LOCATION:Unity Center DC on Zoom\, Washington\, DC\, 20007
CATEGORIES:Private Event
GEO:38.9228637;-77.0720087
END:VEVENT
END:VCALENDAR