BEGIN:VCALENDAR
VERSION:2.0
PRODID:-//Unity Center DC - ECPv6.15.20//NONSGML v1.0//EN
CALSCALE:GREGORIAN
METHOD:PUBLISH
X-WR-CALNAME:Unity Center DC
X-ORIGINAL-URL:https://www.unitycenterdc.org
X-WR-CALDESC:Events for Unity Center DC
REFRESH-INTERVAL;VALUE=DURATION:PT1H
X-Robots-Tag:noindex
X-PUBLISHED-TTL:PT1H
BEGIN:VTIMEZONE
TZID:America/New_York
BEGIN:DAYLIGHT
TZOFFSETFROM:-0500
TZOFFSETTO:-0400
TZNAME:EDT
DTSTART:20160313T070000
END:DAYLIGHT
BEGIN:STANDARD
TZOFFSETFROM:-0400
TZOFFSETTO:-0500
TZNAME:EST
DTSTART:20161106T060000
END:STANDARD
BEGIN:DAYLIGHT
TZOFFSETFROM:-0500
TZOFFSETTO:-0400
TZNAME:EDT
DTSTART:20170312T070000
END:DAYLIGHT
BEGIN:STANDARD
TZOFFSETFROM:-0400
TZOFFSETTO:-0500
TZNAME:EST
DTSTART:20171105T060000
END:STANDARD
BEGIN:DAYLIGHT
TZOFFSETFROM:-0500
TZOFFSETTO:-0400
TZNAME:EDT
DTSTART:20180311T070000
END:DAYLIGHT
BEGIN:STANDARD
TZOFFSETFROM:-0400
TZOFFSETTO:-0500
TZNAME:EST
DTSTART:20181104T060000
END:STANDARD
END:VTIMEZONE
BEGIN:VEVENT
DTSTART;TZID=America/New_York:20170305T113000
DTEND;TZID=America/New_York:20170305T123000
DTSTAMP:20260425T093801
CREATED:20170110T035736Z
LAST-MODIFIED:20170822T181746Z
UID:10000518-1488713400-1488717000@www.unitycenterdc.org
SUMMARY:ACIM Study Group
DESCRIPTION:Each Sunday our A Course in Miracles reading group meets for approximately an hour after the 10:00 am service at 11:30am-12:30pm in the narthex. Anyone may attend the group\, you need no prior experience. If you have a book\, bring it and if not you are welcome to use one of ours. We offer an informal gathering place for reading and discussion.
URL:https://www.unitycenterdc.org/calendar/acim-study-group/2017-03-05/
LOCATION:Unity Center DC on Zoom\, Washington\, DC\, 20007
CATEGORIES:Study
ATTACH;FMTTYPE=image/jpeg:https://www.unitycenterdc.org/wp-content/uploads/2016/01/ACIM.jpg
GEO:38.9228637;-77.0720087
END:VEVENT
BEGIN:VEVENT
DTSTART;TZID=America/New_York:20170305T113000
DTEND;TZID=America/New_York:20170305T123000
DTSTAMP:20260425T093801
CREATED:20170110T034637Z
LAST-MODIFIED:20170822T194131Z
UID:10000438-1488713400-1488717000@www.unitycenterdc.org
SUMMARY:Master Mind Prayer Group
DESCRIPTION:Mastermind Group Group Format. Each Sunday our Mastermind Group meets for approximately an hour after fellowship following the service. After an opening prayer\, the group attendees check in on their goals\, set intentions for the future\, identify prayer requests\, determine a prayer list for the week\, and denials and affirmations are formulated for those in need. \nAlthough no materials are required\, many members find it helpful to keep a prayer journal or MasterMind Journal. These materials are available at the bookstore at the beginning of the calendar year. New members are always welcome and no time commitment is required.
URL:https://www.unitycenterdc.org/calendar/master-mind-prayer-group-2/2017-03-05/
LOCATION:Unity Center DC on Zoom\, Washington\, DC\, 20007
CATEGORIES:Prayer
ATTACH;FMTTYPE=image/png:https://www.unitycenterdc.org/wp-content/uploads/2016/01/Master-Mind-Word-Cloud.png
GEO:38.9228637;-77.0720087
END:VEVENT
BEGIN:VEVENT
DTSTART;TZID=America/New_York:20170309T181500
DTEND;TZID=America/New_York:20170309T190000
DTSTAMP:20260425T093801
CREATED:20170110T034904Z
LAST-MODIFIED:20171106T191850Z
UID:10000484-1489083300-1489086000@www.unitycenterdc.org
SUMMARY:Meditation Group
DESCRIPTION:The purpose will be to hold “the sacred space” for our community and for the world. We will begin with prayer and/or chanting then sit in the silence ending with an OM. All are welcome\, including new or experienced meditators. Contact Kathleen Healy kathleenannhealy at gmail.com for details.
URL:https://www.unitycenterdc.org/calendar/meditation-group-2/2017-03-09/
LOCATION:Unity Center DC on Zoom\, Washington\, DC\, 20007
CATEGORIES:Meditation
ATTACH;FMTTYPE=image/jpeg:https://www.unitycenterdc.org/wp-content/uploads/2016/05/Meditation-Group-1.jpg
GEO:38.9228637;-77.0720087
END:VEVENT
BEGIN:VEVENT
DTSTART;TZID=America/New_York:20170309T193000
DTEND;TZID=America/New_York:20170309T210000
DTSTAMP:20260425T093801
CREATED:20170110T035258Z
LAST-MODIFIED:20170110T035517Z
UID:10000503-1489087800-1489093200@www.unitycenterdc.org
SUMMARY:Choir Practice
DESCRIPTION:Weekly COTH choir practice. Contact Barbara Wilkinson if interested in joining.
URL:https://www.unitycenterdc.org/calendar/choir-practice-4/2017-03-09/
LOCATION:Unity Center DC on Zoom\, Washington\, DC\, 20007
CATEGORIES:Music
ATTACH;FMTTYPE=image/jpeg:https://www.unitycenterdc.org/wp-content/uploads/2015/11/Choir1-scaled.jpg
GEO:38.9228637;-77.0720087
END:VEVENT
BEGIN:VEVENT
DTSTART;TZID=America/New_York:20170312T113000
DTEND;TZID=America/New_York:20170312T123000
DTSTAMP:20260425T093801
CREATED:20170110T035736Z
LAST-MODIFIED:20170822T181746Z
UID:10000519-1489318200-1489321800@www.unitycenterdc.org
SUMMARY:ACIM Study Group
DESCRIPTION:Each Sunday our A Course in Miracles reading group meets for approximately an hour after the 10:00 am service at 11:30am-12:30pm in the narthex. Anyone may attend the group\, you need no prior experience. If you have a book\, bring it and if not you are welcome to use one of ours. We offer an informal gathering place for reading and discussion.
URL:https://www.unitycenterdc.org/calendar/acim-study-group/2017-03-12/
LOCATION:Unity Center DC on Zoom\, Washington\, DC\, 20007
CATEGORIES:Study
ATTACH;FMTTYPE=image/jpeg:https://www.unitycenterdc.org/wp-content/uploads/2016/01/ACIM.jpg
GEO:38.9228637;-77.0720087
END:VEVENT
BEGIN:VEVENT
DTSTART;TZID=America/New_York:20170312T113000
DTEND;TZID=America/New_York:20170312T123000
DTSTAMP:20260425T093801
CREATED:20170110T034637Z
LAST-MODIFIED:20170822T194131Z
UID:10000439-1489318200-1489321800@www.unitycenterdc.org
SUMMARY:Master Mind Prayer Group
DESCRIPTION:Mastermind Group Group Format. Each Sunday our Mastermind Group meets for approximately an hour after fellowship following the service. After an opening prayer\, the group attendees check in on their goals\, set intentions for the future\, identify prayer requests\, determine a prayer list for the week\, and denials and affirmations are formulated for those in need. \nAlthough no materials are required\, many members find it helpful to keep a prayer journal or MasterMind Journal. These materials are available at the bookstore at the beginning of the calendar year. New members are always welcome and no time commitment is required.
URL:https://www.unitycenterdc.org/calendar/master-mind-prayer-group-2/2017-03-12/
LOCATION:Unity Center DC on Zoom\, Washington\, DC\, 20007
CATEGORIES:Prayer
ATTACH;FMTTYPE=image/png:https://www.unitycenterdc.org/wp-content/uploads/2016/01/Master-Mind-Word-Cloud.png
GEO:38.9228637;-77.0720087
END:VEVENT
BEGIN:VEVENT
DTSTART;TZID=America/New_York:20170316T193000
DTEND;TZID=America/New_York:20170316T210000
DTSTAMP:20260425T093801
CREATED:20170110T035258Z
LAST-MODIFIED:20170110T035517Z
UID:10000504-1489692600-1489698000@www.unitycenterdc.org
SUMMARY:Choir Practice
DESCRIPTION:Weekly COTH choir practice. Contact Barbara Wilkinson if interested in joining.
URL:https://www.unitycenterdc.org/calendar/choir-practice-4/2017-03-16/
LOCATION:Unity Center DC on Zoom\, Washington\, DC\, 20007
CATEGORIES:Music
ATTACH;FMTTYPE=image/jpeg:https://www.unitycenterdc.org/wp-content/uploads/2015/11/Choir1-scaled.jpg
GEO:38.9228637;-77.0720087
END:VEVENT
BEGIN:VEVENT
DTSTART;TZID=America/New_York:20170319T110000
DTEND;TZID=America/New_York:20170319T123000
DTSTAMP:20260425T093801
CREATED:20170217T191514Z
LAST-MODIFIED:20170217T191514Z
UID:10000575-1489921200-1489926600@www.unitycenterdc.org
SUMMARY:Town Hall Meeting
DESCRIPTION:We will be holding quarterly Town Hall Meetings to keep the community up to date on all important activities\, address concerns and questions.
URL:https://www.unitycenterdc.org/calendar/town-hall-meeting/
LOCATION:Unity Center DC on Zoom\, Washington\, DC\, 20007
ATTACH;FMTTYPE=image/png:https://www.unitycenterdc.org/wp-content/uploads/2017/02/Town-hall.png
GEO:38.9228637;-77.0720087
END:VEVENT
BEGIN:VEVENT
DTSTART;TZID=America/New_York:20170319T113000
DTEND;TZID=America/New_York:20170319T123000
DTSTAMP:20260425T093801
CREATED:20170110T035736Z
LAST-MODIFIED:20170822T181746Z
UID:10000520-1489923000-1489926600@www.unitycenterdc.org
SUMMARY:ACIM Study Group
DESCRIPTION:Each Sunday our A Course in Miracles reading group meets for approximately an hour after the 10:00 am service at 11:30am-12:30pm in the narthex. Anyone may attend the group\, you need no prior experience. If you have a book\, bring it and if not you are welcome to use one of ours. We offer an informal gathering place for reading and discussion.
URL:https://www.unitycenterdc.org/calendar/acim-study-group/2017-03-19/
LOCATION:Unity Center DC on Zoom\, Washington\, DC\, 20007
CATEGORIES:Study
ATTACH;FMTTYPE=image/jpeg:https://www.unitycenterdc.org/wp-content/uploads/2016/01/ACIM.jpg
GEO:38.9228637;-77.0720087
END:VEVENT
BEGIN:VEVENT
DTSTART;TZID=America/New_York:20170319T113000
DTEND;TZID=America/New_York:20170319T123000
DTSTAMP:20260425T093801
CREATED:20170110T034637Z
LAST-MODIFIED:20170822T194131Z
UID:10000440-1489923000-1489926600@www.unitycenterdc.org
SUMMARY:Master Mind Prayer Group
DESCRIPTION:Mastermind Group Group Format. Each Sunday our Mastermind Group meets for approximately an hour after fellowship following the service. After an opening prayer\, the group attendees check in on their goals\, set intentions for the future\, identify prayer requests\, determine a prayer list for the week\, and denials and affirmations are formulated for those in need. \nAlthough no materials are required\, many members find it helpful to keep a prayer journal or MasterMind Journal. These materials are available at the bookstore at the beginning of the calendar year. New members are always welcome and no time commitment is required.
URL:https://www.unitycenterdc.org/calendar/master-mind-prayer-group-2/2017-03-19/
LOCATION:Unity Center DC on Zoom\, Washington\, DC\, 20007
CATEGORIES:Prayer
ATTACH;FMTTYPE=image/png:https://www.unitycenterdc.org/wp-content/uploads/2016/01/Master-Mind-Word-Cloud.png
GEO:38.9228637;-77.0720087
END:VEVENT
BEGIN:VEVENT
DTSTART;TZID=America/New_York:20170323T193000
DTEND;TZID=America/New_York:20170323T210000
DTSTAMP:20260425T093801
CREATED:20170110T035258Z
LAST-MODIFIED:20170110T035517Z
UID:10000505-1490297400-1490302800@www.unitycenterdc.org
SUMMARY:Choir Practice
DESCRIPTION:Weekly COTH choir practice. Contact Barbara Wilkinson if interested in joining.
URL:https://www.unitycenterdc.org/calendar/choir-practice-4/2017-03-23/
LOCATION:Unity Center DC on Zoom\, Washington\, DC\, 20007
CATEGORIES:Music
ATTACH;FMTTYPE=image/jpeg:https://www.unitycenterdc.org/wp-content/uploads/2015/11/Choir1-scaled.jpg
GEO:38.9228637;-77.0720087
END:VEVENT
BEGIN:VEVENT
DTSTART;TZID=America/New_York:20170326T113000
DTEND;TZID=America/New_York:20170326T123000
DTSTAMP:20260425T093801
CREATED:20170110T035736Z
LAST-MODIFIED:20170822T181746Z
UID:10000521-1490527800-1490531400@www.unitycenterdc.org
SUMMARY:ACIM Study Group
DESCRIPTION:Each Sunday our A Course in Miracles reading group meets for approximately an hour after the 10:00 am service at 11:30am-12:30pm in the narthex. Anyone may attend the group\, you need no prior experience. If you have a book\, bring it and if not you are welcome to use one of ours. We offer an informal gathering place for reading and discussion.
URL:https://www.unitycenterdc.org/calendar/acim-study-group/2017-03-26/
LOCATION:Unity Center DC on Zoom\, Washington\, DC\, 20007
CATEGORIES:Study
ATTACH;FMTTYPE=image/jpeg:https://www.unitycenterdc.org/wp-content/uploads/2016/01/ACIM.jpg
GEO:38.9228637;-77.0720087
END:VEVENT
BEGIN:VEVENT
DTSTART;TZID=America/New_York:20170326T113000
DTEND;TZID=America/New_York:20170326T123000
DTSTAMP:20260425T093801
CREATED:20170110T034637Z
LAST-MODIFIED:20170822T194131Z
UID:10000441-1490527800-1490531400@www.unitycenterdc.org
SUMMARY:Master Mind Prayer Group
DESCRIPTION:Mastermind Group Group Format. Each Sunday our Mastermind Group meets for approximately an hour after fellowship following the service. After an opening prayer\, the group attendees check in on their goals\, set intentions for the future\, identify prayer requests\, determine a prayer list for the week\, and denials and affirmations are formulated for those in need. \nAlthough no materials are required\, many members find it helpful to keep a prayer journal or MasterMind Journal. These materials are available at the bookstore at the beginning of the calendar year. New members are always welcome and no time commitment is required.
URL:https://www.unitycenterdc.org/calendar/master-mind-prayer-group-2/2017-03-26/
LOCATION:Unity Center DC on Zoom\, Washington\, DC\, 20007
CATEGORIES:Prayer
ATTACH;FMTTYPE=image/png:https://www.unitycenterdc.org/wp-content/uploads/2016/01/Master-Mind-Word-Cloud.png
GEO:38.9228637;-77.0720087
END:VEVENT
BEGIN:VEVENT
DTSTART;TZID=America/New_York:20170330T193000
DTEND;TZID=America/New_York:20170330T210000
DTSTAMP:20260425T093801
CREATED:20170110T035258Z
LAST-MODIFIED:20170110T035517Z
UID:10000506-1490902200-1490907600@www.unitycenterdc.org
SUMMARY:Choir Practice
DESCRIPTION:Weekly COTH choir practice. Contact Barbara Wilkinson if interested in joining.
URL:https://www.unitycenterdc.org/calendar/choir-practice-4/2017-03-30/
LOCATION:Unity Center DC on Zoom\, Washington\, DC\, 20007
CATEGORIES:Music
ATTACH;FMTTYPE=image/jpeg:https://www.unitycenterdc.org/wp-content/uploads/2015/11/Choir1-scaled.jpg
GEO:38.9228637;-77.0720087
END:VEVENT
BEGIN:VEVENT
DTSTART;TZID=America/New_York:20170402T113000
DTEND;TZID=America/New_York:20170402T123000
DTSTAMP:20260425T093801
CREATED:20170110T035736Z
LAST-MODIFIED:20170822T181746Z
UID:10000522-1491132600-1491136200@www.unitycenterdc.org
SUMMARY:ACIM Study Group
DESCRIPTION:Each Sunday our A Course in Miracles reading group meets for approximately an hour after the 10:00 am service at 11:30am-12:30pm in the narthex. Anyone may attend the group\, you need no prior experience. If you have a book\, bring it and if not you are welcome to use one of ours. We offer an informal gathering place for reading and discussion.
URL:https://www.unitycenterdc.org/calendar/acim-study-group/2017-04-02/
LOCATION:Unity Center DC on Zoom\, Washington\, DC\, 20007
CATEGORIES:Study
ATTACH;FMTTYPE=image/jpeg:https://www.unitycenterdc.org/wp-content/uploads/2016/01/ACIM.jpg
GEO:38.9228637;-77.0720087
END:VEVENT
BEGIN:VEVENT
DTSTART;TZID=America/New_York:20170402T113000
DTEND;TZID=America/New_York:20170402T123000
DTSTAMP:20260425T093801
CREATED:20170110T034637Z
LAST-MODIFIED:20170822T194131Z
UID:10000442-1491132600-1491136200@www.unitycenterdc.org
SUMMARY:Master Mind Prayer Group
DESCRIPTION:Mastermind Group Group Format. Each Sunday our Mastermind Group meets for approximately an hour after fellowship following the service. After an opening prayer\, the group attendees check in on their goals\, set intentions for the future\, identify prayer requests\, determine a prayer list for the week\, and denials and affirmations are formulated for those in need. \nAlthough no materials are required\, many members find it helpful to keep a prayer journal or MasterMind Journal. These materials are available at the bookstore at the beginning of the calendar year. New members are always welcome and no time commitment is required.
URL:https://www.unitycenterdc.org/calendar/master-mind-prayer-group-2/2017-04-02/
LOCATION:Unity Center DC on Zoom\, Washington\, DC\, 20007
CATEGORIES:Prayer
ATTACH;FMTTYPE=image/png:https://www.unitycenterdc.org/wp-content/uploads/2016/01/Master-Mind-Word-Cloud.png
GEO:38.9228637;-77.0720087
END:VEVENT
BEGIN:VEVENT
DTSTART;TZID=America/New_York:20170404T190000
DTEND;TZID=America/New_York:20170404T210000
DTSTAMP:20260425T093801
CREATED:20151202T162743Z
LAST-MODIFIED:20181022T201502Z
UID:10000123-1491332400-1491339600@www.unitycenterdc.org
SUMMARY:Reiki Share
DESCRIPTION:Join Sylvia Sturm and Chic Welsh-Charrier for a relaxing evening of reiki. This reiki share is open to all who wish to give and receive. Come to learn\, practice and have fun. Love offering welcome. \nSylvia Sturm is a Subtle Energies Practitioner\, Eden Energy Medicine Clinical Practitioner and Reiki Master Teacher. She is a Reiki Fellow\, GW Center for Integrative Medicine Clinical Program Director\, Subtle Energy Program at seniors’ residence\, Washington\,DC\, EFT Certification of Completion Level 1 and Level 2\, and has over 400 volunteer Reiki hours at the George Washington University Hospital.
URL:https://www.unitycenterdc.org/calendar/reiki-share/2017-04-04/
CATEGORIES:Reiki
ATTACH;FMTTYPE=image/jpeg:https://www.unitycenterdc.org/wp-content/uploads/2015/12/Reiki.jpg
END:VEVENT
BEGIN:VEVENT
DTSTART;TZID=America/New_York:20170406T193000
DTEND;TZID=America/New_York:20170406T210000
DTSTAMP:20260425T093801
CREATED:20170110T035258Z
LAST-MODIFIED:20170110T035517Z
UID:10000507-1491507000-1491512400@www.unitycenterdc.org
SUMMARY:Choir Practice
DESCRIPTION:Weekly COTH choir practice. Contact Barbara Wilkinson if interested in joining.
URL:https://www.unitycenterdc.org/calendar/choir-practice-4/2017-04-06/
LOCATION:Unity Center DC on Zoom\, Washington\, DC\, 20007
CATEGORIES:Music
ATTACH;FMTTYPE=image/jpeg:https://www.unitycenterdc.org/wp-content/uploads/2015/11/Choir1-scaled.jpg
GEO:38.9228637;-77.0720087
END:VEVENT
BEGIN:VEVENT
DTSTART;TZID=America/New_York:20170409T113000
DTEND;TZID=America/New_York:20170409T123000
DTSTAMP:20260425T093801
CREATED:20170110T035736Z
LAST-MODIFIED:20170822T181746Z
UID:10000523-1491737400-1491741000@www.unitycenterdc.org
SUMMARY:ACIM Study Group
DESCRIPTION:Each Sunday our A Course in Miracles reading group meets for approximately an hour after the 10:00 am service at 11:30am-12:30pm in the narthex. Anyone may attend the group\, you need no prior experience. If you have a book\, bring it and if not you are welcome to use one of ours. We offer an informal gathering place for reading and discussion.
URL:https://www.unitycenterdc.org/calendar/acim-study-group/2017-04-09/
LOCATION:Unity Center DC on Zoom\, Washington\, DC\, 20007
CATEGORIES:Study
ATTACH;FMTTYPE=image/jpeg:https://www.unitycenterdc.org/wp-content/uploads/2016/01/ACIM.jpg
GEO:38.9228637;-77.0720087
END:VEVENT
BEGIN:VEVENT
DTSTART;TZID=America/New_York:20170409T113000
DTEND;TZID=America/New_York:20170409T123000
DTSTAMP:20260425T093801
CREATED:20170110T034637Z
LAST-MODIFIED:20170822T194131Z
UID:10000443-1491737400-1491741000@www.unitycenterdc.org
SUMMARY:Master Mind Prayer Group
DESCRIPTION:Mastermind Group Group Format. Each Sunday our Mastermind Group meets for approximately an hour after fellowship following the service. After an opening prayer\, the group attendees check in on their goals\, set intentions for the future\, identify prayer requests\, determine a prayer list for the week\, and denials and affirmations are formulated for those in need. \nAlthough no materials are required\, many members find it helpful to keep a prayer journal or MasterMind Journal. These materials are available at the bookstore at the beginning of the calendar year. New members are always welcome and no time commitment is required.
URL:https://www.unitycenterdc.org/calendar/master-mind-prayer-group-2/2017-04-09/
LOCATION:Unity Center DC on Zoom\, Washington\, DC\, 20007
CATEGORIES:Prayer
ATTACH;FMTTYPE=image/png:https://www.unitycenterdc.org/wp-content/uploads/2016/01/Master-Mind-Word-Cloud.png
GEO:38.9228637;-77.0720087
END:VEVENT
BEGIN:VEVENT
DTSTART;TZID=America/New_York:20170411T100000
DTEND;TZID=America/New_York:20170411T120000
DTSTAMP:20260425T093801
CREATED:20170110T033550Z
LAST-MODIFIED:20170110T033550Z
UID:10000391-1491904800-1491912000@www.unitycenterdc.org
SUMMARY:Board of Trustees Meeting
DESCRIPTION:Monthly meeting of the COTH Board of Trustees.
URL:https://www.unitycenterdc.org/calendar/board-of-trustees-meeting/2017-04-11/
LOCATION:Unity Center DC on Zoom\, Washington\, DC\, 20007
CATEGORIES:Board of Trustees
ATTACH;FMTTYPE=image/jpeg:https://www.unitycenterdc.org/wp-content/uploads/2015/12/Board-Meeting.jpg
GEO:38.9228637;-77.0720087
END:VEVENT
BEGIN:VEVENT
DTSTART;TZID=America/New_York:20170413T181500
DTEND;TZID=America/New_York:20170413T190000
DTSTAMP:20260425T093801
CREATED:20170110T034904Z
LAST-MODIFIED:20171106T191850Z
UID:10000485-1492107300-1492110000@www.unitycenterdc.org
SUMMARY:Meditation Group
DESCRIPTION:The purpose will be to hold “the sacred space” for our community and for the world. We will begin with prayer and/or chanting then sit in the silence ending with an OM. All are welcome\, including new or experienced meditators. Contact Kathleen Healy kathleenannhealy at gmail.com for details.
URL:https://www.unitycenterdc.org/calendar/meditation-group-2/2017-04-13/
LOCATION:Unity Center DC on Zoom\, Washington\, DC\, 20007
CATEGORIES:Meditation
ATTACH;FMTTYPE=image/jpeg:https://www.unitycenterdc.org/wp-content/uploads/2016/05/Meditation-Group-1.jpg
GEO:38.9228637;-77.0720087
END:VEVENT
BEGIN:VEVENT
DTSTART;TZID=America/New_York:20170413T193000
DTEND;TZID=America/New_York:20170413T210000
DTSTAMP:20260425T093801
CREATED:20170110T035258Z
LAST-MODIFIED:20170110T035517Z
UID:10000508-1492111800-1492117200@www.unitycenterdc.org
SUMMARY:Choir Practice
DESCRIPTION:Weekly COTH choir practice. Contact Barbara Wilkinson if interested in joining.
URL:https://www.unitycenterdc.org/calendar/choir-practice-4/2017-04-13/
LOCATION:Unity Center DC on Zoom\, Washington\, DC\, 20007
CATEGORIES:Music
ATTACH;FMTTYPE=image/jpeg:https://www.unitycenterdc.org/wp-content/uploads/2015/11/Choir1-scaled.jpg
GEO:38.9228637;-77.0720087
END:VEVENT
BEGIN:VEVENT
DTSTART;TZID=America/New_York:20170416T113000
DTEND;TZID=America/New_York:20170416T123000
DTSTAMP:20260425T093801
CREATED:20170110T035736Z
LAST-MODIFIED:20170822T181746Z
UID:10000524-1492342200-1492345800@www.unitycenterdc.org
SUMMARY:ACIM Study Group
DESCRIPTION:Each Sunday our A Course in Miracles reading group meets for approximately an hour after the 10:00 am service at 11:30am-12:30pm in the narthex. Anyone may attend the group\, you need no prior experience. If you have a book\, bring it and if not you are welcome to use one of ours. We offer an informal gathering place for reading and discussion.
URL:https://www.unitycenterdc.org/calendar/acim-study-group/2017-04-16/
LOCATION:Unity Center DC on Zoom\, Washington\, DC\, 20007
CATEGORIES:Study
ATTACH;FMTTYPE=image/jpeg:https://www.unitycenterdc.org/wp-content/uploads/2016/01/ACIM.jpg
GEO:38.9228637;-77.0720087
END:VEVENT
BEGIN:VEVENT
DTSTART;TZID=America/New_York:20170416T113000
DTEND;TZID=America/New_York:20170416T123000
DTSTAMP:20260425T093801
CREATED:20170110T034637Z
LAST-MODIFIED:20170822T194131Z
UID:10000444-1492342200-1492345800@www.unitycenterdc.org
SUMMARY:Master Mind Prayer Group
DESCRIPTION:Mastermind Group Group Format. Each Sunday our Mastermind Group meets for approximately an hour after fellowship following the service. After an opening prayer\, the group attendees check in on their goals\, set intentions for the future\, identify prayer requests\, determine a prayer list for the week\, and denials and affirmations are formulated for those in need. \nAlthough no materials are required\, many members find it helpful to keep a prayer journal or MasterMind Journal. These materials are available at the bookstore at the beginning of the calendar year. New members are always welcome and no time commitment is required.
URL:https://www.unitycenterdc.org/calendar/master-mind-prayer-group-2/2017-04-16/
LOCATION:Unity Center DC on Zoom\, Washington\, DC\, 20007
CATEGORIES:Prayer
ATTACH;FMTTYPE=image/png:https://www.unitycenterdc.org/wp-content/uploads/2016/01/Master-Mind-Word-Cloud.png
GEO:38.9228637;-77.0720087
END:VEVENT
BEGIN:VEVENT
DTSTART;TZID=America/New_York:20170423T113000
DTEND;TZID=America/New_York:20170423T123000
DTSTAMP:20260425T093801
CREATED:20170110T035736Z
LAST-MODIFIED:20170822T181746Z
UID:10000525-1492947000-1492950600@www.unitycenterdc.org
SUMMARY:ACIM Study Group
DESCRIPTION:Each Sunday our A Course in Miracles reading group meets for approximately an hour after the 10:00 am service at 11:30am-12:30pm in the narthex. Anyone may attend the group\, you need no prior experience. If you have a book\, bring it and if not you are welcome to use one of ours. We offer an informal gathering place for reading and discussion.
URL:https://www.unitycenterdc.org/calendar/acim-study-group/2017-04-23/
LOCATION:Unity Center DC on Zoom\, Washington\, DC\, 20007
CATEGORIES:Study
ATTACH;FMTTYPE=image/jpeg:https://www.unitycenterdc.org/wp-content/uploads/2016/01/ACIM.jpg
GEO:38.9228637;-77.0720087
END:VEVENT
BEGIN:VEVENT
DTSTART;TZID=America/New_York:20170423T113000
DTEND;TZID=America/New_York:20170423T123000
DTSTAMP:20260425T093801
CREATED:20170110T034637Z
LAST-MODIFIED:20170822T194131Z
UID:10000445-1492947000-1492950600@www.unitycenterdc.org
SUMMARY:Master Mind Prayer Group
DESCRIPTION:Mastermind Group Group Format. Each Sunday our Mastermind Group meets for approximately an hour after fellowship following the service. After an opening prayer\, the group attendees check in on their goals\, set intentions for the future\, identify prayer requests\, determine a prayer list for the week\, and denials and affirmations are formulated for those in need. \nAlthough no materials are required\, many members find it helpful to keep a prayer journal or MasterMind Journal. These materials are available at the bookstore at the beginning of the calendar year. New members are always welcome and no time commitment is required.
URL:https://www.unitycenterdc.org/calendar/master-mind-prayer-group-2/2017-04-23/
LOCATION:Unity Center DC on Zoom\, Washington\, DC\, 20007
CATEGORIES:Prayer
ATTACH;FMTTYPE=image/png:https://www.unitycenterdc.org/wp-content/uploads/2016/01/Master-Mind-Word-Cloud.png
GEO:38.9228637;-77.0720087
END:VEVENT
BEGIN:VEVENT
DTSTART;TZID=America/New_York:20170429T100000
DTEND;TZID=America/New_York:20170429T123000
DTSTAMP:20260425T093801
CREATED:20170426T030710Z
LAST-MODIFIED:20170426T030710Z
UID:10000582-1493460000-1493469000@www.unitycenterdc.org
SUMMARY:12 Powers of Man Class
DESCRIPTION:Rev Sandy will teach the principles in Charles Fillmore’s book\, The 12 Powers of Man. SEE credit available. $15 love offering.
URL:https://www.unitycenterdc.org/calendar/12-powers-of-man-class/2017-04-29/
LOCATION:Unity Center DC on Zoom\, Washington\, DC\, 20007
CATEGORIES:Class
ATTACH;FMTTYPE=image/jpeg:https://www.unitycenterdc.org/wp-content/uploads/2017/04/12_powers.jpg
GEO:38.9228637;-77.0720087
END:VEVENT
BEGIN:VEVENT
DTSTART;TZID=America/New_York:20170430T113000
DTEND;TZID=America/New_York:20170430T123000
DTSTAMP:20260425T093801
CREATED:20170110T035736Z
LAST-MODIFIED:20170822T181746Z
UID:10000526-1493551800-1493555400@www.unitycenterdc.org
SUMMARY:ACIM Study Group
DESCRIPTION:Each Sunday our A Course in Miracles reading group meets for approximately an hour after the 10:00 am service at 11:30am-12:30pm in the narthex. Anyone may attend the group\, you need no prior experience. If you have a book\, bring it and if not you are welcome to use one of ours. We offer an informal gathering place for reading and discussion.
URL:https://www.unitycenterdc.org/calendar/acim-study-group/2017-04-30/
LOCATION:Unity Center DC on Zoom\, Washington\, DC\, 20007
CATEGORIES:Study
ATTACH;FMTTYPE=image/jpeg:https://www.unitycenterdc.org/wp-content/uploads/2016/01/ACIM.jpg
GEO:38.9228637;-77.0720087
END:VEVENT
BEGIN:VEVENT
DTSTART;TZID=America/New_York:20170430T113000
DTEND;TZID=America/New_York:20170430T123000
DTSTAMP:20260425T093801
CREATED:20170110T034637Z
LAST-MODIFIED:20170822T194131Z
UID:10000446-1493551800-1493555400@www.unitycenterdc.org
SUMMARY:Master Mind Prayer Group
DESCRIPTION:Mastermind Group Group Format. Each Sunday our Mastermind Group meets for approximately an hour after fellowship following the service. After an opening prayer\, the group attendees check in on their goals\, set intentions for the future\, identify prayer requests\, determine a prayer list for the week\, and denials and affirmations are formulated for those in need. \nAlthough no materials are required\, many members find it helpful to keep a prayer journal or MasterMind Journal. These materials are available at the bookstore at the beginning of the calendar year. New members are always welcome and no time commitment is required.
URL:https://www.unitycenterdc.org/calendar/master-mind-prayer-group-2/2017-04-30/
LOCATION:Unity Center DC on Zoom\, Washington\, DC\, 20007
CATEGORIES:Prayer
ATTACH;FMTTYPE=image/png:https://www.unitycenterdc.org/wp-content/uploads/2016/01/Master-Mind-Word-Cloud.png
GEO:38.9228637;-77.0720087
END:VEVENT
END:VCALENDAR