BEGIN:VCALENDAR
VERSION:2.0
PRODID:-//Unity Center DC - ECPv6.15.20//NONSGML v1.0//EN
CALSCALE:GREGORIAN
METHOD:PUBLISH
X-WR-CALNAME:Unity Center DC
X-ORIGINAL-URL:https://www.unitycenterdc.org
X-WR-CALDESC:Events for Unity Center DC
REFRESH-INTERVAL;VALUE=DURATION:PT1H
X-Robots-Tag:noindex
X-PUBLISHED-TTL:PT1H
BEGIN:VTIMEZONE
TZID:America/New_York
BEGIN:DAYLIGHT
TZOFFSETFROM:-0500
TZOFFSETTO:-0400
TZNAME:EDT
DTSTART:20160313T070000
END:DAYLIGHT
BEGIN:STANDARD
TZOFFSETFROM:-0400
TZOFFSETTO:-0500
TZNAME:EST
DTSTART:20161106T060000
END:STANDARD
BEGIN:DAYLIGHT
TZOFFSETFROM:-0500
TZOFFSETTO:-0400
TZNAME:EDT
DTSTART:20170312T070000
END:DAYLIGHT
BEGIN:STANDARD
TZOFFSETFROM:-0400
TZOFFSETTO:-0500
TZNAME:EST
DTSTART:20171105T060000
END:STANDARD
BEGIN:DAYLIGHT
TZOFFSETFROM:-0500
TZOFFSETTO:-0400
TZNAME:EDT
DTSTART:20180311T070000
END:DAYLIGHT
BEGIN:STANDARD
TZOFFSETFROM:-0400
TZOFFSETTO:-0500
TZNAME:EST
DTSTART:20181104T060000
END:STANDARD
END:VTIMEZONE
BEGIN:VEVENT
DTSTART;TZID=America/New_York:20170921T193000
DTEND;TZID=America/New_York:20170921T210000
DTSTAMP:20260425T090644
CREATED:20170821T173441Z
LAST-MODIFIED:20170821T173441Z
UID:10000588-1506022200-1506027600@www.unitycenterdc.org
SUMMARY:Choir Practice
DESCRIPTION:Weekly choir practice for the fall of 2017.
URL:https://www.unitycenterdc.org/calendar/choir-practice-5/2017-09-21/
LOCATION:Unity Center DC on Zoom\, Washington\, DC\, 20007
CATEGORIES:Music
ATTACH;FMTTYPE=image/jpeg:https://www.unitycenterdc.org/wp-content/uploads/2015/11/Choir1-scaled.jpg
GEO:38.9228637;-77.0720087
END:VEVENT
BEGIN:VEVENT
DTSTART;TZID=America/New_York:20170924T100000
DTEND;TZID=America/New_York:20170924T110000
DTSTAMP:20260425T090644
CREATED:20170110T034356Z
LAST-MODIFIED:20170920T201954Z
UID:10000422-1506247200-1506250800@www.unitycenterdc.org
SUMMARY:Sunday Service: Roy Berkowitz
DESCRIPTION:Speaker: Roy Berkowitz
URL:https://www.unitycenterdc.org/calendar/sunday-service-4-2017-09-24/
LOCATION:Unity Center DC on Zoom\, Washington\, DC\, 20007
CATEGORIES:Service
ATTACH;FMTTYPE=image/jpeg:https://www.unitycenterdc.org/wp-content/uploads/2016/05/Roy-Berkowitz-hr.jpg
GEO:38.9228637;-77.0720087
END:VEVENT
BEGIN:VEVENT
DTSTART;TZID=America/New_York:20170924T113000
DTEND;TZID=America/New_York:20170924T123000
DTSTAMP:20260425T090644
CREATED:20170110T035736Z
LAST-MODIFIED:20170822T181746Z
UID:10000547-1506252600-1506256200@www.unitycenterdc.org
SUMMARY:ACIM Study Group
DESCRIPTION:Each Sunday our A Course in Miracles reading group meets for approximately an hour after the 10:00 am service at 11:30am-12:30pm in the narthex. Anyone may attend the group\, you need no prior experience. If you have a book\, bring it and if not you are welcome to use one of ours. We offer an informal gathering place for reading and discussion.
URL:https://www.unitycenterdc.org/calendar/acim-study-group/2017-09-24/
LOCATION:Unity Center DC on Zoom\, Washington\, DC\, 20007
CATEGORIES:Study
ATTACH;FMTTYPE=image/jpeg:https://www.unitycenterdc.org/wp-content/uploads/2016/01/ACIM.jpg
GEO:38.9228637;-77.0720087
END:VEVENT
BEGIN:VEVENT
DTSTART;TZID=America/New_York:20170924T113000
DTEND;TZID=America/New_York:20170924T123000
DTSTAMP:20260425T090644
CREATED:20170110T034637Z
LAST-MODIFIED:20170822T194131Z
UID:10000467-1506252600-1506256200@www.unitycenterdc.org
SUMMARY:Master Mind Prayer Group
DESCRIPTION:Mastermind Group Group Format. Each Sunday our Mastermind Group meets for approximately an hour after fellowship following the service. After an opening prayer\, the group attendees check in on their goals\, set intentions for the future\, identify prayer requests\, determine a prayer list for the week\, and denials and affirmations are formulated for those in need. \nAlthough no materials are required\, many members find it helpful to keep a prayer journal or MasterMind Journal. These materials are available at the bookstore at the beginning of the calendar year. New members are always welcome and no time commitment is required.
URL:https://www.unitycenterdc.org/calendar/master-mind-prayer-group-2/2017-09-24/
LOCATION:Unity Center DC on Zoom\, Washington\, DC\, 20007
CATEGORIES:Prayer
ATTACH;FMTTYPE=image/png:https://www.unitycenterdc.org/wp-content/uploads/2016/01/Master-Mind-Word-Cloud.png
GEO:38.9228637;-77.0720087
END:VEVENT
BEGIN:VEVENT
DTSTART;TZID=America/New_York:20170928T193000
DTEND;TZID=America/New_York:20170928T210000
DTSTAMP:20260425T090644
CREATED:20170821T173441Z
LAST-MODIFIED:20170821T173441Z
UID:10000589-1506627000-1506632400@www.unitycenterdc.org
SUMMARY:Choir Practice
DESCRIPTION:Weekly choir practice for the fall of 2017.
URL:https://www.unitycenterdc.org/calendar/choir-practice-5/2017-09-28/
LOCATION:Unity Center DC on Zoom\, Washington\, DC\, 20007
CATEGORIES:Music
ATTACH;FMTTYPE=image/jpeg:https://www.unitycenterdc.org/wp-content/uploads/2015/11/Choir1-scaled.jpg
GEO:38.9228637;-77.0720087
END:VEVENT
BEGIN:VEVENT
DTSTART;TZID=America/New_York:20171001T091500
DTEND;TZID=America/New_York:20171001T094500
DTSTAMP:20260425T090644
CREATED:20170920T194934Z
LAST-MODIFIED:20170920T202759Z
UID:10000598-1506849300-1506851100@www.unitycenterdc.org
SUMMARY:Reiki
DESCRIPTION:First Sunday of the month before service in the anteroom off the foyer.
URL:https://www.unitycenterdc.org/calendar/reiki/2017-10-01/
LOCATION:Unity Center DC on Zoom\, Washington\, DC\, 20007
CATEGORIES:Reiki
ATTACH;FMTTYPE=image/jpeg:https://www.unitycenterdc.org/wp-content/uploads/2017/09/Reiki-scaled.jpg
GEO:38.9228637;-77.0720087
END:VEVENT
BEGIN:VEVENT
DTSTART;TZID=America/New_York:20171001T100000
DTEND;TZID=America/New_York:20171001T110000
DTSTAMP:20260425T090644
CREATED:20170110T034356Z
LAST-MODIFIED:20170923T210407Z
UID:10000423-1506852000-1506855600@www.unitycenterdc.org
SUMMARY:Sunday Service-Caywood Black
DESCRIPTION:Worship services begin at 10 am Sunday morning. Plan on arriving a few minutes before hand\, so that you can mingle and find your seat. The Service lasts approximately one hour with additional time afterward for fellowship. Our services include a wonderful selection of music\, meditation\, prayer and an inspirational message from one of our many fine speakers. During our fellowship time\, coffee and light fare are available for your enjoyment. We welcome individuals and families of all kinds at our services. If you have handicapped needs\, please allow extra time for drop off and pick up.
URL:https://www.unitycenterdc.org/calendar/sunday-service-4-2017-10-01/
LOCATION:Unity Center DC on Zoom\, Washington\, DC\, 20007
CATEGORIES:Service
ATTACH;FMTTYPE=image/jpeg:https://www.unitycenterdc.org/wp-content/uploads/2016/05/IMG_9211Rlr.jpg
GEO:38.9228637;-77.0720087
END:VEVENT
BEGIN:VEVENT
DTSTART;TZID=America/New_York:20171001T111500
DTEND;TZID=America/New_York:20171001T120000
DTSTAMP:20260425T090644
CREATED:20170920T201629Z
LAST-MODIFIED:20170920T201629Z
UID:10000608-1506856500-1506859200@www.unitycenterdc.org
SUMMARY:Special Membership Meeting
DESCRIPTION:A Special Membership Meeting of Unity Center DC will be held on Sunday\, October 1\, 2017\, following the service.  The purpose of the meeting is to request the members’ approval of the proposed amendments to our Bylaws. \nThe COTH Board of Trustees regularly reviews its Bylaws to ensure they are consistent with current policy and practice and comply with DC nonprofit corporation law and with recommended bylaws for a Unity ministry published by Unity Worldwide Ministries.  COTH recently completed this review process and the Board is recommending revisions to the current set of Bylaws. \nThe Board will also share a status update on hiring a Senior Minister and next steps.
URL:https://www.unitycenterdc.org/calendar/special-membership-meeting/
LOCATION:Unity Center DC on Zoom\, Washington\, DC\, 20007
GEO:38.9228637;-77.0720087
END:VEVENT
BEGIN:VEVENT
DTSTART;TZID=America/New_York:20171001T113000
DTEND;TZID=America/New_York:20171001T123000
DTSTAMP:20260425T090644
CREATED:20170110T035736Z
LAST-MODIFIED:20170822T181746Z
UID:10000548-1506857400-1506861000@www.unitycenterdc.org
SUMMARY:ACIM Study Group
DESCRIPTION:Each Sunday our A Course in Miracles reading group meets for approximately an hour after the 10:00 am service at 11:30am-12:30pm in the narthex. Anyone may attend the group\, you need no prior experience. If you have a book\, bring it and if not you are welcome to use one of ours. We offer an informal gathering place for reading and discussion.
URL:https://www.unitycenterdc.org/calendar/acim-study-group/2017-10-01/
LOCATION:Unity Center DC on Zoom\, Washington\, DC\, 20007
CATEGORIES:Study
ATTACH;FMTTYPE=image/jpeg:https://www.unitycenterdc.org/wp-content/uploads/2016/01/ACIM.jpg
GEO:38.9228637;-77.0720087
END:VEVENT
BEGIN:VEVENT
DTSTART;TZID=America/New_York:20171001T113000
DTEND;TZID=America/New_York:20171001T123000
DTSTAMP:20260425T090644
CREATED:20170110T034637Z
LAST-MODIFIED:20170822T194131Z
UID:10000468-1506857400-1506861000@www.unitycenterdc.org
SUMMARY:Master Mind Prayer Group
DESCRIPTION:Mastermind Group Group Format. Each Sunday our Mastermind Group meets for approximately an hour after fellowship following the service. After an opening prayer\, the group attendees check in on their goals\, set intentions for the future\, identify prayer requests\, determine a prayer list for the week\, and denials and affirmations are formulated for those in need. \nAlthough no materials are required\, many members find it helpful to keep a prayer journal or MasterMind Journal. These materials are available at the bookstore at the beginning of the calendar year. New members are always welcome and no time commitment is required.
URL:https://www.unitycenterdc.org/calendar/master-mind-prayer-group-2/2017-10-01/
LOCATION:Unity Center DC on Zoom\, Washington\, DC\, 20007
CATEGORIES:Prayer
ATTACH;FMTTYPE=image/png:https://www.unitycenterdc.org/wp-content/uploads/2016/01/Master-Mind-Word-Cloud.png
GEO:38.9228637;-77.0720087
END:VEVENT
BEGIN:VEVENT
DTSTART;TZID=America/New_York:20171004T190000
DTEND;TZID=America/New_York:20171004T210000
DTSTAMP:20260425T090644
CREATED:20151202T162743Z
LAST-MODIFIED:20181022T201502Z
UID:10000128-1507143600-1507150800@www.unitycenterdc.org
SUMMARY:Reiki Share
DESCRIPTION:Join Sylvia Sturm and Chic Welsh-Charrier for a relaxing evening of reiki. This reiki share is open to all who wish to give and receive. Come to learn\, practice and have fun. Love offering welcome. \nSylvia Sturm is a Subtle Energies Practitioner\, Eden Energy Medicine Clinical Practitioner and Reiki Master Teacher. She is a Reiki Fellow\, GW Center for Integrative Medicine Clinical Program Director\, Subtle Energy Program at seniors’ residence\, Washington\,DC\, EFT Certification of Completion Level 1 and Level 2\, and has over 400 volunteer Reiki hours at the George Washington University Hospital.
URL:https://www.unitycenterdc.org/calendar/reiki-share/2017-10-04/
CATEGORIES:Reiki
ATTACH;FMTTYPE=image/jpeg:https://www.unitycenterdc.org/wp-content/uploads/2015/12/Reiki.jpg
END:VEVENT
BEGIN:VEVENT
DTSTART;TZID=America/New_York:20171005T193000
DTEND;TZID=America/New_York:20171005T210000
DTSTAMP:20260425T090644
CREATED:20170821T173441Z
LAST-MODIFIED:20170821T173441Z
UID:10000590-1507231800-1507237200@www.unitycenterdc.org
SUMMARY:Choir Practice
DESCRIPTION:Weekly choir practice for the fall of 2017.
URL:https://www.unitycenterdc.org/calendar/choir-practice-5/2017-10-05/
LOCATION:Unity Center DC on Zoom\, Washington\, DC\, 20007
CATEGORIES:Music
ATTACH;FMTTYPE=image/jpeg:https://www.unitycenterdc.org/wp-content/uploads/2015/11/Choir1-scaled.jpg
GEO:38.9228637;-77.0720087
END:VEVENT
BEGIN:VEVENT
DTSTART;TZID=America/New_York:20171007T090000
DTEND;TZID=America/New_York:20171007T130000
DTSTAMP:20260425T090644
CREATED:20170110T040244Z
LAST-MODIFIED:20170822T155011Z
UID:10000566-1507366800-1507381200@www.unitycenterdc.org
SUMMARY:Eden Energy Medicine Share
DESCRIPTION:Eden Energy Medicine Share open to Eden Energy Medicine Practitioners. Facilitated by Sylvia Sturm.
URL:https://www.unitycenterdc.org/calendar/eden-energy-medicine-share-2/2017-10-07/
LOCATION:Unity Center DC on Zoom\, Washington\, DC\, 20007
CATEGORIES:Private Event
ATTACH;FMTTYPE=image/png:https://www.unitycenterdc.org/wp-content/uploads/2015/12/Eden-Energy.png
GEO:38.9228637;-77.0720087
END:VEVENT
BEGIN:VEVENT
DTSTART;TZID=America/New_York:20171008T100000
DTEND;TZID=America/New_York:20171008T110000
DTSTAMP:20260425T090644
CREATED:20170110T034356Z
LAST-MODIFIED:20170923T210509Z
UID:10000424-1507456800-1507460400@www.unitycenterdc.org
SUMMARY:Sunday Service-John Bell
DESCRIPTION:Worship services begin at 10 am Sunday morning. Plan on arriving a few minutes before hand\, so that you can mingle and find your seat. The Service lasts approximately one hour with additional time afterward for fellowship. Our services include a wonderful selection of music\, meditation\, prayer and an inspirational message from one of our many fine speakers. During our fellowship time\, coffee and light fare are available for your enjoyment. We welcome individuals and families of all kinds at our services. If you have handicapped needs\, please allow extra time for drop off and pick up.
URL:https://www.unitycenterdc.org/calendar/sunday-service-4-2017-10-08/
LOCATION:Unity Center DC on Zoom\, Washington\, DC\, 20007
CATEGORIES:Service
ATTACH;FMTTYPE=image/jpeg:https://www.unitycenterdc.org/wp-content/uploads/2016/05/IMG_9211Rlr.jpg
GEO:38.9228637;-77.0720087
END:VEVENT
BEGIN:VEVENT
DTSTART;TZID=America/New_York:20171008T113000
DTEND;TZID=America/New_York:20171008T123000
DTSTAMP:20260425T090644
CREATED:20170110T035736Z
LAST-MODIFIED:20170822T181746Z
UID:10000549-1507462200-1507465800@www.unitycenterdc.org
SUMMARY:ACIM Study Group
DESCRIPTION:Each Sunday our A Course in Miracles reading group meets for approximately an hour after the 10:00 am service at 11:30am-12:30pm in the narthex. Anyone may attend the group\, you need no prior experience. If you have a book\, bring it and if not you are welcome to use one of ours. We offer an informal gathering place for reading and discussion.
URL:https://www.unitycenterdc.org/calendar/acim-study-group/2017-10-08/
LOCATION:Unity Center DC on Zoom\, Washington\, DC\, 20007
CATEGORIES:Study
ATTACH;FMTTYPE=image/jpeg:https://www.unitycenterdc.org/wp-content/uploads/2016/01/ACIM.jpg
GEO:38.9228637;-77.0720087
END:VEVENT
BEGIN:VEVENT
DTSTART;TZID=America/New_York:20171008T113000
DTEND;TZID=America/New_York:20171008T123000
DTSTAMP:20260425T090644
CREATED:20170110T034637Z
LAST-MODIFIED:20170822T194131Z
UID:10000469-1507462200-1507465800@www.unitycenterdc.org
SUMMARY:Master Mind Prayer Group
DESCRIPTION:Mastermind Group Group Format. Each Sunday our Mastermind Group meets for approximately an hour after fellowship following the service. After an opening prayer\, the group attendees check in on their goals\, set intentions for the future\, identify prayer requests\, determine a prayer list for the week\, and denials and affirmations are formulated for those in need. \nAlthough no materials are required\, many members find it helpful to keep a prayer journal or MasterMind Journal. These materials are available at the bookstore at the beginning of the calendar year. New members are always welcome and no time commitment is required.
URL:https://www.unitycenterdc.org/calendar/master-mind-prayer-group-2/2017-10-08/
LOCATION:Unity Center DC on Zoom\, Washington\, DC\, 20007
CATEGORIES:Prayer
ATTACH;FMTTYPE=image/png:https://www.unitycenterdc.org/wp-content/uploads/2016/01/Master-Mind-Word-Cloud.png
GEO:38.9228637;-77.0720087
END:VEVENT
BEGIN:VEVENT
DTSTART;TZID=America/New_York:20171011T100000
DTEND;TZID=America/New_York:20171011T120000
DTSTAMP:20260425T090644
CREATED:20170110T033550Z
LAST-MODIFIED:20170110T033550Z
UID:10000397-1507716000-1507723200@www.unitycenterdc.org
SUMMARY:Board of Trustees Meeting
DESCRIPTION:Monthly meeting of the COTH Board of Trustees.
URL:https://www.unitycenterdc.org/calendar/board-of-trustees-meeting/2017-10-11/
LOCATION:Unity Center DC on Zoom\, Washington\, DC\, 20007
CATEGORIES:Board of Trustees
ATTACH;FMTTYPE=image/jpeg:https://www.unitycenterdc.org/wp-content/uploads/2015/12/Board-Meeting.jpg
GEO:38.9228637;-77.0720087
END:VEVENT
BEGIN:VEVENT
DTSTART;TZID=America/New_York:20171012T181500
DTEND;TZID=America/New_York:20171012T190000
DTSTAMP:20260425T090644
CREATED:20170110T034904Z
LAST-MODIFIED:20171106T191850Z
UID:10000491-1507832100-1507834800@www.unitycenterdc.org
SUMMARY:Meditation Group
DESCRIPTION:The purpose will be to hold “the sacred space” for our community and for the world. We will begin with prayer and/or chanting then sit in the silence ending with an OM. All are welcome\, including new or experienced meditators. Contact Kathleen Healy kathleenannhealy at gmail.com for details.
URL:https://www.unitycenterdc.org/calendar/meditation-group-2/2017-10-12/
LOCATION:Unity Center DC on Zoom\, Washington\, DC\, 20007
CATEGORIES:Meditation
ATTACH;FMTTYPE=image/jpeg:https://www.unitycenterdc.org/wp-content/uploads/2016/05/Meditation-Group-1.jpg
GEO:38.9228637;-77.0720087
END:VEVENT
BEGIN:VEVENT
DTSTART;TZID=America/New_York:20171012T193000
DTEND;TZID=America/New_York:20171012T210000
DTSTAMP:20260425T090644
CREATED:20170821T173441Z
LAST-MODIFIED:20170821T173441Z
UID:10000591-1507836600-1507842000@www.unitycenterdc.org
SUMMARY:Choir Practice
DESCRIPTION:Weekly choir practice for the fall of 2017.
URL:https://www.unitycenterdc.org/calendar/choir-practice-5/2017-10-12/
LOCATION:Unity Center DC on Zoom\, Washington\, DC\, 20007
CATEGORIES:Music
ATTACH;FMTTYPE=image/jpeg:https://www.unitycenterdc.org/wp-content/uploads/2015/11/Choir1-scaled.jpg
GEO:38.9228637;-77.0720087
END:VEVENT
BEGIN:VEVENT
DTSTART;TZID=America/New_York:20171015T100000
DTEND;TZID=America/New_York:20171015T110000
DTSTAMP:20260425T090644
CREATED:20170110T034356Z
LAST-MODIFIED:20171027T024942Z
UID:10000425-1508061600-1508065200@www.unitycenterdc.org
SUMMARY:Sunday Service-Rod Hill
DESCRIPTION:Worship services begin at 10 am Sunday morning. Plan on arriving a few minutes before hand\, so that you can mingle and find your seat. The Service lasts approximately one hour with additional time afterward for fellowship. Our services include a wonderful selection of music\, meditation\, prayer and an inspirational message from one of our many fine speakers. During our fellowship time\, coffee and light fare are available for your enjoyment. We welcome individuals and families of all kinds at our services. If you have handicapped needs\, please allow extra time for drop off and pick up.
URL:https://www.unitycenterdc.org/calendar/sunday-service-4-2017-10-15/
LOCATION:Unity Center DC on Zoom\, Washington\, DC\, 20007
CATEGORIES:Service
ATTACH;FMTTYPE=image/jpeg:https://www.unitycenterdc.org/wp-content/uploads/2016/05/IMG_9211Rlr.jpg
GEO:38.9228637;-77.0720087
END:VEVENT
BEGIN:VEVENT
DTSTART;TZID=America/New_York:20171015T113000
DTEND;TZID=America/New_York:20171015T123000
DTSTAMP:20260425T090644
CREATED:20170110T035736Z
LAST-MODIFIED:20170822T181746Z
UID:10000550-1508067000-1508070600@www.unitycenterdc.org
SUMMARY:ACIM Study Group
DESCRIPTION:Each Sunday our A Course in Miracles reading group meets for approximately an hour after the 10:00 am service at 11:30am-12:30pm in the narthex. Anyone may attend the group\, you need no prior experience. If you have a book\, bring it and if not you are welcome to use one of ours. We offer an informal gathering place for reading and discussion.
URL:https://www.unitycenterdc.org/calendar/acim-study-group/2017-10-15/
LOCATION:Unity Center DC on Zoom\, Washington\, DC\, 20007
CATEGORIES:Study
ATTACH;FMTTYPE=image/jpeg:https://www.unitycenterdc.org/wp-content/uploads/2016/01/ACIM.jpg
GEO:38.9228637;-77.0720087
END:VEVENT
BEGIN:VEVENT
DTSTART;TZID=America/New_York:20171015T113000
DTEND;TZID=America/New_York:20171015T123000
DTSTAMP:20260425T090644
CREATED:20170110T034637Z
LAST-MODIFIED:20170822T194131Z
UID:10000470-1508067000-1508070600@www.unitycenterdc.org
SUMMARY:Master Mind Prayer Group
DESCRIPTION:Mastermind Group Group Format. Each Sunday our Mastermind Group meets for approximately an hour after fellowship following the service. After an opening prayer\, the group attendees check in on their goals\, set intentions for the future\, identify prayer requests\, determine a prayer list for the week\, and denials and affirmations are formulated for those in need. \nAlthough no materials are required\, many members find it helpful to keep a prayer journal or MasterMind Journal. These materials are available at the bookstore at the beginning of the calendar year. New members are always welcome and no time commitment is required.
URL:https://www.unitycenterdc.org/calendar/master-mind-prayer-group-2/2017-10-15/
LOCATION:Unity Center DC on Zoom\, Washington\, DC\, 20007
CATEGORIES:Prayer
ATTACH;FMTTYPE=image/png:https://www.unitycenterdc.org/wp-content/uploads/2016/01/Master-Mind-Word-Cloud.png
GEO:38.9228637;-77.0720087
END:VEVENT
BEGIN:VEVENT
DTSTART;TZID=America/New_York:20171019T193000
DTEND;TZID=America/New_York:20171019T210000
DTSTAMP:20260425T090644
CREATED:20170821T173441Z
LAST-MODIFIED:20170821T173441Z
UID:10000592-1508441400-1508446800@www.unitycenterdc.org
SUMMARY:Choir Practice
DESCRIPTION:Weekly choir practice for the fall of 2017.
URL:https://www.unitycenterdc.org/calendar/choir-practice-5/2017-10-19/
LOCATION:Unity Center DC on Zoom\, Washington\, DC\, 20007
CATEGORIES:Music
ATTACH;FMTTYPE=image/jpeg:https://www.unitycenterdc.org/wp-content/uploads/2015/11/Choir1-scaled.jpg
GEO:38.9228637;-77.0720087
END:VEVENT
BEGIN:VEVENT
DTSTART;TZID=America/New_York:20171022T100000
DTEND;TZID=America/New_York:20171022T110000
DTSTAMP:20260425T090644
CREATED:20170110T034356Z
LAST-MODIFIED:20171022T011857Z
UID:10000426-1508666400-1508670000@www.unitycenterdc.org
SUMMARY:Sunday Service-Janice Coyle
DESCRIPTION:I am Janice Collins Coyle.  I previously spoke at COTH – a message inspired by another Joel Goldsmith book\, The Mystical I.  This message will is inspired by Joel Goldsmith’s  book\, The Art of Spiritual Healing. I have studied Joel Goldsmith’s teachings for over 30 years and have experienced healing myself and personally observed others’ healings through spiritual means.  This talk will be take the mystery out of healing with specific ideas to practice and why they work.\nWorship services begin at 10 am Sunday morning. Plan on arriving a few minutes before hand\, so that you can mingle and find your seat. The Service lasts approximately one hour with additional time afterward for fellowship. Our services include a wonderful selection of music\, meditation\, prayer and an inspirational message from one of our many fine speakers. During our fellowship time\, coffee and light fare are available for your enjoyment. We welcome individuals and families of all kinds at our services. If you have handicapped needs\, please allow extra time for drop off and pick up.
URL:https://www.unitycenterdc.org/calendar/sunday-service-4-2017-10-22/
LOCATION:Unity Center DC on Zoom\, Washington\, DC\, 20007
CATEGORIES:Service
ATTACH;FMTTYPE=image/jpeg:https://www.unitycenterdc.org/wp-content/uploads/2017/01/Janice-Coyle.jpg
GEO:38.9228637;-77.0720087
END:VEVENT
BEGIN:VEVENT
DTSTART;TZID=America/New_York:20171022T113000
DTEND;TZID=America/New_York:20171022T123000
DTSTAMP:20260425T090644
CREATED:20170110T035736Z
LAST-MODIFIED:20170822T181746Z
UID:10000551-1508671800-1508675400@www.unitycenterdc.org
SUMMARY:ACIM Study Group
DESCRIPTION:Each Sunday our A Course in Miracles reading group meets for approximately an hour after the 10:00 am service at 11:30am-12:30pm in the narthex. Anyone may attend the group\, you need no prior experience. If you have a book\, bring it and if not you are welcome to use one of ours. We offer an informal gathering place for reading and discussion.
URL:https://www.unitycenterdc.org/calendar/acim-study-group/2017-10-22/
LOCATION:Unity Center DC on Zoom\, Washington\, DC\, 20007
CATEGORIES:Study
ATTACH;FMTTYPE=image/jpeg:https://www.unitycenterdc.org/wp-content/uploads/2016/01/ACIM.jpg
GEO:38.9228637;-77.0720087
END:VEVENT
BEGIN:VEVENT
DTSTART;TZID=America/New_York:20171022T113000
DTEND;TZID=America/New_York:20171022T123000
DTSTAMP:20260425T090644
CREATED:20170110T034637Z
LAST-MODIFIED:20170822T194131Z
UID:10000471-1508671800-1508675400@www.unitycenterdc.org
SUMMARY:Master Mind Prayer Group
DESCRIPTION:Mastermind Group Group Format. Each Sunday our Mastermind Group meets for approximately an hour after fellowship following the service. After an opening prayer\, the group attendees check in on their goals\, set intentions for the future\, identify prayer requests\, determine a prayer list for the week\, and denials and affirmations are formulated for those in need. \nAlthough no materials are required\, many members find it helpful to keep a prayer journal or MasterMind Journal. These materials are available at the bookstore at the beginning of the calendar year. New members are always welcome and no time commitment is required.
URL:https://www.unitycenterdc.org/calendar/master-mind-prayer-group-2/2017-10-22/
LOCATION:Unity Center DC on Zoom\, Washington\, DC\, 20007
CATEGORIES:Prayer
ATTACH;FMTTYPE=image/png:https://www.unitycenterdc.org/wp-content/uploads/2016/01/Master-Mind-Word-Cloud.png
GEO:38.9228637;-77.0720087
END:VEVENT
BEGIN:VEVENT
DTSTART;TZID=America/New_York:20171026T193000
DTEND;TZID=America/New_York:20171026T210000
DTSTAMP:20260425T090644
CREATED:20170821T173441Z
LAST-MODIFIED:20170821T173441Z
UID:10000593-1509046200-1509051600@www.unitycenterdc.org
SUMMARY:Choir Practice
DESCRIPTION:Weekly choir practice for the fall of 2017.
URL:https://www.unitycenterdc.org/calendar/choir-practice-5/2017-10-26/
LOCATION:Unity Center DC on Zoom\, Washington\, DC\, 20007
CATEGORIES:Music
ATTACH;FMTTYPE=image/jpeg:https://www.unitycenterdc.org/wp-content/uploads/2015/11/Choir1-scaled.jpg
GEO:38.9228637;-77.0720087
END:VEVENT
BEGIN:VEVENT
DTSTART;TZID=America/New_York:20171029T100000
DTEND;TZID=America/New_York:20171029T110000
DTSTAMP:20260425T090644
CREATED:20170110T034356Z
LAST-MODIFIED:20170822T155829Z
UID:10000414-1509271200-1509274800@www.unitycenterdc.org
SUMMARY:Sunday Service
DESCRIPTION:Worship services begin at 10 am Sunday morning. Plan on arriving a few minutes before hand\, so that you can mingle and find your seat. The Service lasts approximately one hour with additional time afterward for fellowship. Our services include a wonderful selection of music\, meditation\, prayer and an inspirational message from one of our many fine speakers. During our fellowship time\, coffee and light fare are available for your enjoyment. We welcome individuals and families of all kinds at our services. If you have handicapped needs\, please allow extra time for drop off and pick up.
URL:https://www.unitycenterdc.org/calendar/sunday-service-4/2017-10-29/
LOCATION:Unity Center DC on Zoom\, Washington\, DC\, 20007
CATEGORIES:Service
ATTACH;FMTTYPE=image/jpeg:https://www.unitycenterdc.org/wp-content/uploads/2016/05/IMG_9211Rlr.jpg
GEO:38.9228637;-77.0720087
END:VEVENT
BEGIN:VEVENT
DTSTART;TZID=America/New_York:20171029T113000
DTEND;TZID=America/New_York:20171029T123000
DTSTAMP:20260425T090644
CREATED:20170110T035736Z
LAST-MODIFIED:20170822T181746Z
UID:10000552-1509276600-1509280200@www.unitycenterdc.org
SUMMARY:ACIM Study Group
DESCRIPTION:Each Sunday our A Course in Miracles reading group meets for approximately an hour after the 10:00 am service at 11:30am-12:30pm in the narthex. Anyone may attend the group\, you need no prior experience. If you have a book\, bring it and if not you are welcome to use one of ours. We offer an informal gathering place for reading and discussion.
URL:https://www.unitycenterdc.org/calendar/acim-study-group/2017-10-29/
LOCATION:Unity Center DC on Zoom\, Washington\, DC\, 20007
CATEGORIES:Study
ATTACH;FMTTYPE=image/jpeg:https://www.unitycenterdc.org/wp-content/uploads/2016/01/ACIM.jpg
GEO:38.9228637;-77.0720087
END:VEVENT
BEGIN:VEVENT
DTSTART;TZID=America/New_York:20171029T113000
DTEND;TZID=America/New_York:20171029T123000
DTSTAMP:20260425T090644
CREATED:20170110T034637Z
LAST-MODIFIED:20170822T194131Z
UID:10000472-1509276600-1509280200@www.unitycenterdc.org
SUMMARY:Master Mind Prayer Group
DESCRIPTION:Mastermind Group Group Format. Each Sunday our Mastermind Group meets for approximately an hour after fellowship following the service. After an opening prayer\, the group attendees check in on their goals\, set intentions for the future\, identify prayer requests\, determine a prayer list for the week\, and denials and affirmations are formulated for those in need. \nAlthough no materials are required\, many members find it helpful to keep a prayer journal or MasterMind Journal. These materials are available at the bookstore at the beginning of the calendar year. New members are always welcome and no time commitment is required.
URL:https://www.unitycenterdc.org/calendar/master-mind-prayer-group-2/2017-10-29/
LOCATION:Unity Center DC on Zoom\, Washington\, DC\, 20007
CATEGORIES:Prayer
ATTACH;FMTTYPE=image/png:https://www.unitycenterdc.org/wp-content/uploads/2016/01/Master-Mind-Word-Cloud.png
GEO:38.9228637;-77.0720087
END:VEVENT
END:VCALENDAR