BEGIN:VCALENDAR
VERSION:2.0
PRODID:-//Unity Center DC - ECPv6.15.20//NONSGML v1.0//EN
CALSCALE:GREGORIAN
METHOD:PUBLISH
X-WR-CALNAME:Unity Center DC
X-ORIGINAL-URL:https://www.unitycenterdc.org
X-WR-CALDESC:Events for Unity Center DC
REFRESH-INTERVAL;VALUE=DURATION:PT1H
X-Robots-Tag:noindex
X-PUBLISHED-TTL:PT1H
BEGIN:VTIMEZONE
TZID:America/New_York
BEGIN:DAYLIGHT
TZOFFSETFROM:-0500
TZOFFSETTO:-0400
TZNAME:EDT
DTSTART:20240310T070000
END:DAYLIGHT
BEGIN:STANDARD
TZOFFSETFROM:-0400
TZOFFSETTO:-0500
TZNAME:EST
DTSTART:20241103T060000
END:STANDARD
BEGIN:DAYLIGHT
TZOFFSETFROM:-0500
TZOFFSETTO:-0400
TZNAME:EDT
DTSTART:20250309T070000
END:DAYLIGHT
BEGIN:STANDARD
TZOFFSETFROM:-0400
TZOFFSETTO:-0500
TZNAME:EST
DTSTART:20251102T060000
END:STANDARD
BEGIN:DAYLIGHT
TZOFFSETFROM:-0500
TZOFFSETTO:-0400
TZNAME:EDT
DTSTART:20260308T070000
END:DAYLIGHT
BEGIN:STANDARD
TZOFFSETFROM:-0400
TZOFFSETTO:-0500
TZNAME:EST
DTSTART:20261101T060000
END:STANDARD
END:VTIMEZONE
BEGIN:VEVENT
DTSTART;TZID=America/New_York:20250903T193000
DTEND;TZID=America/New_York:20250903T203000
DTSTAMP:20260423T202013
CREATED:20240710T195714Z
LAST-MODIFIED:20251215T015512Z
UID:10002379-1756927800-1756931400@www.unitycenterdc.org
SUMMARY:A Course in Miracles Wednesday Study Group
DESCRIPTION:Our ACIM Study Group meets Wednesday\, 7:30PM to 8:30PM. We welcome Course students of all levels. We read from the Text with discussion as desired. \nACIM Wednesdays 7:30-8:30PM\nJoin Zoom Meeting\nhttps://us02web.zoom.us/j/81683083429?pwd=MXhaTjBZUTJyRlRaSFF6VnNLTHB4Zz09\nMeeting ID: 816 8308 3429\nPassword: 761662\nPhone: 1-301-715-8592
URL:https://www.unitycenterdc.org/calendar/a-course-in-miracles-wednesday-study-group-3-2-2/2025-09-03/
LOCATION:Unity Center DC on Zoom\, Washington\, DC\, 20007
CATEGORIES:Study
ATTACH;FMTTYPE=image/jpeg:https://www.unitycenterdc.org/wp-content/uploads/2016/01/ACIM.jpg
GEO:38.9228637;-77.0720087
END:VEVENT
BEGIN:VEVENT
DTSTART;TZID=America/New_York:20250904T190000
DTEND;TZID=America/New_York:20250904T200000
DTSTAMP:20260423T202013
CREATED:20231231T181310Z
LAST-MODIFIED:20250617T181528Z
UID:10002036-1757012400-1757016000@www.unitycenterdc.org
SUMMARY:Spiritual Support Group
DESCRIPTION:Facilitated by Kathleen Healy \nOur Spiritual Support Group meets the 1st and 3rd Thursdays of the month to share our spiritual journey and to hold each other in light as we adjust to the changes happening in our lives and the world. If interested in learning more and/or joining please contact Kathleen at kathleenannhealy@gmail.com \n((•)) Zoom to Meditation\nMeeting ID: 879 1247 7261\nPasscode: 471632
URL:https://www.unitycenterdc.org/calendar/spiritual-support-group-3/2025-09-04/
LOCATION:Unity Center DC on Zoom\, Washington\, DC\, 20007
CATEGORIES:Class
ATTACH;FMTTYPE=image/jpeg:https://www.unitycenterdc.org/wp-content/uploads/2021/04/Zoom-Board-Meeting.jpg
GEO:38.9228637;-77.0720087
END:VEVENT
BEGIN:VEVENT
DTSTART;TZID=America/New_York:20250906T190000
DTEND;TZID=America/New_York:20250906T191500
DTSTAMP:20260423T202013
CREATED:20251002T222039Z
LAST-MODIFIED:20251003T134335Z
UID:10002226-1757185200-1757186100@www.unitycenterdc.org
SUMMARY:Peace Prayer Circle
DESCRIPTION:Wherever you are\nEvery Saturday\, 7:00 PM\nEach Saturday\, we join together in a virtual moment of prayer for global healing and peace. No matter where you are or what you are doing\, take this moment to connect to this powerful practice to bring peace to the world.
URL:https://www.unitycenterdc.org/calendar/peace-prayer-circle/2025-09-06/
LOCATION:Unity Center DC on Zoom\, Washington\, DC\, 20007
CATEGORIES:Prayer
ATTACH;FMTTYPE=image/png:https://www.unitycenterdc.org/wp-content/uploads/2025/01/Circle-of-Folks-low.png
GEO:38.9228637;-77.0720087
END:VEVENT
BEGIN:VEVENT
DTSTART;TZID=America/New_York:20250907T110000
DTEND;TZID=America/New_York:20250907T123000
DTSTAMP:20260423T202013
CREATED:20231231T180531Z
LAST-MODIFIED:20250617T181233Z
UID:10002017-1757242800-1757248200@www.unitycenterdc.org
SUMMARY:Sunday Service
DESCRIPTION:Unity Center DC Sunday Service\, 11:00am to Noon\, fellowship to follow. Virtual only. We welcome everyone to join our fabulous speakers and musicians in sharing the Unity message. Unity is a global\, inclusive\, spiritual community. We offer practical\, uplifting resources to help people of all faiths apply positive spiritual principles to their lives. \nAll services are available on www.youtube.com/unitycenterdc\nThank you for your love offerings @unitycenterdc on Venmo. \n11:00 AM Sunday Celebration Service (Same info each week)\nJoin Zoom Meeting\nhttps://zoom.us/j/621776707?pwd=dUQ5Z0VnbS9RSThJd2JEb2FLTWxGQT09\nMeeting id: 621 776 707\nPassword: 250925
URL:https://www.unitycenterdc.org/calendar/sunday-service-6-2/2025-09-07/
LOCATION:Unity Center DC on Zoom\, Washington\, DC\, 20007
CATEGORIES:Service
ATTACH;FMTTYPE=image/png:https://www.unitycenterdc.org/wp-content/uploads/2020/12/Zoom-Desktop-1.png
GEO:38.9228637;-77.0720087
END:VEVENT
BEGIN:VEVENT
DTSTART;TZID=America/New_York:20250910T193000
DTEND;TZID=America/New_York:20250910T203000
DTSTAMP:20260423T202013
CREATED:20240710T195714Z
LAST-MODIFIED:20251215T015512Z
UID:10002380-1757532600-1757536200@www.unitycenterdc.org
SUMMARY:A Course in Miracles Wednesday Study Group
DESCRIPTION:Our ACIM Study Group meets Wednesday\, 7:30PM to 8:30PM. We welcome Course students of all levels. We read from the Text with discussion as desired. \nACIM Wednesdays 7:30-8:30PM\nJoin Zoom Meeting\nhttps://us02web.zoom.us/j/81683083429?pwd=MXhaTjBZUTJyRlRaSFF6VnNLTHB4Zz09\nMeeting ID: 816 8308 3429\nPassword: 761662\nPhone: 1-301-715-8592
URL:https://www.unitycenterdc.org/calendar/a-course-in-miracles-wednesday-study-group-3-2-2/2025-09-10/
LOCATION:Unity Center DC on Zoom\, Washington\, DC\, 20007
CATEGORIES:Study
ATTACH;FMTTYPE=image/jpeg:https://www.unitycenterdc.org/wp-content/uploads/2016/01/ACIM.jpg
GEO:38.9228637;-77.0720087
END:VEVENT
BEGIN:VEVENT
DTSTART;TZID=America/New_York:20250911T193000
DTEND;TZID=America/New_York:20250911T203000
DTSTAMP:20260423T202013
CREATED:20240502T184851Z
LAST-MODIFIED:20251215T020735Z
UID:10002437-1757619000-1757622600@www.unitycenterdc.org
SUMMARY:Book Group—Divine Audacity
DESCRIPTION:Book Group—Divine Audacity\n \nRev Linda Martella-Whitsett’s new book\, Divine Audacity makes the audacious claim that each of us can be “the light of the world” Jesus instructed his followers to be. She offers a path for living a deep and authentic life outside of the strictures of traditional religious categories. A refreshing approach\, in essence\, on how to be spiritual without being religious. \nWe need to jettison the idea of a God who is out there and above us. God is not a super-human who gives and takes\, punishes and rewards. God does not require human suffering and repentance. \nWe truly find God when we go inside to connect with divine light\, realize our oneness with God and others\, and let our light shine in the world. Martella-Whittset looks at what “divine light” is and how it is both audacious and normal to claim it for ourselves. Next she introduces us to 12 spiritual powers we can all develop and learn to use on a daily basis: faith\, understanding\, will\, imagination\, zeal power\, love\, wisdom\, strength\, order\, release\, and life itself. When we consciously shine our spiritual powers on ourselves\, not only are our lives improved\, but all of humanity can be enriched and transformed. Let your light shine! \nKindle\, new and used versions available at Amazon. \n((•)) Zoom to Meeting. \nMeeting ID: 896 6201 4678\nPasscode: book
URL:https://www.unitycenterdc.org/calendar/book-group-divine-audacity/2025-09-11/
LOCATION:Unity Center DC on Zoom\, Washington\, DC\, 20007
CATEGORIES:Class
ATTACH;FMTTYPE=image/jpeg:https://www.unitycenterdc.org/wp-content/uploads/2024/05/Divine-Audacity.jpg
GEO:38.9228637;-77.0720087
END:VEVENT
BEGIN:VEVENT
DTSTART;TZID=America/New_York:20250913T190000
DTEND;TZID=America/New_York:20250913T191500
DTSTAMP:20260423T202013
CREATED:20251002T222039Z
LAST-MODIFIED:20251003T134335Z
UID:10002227-1757790000-1757790900@www.unitycenterdc.org
SUMMARY:Peace Prayer Circle
DESCRIPTION:Wherever you are\nEvery Saturday\, 7:00 PM\nEach Saturday\, we join together in a virtual moment of prayer for global healing and peace. No matter where you are or what you are doing\, take this moment to connect to this powerful practice to bring peace to the world.
URL:https://www.unitycenterdc.org/calendar/peace-prayer-circle/2025-09-13/
LOCATION:Unity Center DC on Zoom\, Washington\, DC\, 20007
CATEGORIES:Prayer
ATTACH;FMTTYPE=image/png:https://www.unitycenterdc.org/wp-content/uploads/2025/01/Circle-of-Folks-low.png
GEO:38.9228637;-77.0720087
END:VEVENT
BEGIN:VEVENT
DTSTART;TZID=America/New_York:20250914T110000
DTEND;TZID=America/New_York:20250914T123000
DTSTAMP:20260423T202013
CREATED:20231231T180531Z
LAST-MODIFIED:20250617T181233Z
UID:10002018-1757847600-1757853000@www.unitycenterdc.org
SUMMARY:Sunday Service
DESCRIPTION:Unity Center DC Sunday Service\, 11:00am to Noon\, fellowship to follow. Virtual only. We welcome everyone to join our fabulous speakers and musicians in sharing the Unity message. Unity is a global\, inclusive\, spiritual community. We offer practical\, uplifting resources to help people of all faiths apply positive spiritual principles to their lives. \nAll services are available on www.youtube.com/unitycenterdc\nThank you for your love offerings @unitycenterdc on Venmo. \n11:00 AM Sunday Celebration Service (Same info each week)\nJoin Zoom Meeting\nhttps://zoom.us/j/621776707?pwd=dUQ5Z0VnbS9RSThJd2JEb2FLTWxGQT09\nMeeting id: 621 776 707\nPassword: 250925
URL:https://www.unitycenterdc.org/calendar/sunday-service-6-2/2025-09-14/
LOCATION:Unity Center DC on Zoom\, Washington\, DC\, 20007
CATEGORIES:Service
ATTACH;FMTTYPE=image/png:https://www.unitycenterdc.org/wp-content/uploads/2020/12/Zoom-Desktop-1.png
GEO:38.9228637;-77.0720087
END:VEVENT
BEGIN:VEVENT
DTSTART;TZID=America/New_York:20250917T193000
DTEND;TZID=America/New_York:20250917T203000
DTSTAMP:20260423T202013
CREATED:20240710T195714Z
LAST-MODIFIED:20251215T015512Z
UID:10002381-1758137400-1758141000@www.unitycenterdc.org
SUMMARY:A Course in Miracles Wednesday Study Group
DESCRIPTION:Our ACIM Study Group meets Wednesday\, 7:30PM to 8:30PM. We welcome Course students of all levels. We read from the Text with discussion as desired. \nACIM Wednesdays 7:30-8:30PM\nJoin Zoom Meeting\nhttps://us02web.zoom.us/j/81683083429?pwd=MXhaTjBZUTJyRlRaSFF6VnNLTHB4Zz09\nMeeting ID: 816 8308 3429\nPassword: 761662\nPhone: 1-301-715-8592
URL:https://www.unitycenterdc.org/calendar/a-course-in-miracles-wednesday-study-group-3-2-2/2025-09-17/
LOCATION:Unity Center DC on Zoom\, Washington\, DC\, 20007
CATEGORIES:Study
ATTACH;FMTTYPE=image/jpeg:https://www.unitycenterdc.org/wp-content/uploads/2016/01/ACIM.jpg
GEO:38.9228637;-77.0720087
END:VEVENT
BEGIN:VEVENT
DTSTART;TZID=America/New_York:20250918T190000
DTEND;TZID=America/New_York:20250918T200000
DTSTAMP:20260423T202013
CREATED:20231231T181132Z
LAST-MODIFIED:20250617T181612Z
UID:10002042-1758222000-1758225600@www.unitycenterdc.org
SUMMARY:Spiritual Support Group
DESCRIPTION:Facilitated by Kathleen Healy \nOur Spiritual Support Group meets the 1st and 3rd Thursdays of the month to share our spiritual journey and to hold each other in light as we adjust to the changes happening in our lives and the world. If interested in learning more and/or joining please contact Kathleen at kathleenannhealy@gmail.com \n((•)) Zoom to Meditation\nMeeting ID: 879 1247 7261\nPasscode: 471632
URL:https://www.unitycenterdc.org/calendar/spiritual-support-group-2-2/2025-09-18/
LOCATION:Unity Center DC on Zoom\, Washington\, DC\, 20007
CATEGORIES:Class
ATTACH;FMTTYPE=image/jpeg:https://www.unitycenterdc.org/wp-content/uploads/2021/04/Zoom-Board-Meeting.jpg
GEO:38.9228637;-77.0720087
END:VEVENT
BEGIN:VEVENT
DTSTART;TZID=America/New_York:20250920T190000
DTEND;TZID=America/New_York:20250920T191500
DTSTAMP:20260423T202013
CREATED:20251002T222039Z
LAST-MODIFIED:20251003T134335Z
UID:10002228-1758394800-1758395700@www.unitycenterdc.org
SUMMARY:Peace Prayer Circle
DESCRIPTION:Wherever you are\nEvery Saturday\, 7:00 PM\nEach Saturday\, we join together in a virtual moment of prayer for global healing and peace. No matter where you are or what you are doing\, take this moment to connect to this powerful practice to bring peace to the world.
URL:https://www.unitycenterdc.org/calendar/peace-prayer-circle/2025-09-20/
LOCATION:Unity Center DC on Zoom\, Washington\, DC\, 20007
CATEGORIES:Prayer
ATTACH;FMTTYPE=image/png:https://www.unitycenterdc.org/wp-content/uploads/2025/01/Circle-of-Folks-low.png
GEO:38.9228637;-77.0720087
END:VEVENT
BEGIN:VEVENT
DTSTART;TZID=America/New_York:20250921T110000
DTEND;TZID=America/New_York:20250921T123000
DTSTAMP:20260423T202013
CREATED:20231231T180531Z
LAST-MODIFIED:20250617T181233Z
UID:10002019-1758452400-1758457800@www.unitycenterdc.org
SUMMARY:Sunday Service
DESCRIPTION:Unity Center DC Sunday Service\, 11:00am to Noon\, fellowship to follow. Virtual only. We welcome everyone to join our fabulous speakers and musicians in sharing the Unity message. Unity is a global\, inclusive\, spiritual community. We offer practical\, uplifting resources to help people of all faiths apply positive spiritual principles to their lives. \nAll services are available on www.youtube.com/unitycenterdc\nThank you for your love offerings @unitycenterdc on Venmo. \n11:00 AM Sunday Celebration Service (Same info each week)\nJoin Zoom Meeting\nhttps://zoom.us/j/621776707?pwd=dUQ5Z0VnbS9RSThJd2JEb2FLTWxGQT09\nMeeting id: 621 776 707\nPassword: 250925
URL:https://www.unitycenterdc.org/calendar/sunday-service-6-2/2025-09-21/
LOCATION:Unity Center DC on Zoom\, Washington\, DC\, 20007
CATEGORIES:Service
ATTACH;FMTTYPE=image/png:https://www.unitycenterdc.org/wp-content/uploads/2020/12/Zoom-Desktop-1.png
GEO:38.9228637;-77.0720087
END:VEVENT
BEGIN:VEVENT
DTSTART;TZID=America/New_York:20250924T193000
DTEND;TZID=America/New_York:20250924T203000
DTSTAMP:20260423T202013
CREATED:20240710T195714Z
LAST-MODIFIED:20251215T015512Z
UID:10002382-1758742200-1758745800@www.unitycenterdc.org
SUMMARY:A Course in Miracles Wednesday Study Group
DESCRIPTION:Our ACIM Study Group meets Wednesday\, 7:30PM to 8:30PM. We welcome Course students of all levels. We read from the Text with discussion as desired. \nACIM Wednesdays 7:30-8:30PM\nJoin Zoom Meeting\nhttps://us02web.zoom.us/j/81683083429?pwd=MXhaTjBZUTJyRlRaSFF6VnNLTHB4Zz09\nMeeting ID: 816 8308 3429\nPassword: 761662\nPhone: 1-301-715-8592
URL:https://www.unitycenterdc.org/calendar/a-course-in-miracles-wednesday-study-group-3-2-2/2025-09-24/
LOCATION:Unity Center DC on Zoom\, Washington\, DC\, 20007
CATEGORIES:Study
ATTACH;FMTTYPE=image/jpeg:https://www.unitycenterdc.org/wp-content/uploads/2016/01/ACIM.jpg
GEO:38.9228637;-77.0720087
END:VEVENT
BEGIN:VEVENT
DTSTART;TZID=America/New_York:20250927T190000
DTEND;TZID=America/New_York:20250927T191500
DTSTAMP:20260423T202013
CREATED:20251002T222039Z
LAST-MODIFIED:20251003T134335Z
UID:10002229-1758999600-1759000500@www.unitycenterdc.org
SUMMARY:Peace Prayer Circle
DESCRIPTION:Wherever you are\nEvery Saturday\, 7:00 PM\nEach Saturday\, we join together in a virtual moment of prayer for global healing and peace. No matter where you are or what you are doing\, take this moment to connect to this powerful practice to bring peace to the world.
URL:https://www.unitycenterdc.org/calendar/peace-prayer-circle/2025-09-27/
LOCATION:Unity Center DC on Zoom\, Washington\, DC\, 20007
CATEGORIES:Prayer
ATTACH;FMTTYPE=image/png:https://www.unitycenterdc.org/wp-content/uploads/2025/01/Circle-of-Folks-low.png
GEO:38.9228637;-77.0720087
END:VEVENT
BEGIN:VEVENT
DTSTART;TZID=America/New_York:20250928T110000
DTEND;TZID=America/New_York:20250928T123000
DTSTAMP:20260423T202013
CREATED:20231231T180531Z
LAST-MODIFIED:20250617T181233Z
UID:10002020-1759057200-1759062600@www.unitycenterdc.org
SUMMARY:Sunday Service
DESCRIPTION:Unity Center DC Sunday Service\, 11:00am to Noon\, fellowship to follow. Virtual only. We welcome everyone to join our fabulous speakers and musicians in sharing the Unity message. Unity is a global\, inclusive\, spiritual community. We offer practical\, uplifting resources to help people of all faiths apply positive spiritual principles to their lives. \nAll services are available on www.youtube.com/unitycenterdc\nThank you for your love offerings @unitycenterdc on Venmo. \n11:00 AM Sunday Celebration Service (Same info each week)\nJoin Zoom Meeting\nhttps://zoom.us/j/621776707?pwd=dUQ5Z0VnbS9RSThJd2JEb2FLTWxGQT09\nMeeting id: 621 776 707\nPassword: 250925
URL:https://www.unitycenterdc.org/calendar/sunday-service-6-2/2025-09-28/
LOCATION:Unity Center DC on Zoom\, Washington\, DC\, 20007
CATEGORIES:Service
ATTACH;FMTTYPE=image/png:https://www.unitycenterdc.org/wp-content/uploads/2020/12/Zoom-Desktop-1.png
GEO:38.9228637;-77.0720087
END:VEVENT
END:VCALENDAR