BEGIN:VCALENDAR
VERSION:2.0
PRODID:-//Unity Center DC - ECPv6.15.20//NONSGML v1.0//EN
CALSCALE:GREGORIAN
METHOD:PUBLISH
X-ORIGINAL-URL:https://www.unitycenterdc.org
X-WR-CALDESC:Events for Unity Center DC
REFRESH-INTERVAL;VALUE=DURATION:PT1H
X-Robots-Tag:noindex
X-PUBLISHED-TTL:PT1H
BEGIN:VTIMEZONE
TZID:America/New_York
BEGIN:DAYLIGHT
TZOFFSETFROM:-0500
TZOFFSETTO:-0400
TZNAME:EDT
DTSTART:20250309T070000
END:DAYLIGHT
BEGIN:STANDARD
TZOFFSETFROM:-0400
TZOFFSETTO:-0500
TZNAME:EST
DTSTART:20251102T060000
END:STANDARD
BEGIN:DAYLIGHT
TZOFFSETFROM:-0500
TZOFFSETTO:-0400
TZNAME:EDT
DTSTART:20260308T070000
END:DAYLIGHT
BEGIN:STANDARD
TZOFFSETFROM:-0400
TZOFFSETTO:-0500
TZNAME:EST
DTSTART:20261101T060000
END:STANDARD
BEGIN:DAYLIGHT
TZOFFSETFROM:-0500
TZOFFSETTO:-0400
TZNAME:EDT
DTSTART:20270314T070000
END:DAYLIGHT
BEGIN:STANDARD
TZOFFSETFROM:-0400
TZOFFSETTO:-0500
TZNAME:EST
DTSTART:20271107T060000
END:STANDARD
END:VTIMEZONE
BEGIN:VEVENT
DTSTART;TZID=America/New_York:20260201T110000
DTEND;TZID=America/New_York:20260201T123000
DTSTAMP:20260423T115514
CREATED:20251215T023125Z
LAST-MODIFIED:20251215T030710Z
UID:10002446-1769943600-1769949000@www.unitycenterdc.org
SUMMARY:Sunday Service on Zoom
DESCRIPTION:Unity Center DC Sunday Service\, 11:00am to Noon\, fellowship to follow. Virtual only. We welcome everyone to join our fabulous speakers and musicians in sharing the Unity message. Unity is a global\, inclusive\, spiritual community. We offer practical\, uplifting resources to help people of all faiths apply positive spiritual principles to their lives. \nAll services are available on www.youtube.com/unitycenterdc\nThank you for your love offerings @unitycenterdc on Venmo. \n11:00 AM Sunday Celebration Service (Same info each week)\nJoin Zoom Meeting\nhttps://zoom.us/j/621776707?pwd=dUQ5Z0VnbS9RSThJd2JEb2FLTWxGQT09\nMeeting id: 621 776 707\nPassword: 250925
URL:https://www.unitycenterdc.org/calendar/sunday-service-7/2026-02-01/
LOCATION:Unity Center DC on Zoom\, Washington\, DC\, 20007
CATEGORIES:Service
ATTACH;FMTTYPE=image/png:https://www.unitycenterdc.org/wp-content/uploads/2020/12/Zoom-Desktop-1.png
GEO:38.9228637;-77.0720087
END:VEVENT
BEGIN:VEVENT
DTSTART;TZID=America/New_York:20260204T193000
DTEND;TZID=America/New_York:20260204T203000
DTSTAMP:20260423T115514
CREATED:20240710T195714Z
LAST-MODIFIED:20251215T015512Z
UID:10002399-1770233400-1770237000@www.unitycenterdc.org
SUMMARY:A Course in Miracles Wednesday Study Group
DESCRIPTION:Our ACIM Study Group meets Wednesday\, 7:30PM to 8:30PM. We welcome Course students of all levels. We read from the Text with discussion as desired. \nACIM Wednesdays 7:30-8:30PM\nJoin Zoom Meeting\nhttps://us02web.zoom.us/j/81683083429?pwd=MXhaTjBZUTJyRlRaSFF6VnNLTHB4Zz09\nMeeting ID: 816 8308 3429\nPassword: 761662\nPhone: 1-301-715-8592
URL:https://www.unitycenterdc.org/calendar/a-course-in-miracles-wednesday-study-group-3-2-2/2026-02-04/
LOCATION:Unity Center DC on Zoom\, Washington\, DC\, 20007
CATEGORIES:Study
ATTACH;FMTTYPE=image/jpeg:https://www.unitycenterdc.org/wp-content/uploads/2016/01/ACIM.jpg
GEO:38.9228637;-77.0720087
END:VEVENT
BEGIN:VEVENT
DTSTART;TZID=America/New_York:20260207T190000
DTEND;TZID=America/New_York:20260207T191500
DTSTAMP:20260423T115514
CREATED:20251002T222039Z
LAST-MODIFIED:20251003T134335Z
UID:10002248-1770490800-1770491700@www.unitycenterdc.org
SUMMARY:Peace Prayer Circle
DESCRIPTION:Wherever you are\nEvery Saturday\, 7:00 PM\nEach Saturday\, we join together in a virtual moment of prayer for global healing and peace. No matter where you are or what you are doing\, take this moment to connect to this powerful practice to bring peace to the world.
URL:https://www.unitycenterdc.org/calendar/peace-prayer-circle/2026-02-07/
LOCATION:Unity Center DC on Zoom\, Washington\, DC\, 20007
CATEGORIES:Prayer
ATTACH;FMTTYPE=image/png:https://www.unitycenterdc.org/wp-content/uploads/2025/01/Circle-of-Folks-low.png
GEO:38.9228637;-77.0720087
END:VEVENT
BEGIN:VEVENT
DTSTART;TZID=America/New_York:20260208T110000
DTEND;TZID=America/New_York:20260208T123000
DTSTAMP:20260423T115514
CREATED:20251215T023125Z
LAST-MODIFIED:20251215T030710Z
UID:10002447-1770548400-1770553800@www.unitycenterdc.org
SUMMARY:Sunday Service on Zoom
DESCRIPTION:Unity Center DC Sunday Service\, 11:00am to Noon\, fellowship to follow. Virtual only. We welcome everyone to join our fabulous speakers and musicians in sharing the Unity message. Unity is a global\, inclusive\, spiritual community. We offer practical\, uplifting resources to help people of all faiths apply positive spiritual principles to their lives. \nAll services are available on www.youtube.com/unitycenterdc\nThank you for your love offerings @unitycenterdc on Venmo. \n11:00 AM Sunday Celebration Service (Same info each week)\nJoin Zoom Meeting\nhttps://zoom.us/j/621776707?pwd=dUQ5Z0VnbS9RSThJd2JEb2FLTWxGQT09\nMeeting id: 621 776 707\nPassword: 250925
URL:https://www.unitycenterdc.org/calendar/sunday-service-7/2026-02-08/
LOCATION:Unity Center DC on Zoom\, Washington\, DC\, 20007
CATEGORIES:Service
ATTACH;FMTTYPE=image/png:https://www.unitycenterdc.org/wp-content/uploads/2020/12/Zoom-Desktop-1.png
GEO:38.9228637;-77.0720087
END:VEVENT
BEGIN:VEVENT
DTSTART;TZID=America/New_York:20260211T193000
DTEND;TZID=America/New_York:20260211T203000
DTSTAMP:20260423T115514
CREATED:20240710T195714Z
LAST-MODIFIED:20251215T015512Z
UID:10002400-1770838200-1770841800@www.unitycenterdc.org
SUMMARY:A Course in Miracles Wednesday Study Group
DESCRIPTION:Our ACIM Study Group meets Wednesday\, 7:30PM to 8:30PM. We welcome Course students of all levels. We read from the Text with discussion as desired. \nACIM Wednesdays 7:30-8:30PM\nJoin Zoom Meeting\nhttps://us02web.zoom.us/j/81683083429?pwd=MXhaTjBZUTJyRlRaSFF6VnNLTHB4Zz09\nMeeting ID: 816 8308 3429\nPassword: 761662\nPhone: 1-301-715-8592
URL:https://www.unitycenterdc.org/calendar/a-course-in-miracles-wednesday-study-group-3-2-2/2026-02-11/
LOCATION:Unity Center DC on Zoom\, Washington\, DC\, 20007
CATEGORIES:Study
ATTACH;FMTTYPE=image/jpeg:https://www.unitycenterdc.org/wp-content/uploads/2016/01/ACIM.jpg
GEO:38.9228637;-77.0720087
END:VEVENT
BEGIN:VEVENT
DTSTART;TZID=America/New_York:20260214T190000
DTEND;TZID=America/New_York:20260214T191500
DTSTAMP:20260423T115514
CREATED:20251002T222039Z
LAST-MODIFIED:20251003T134335Z
UID:10002249-1771095600-1771096500@www.unitycenterdc.org
SUMMARY:Peace Prayer Circle
DESCRIPTION:Wherever you are\nEvery Saturday\, 7:00 PM\nEach Saturday\, we join together in a virtual moment of prayer for global healing and peace. No matter where you are or what you are doing\, take this moment to connect to this powerful practice to bring peace to the world.
URL:https://www.unitycenterdc.org/calendar/peace-prayer-circle/2026-02-14/
LOCATION:Unity Center DC on Zoom\, Washington\, DC\, 20007
CATEGORIES:Prayer
ATTACH;FMTTYPE=image/png:https://www.unitycenterdc.org/wp-content/uploads/2025/01/Circle-of-Folks-low.png
GEO:38.9228637;-77.0720087
END:VEVENT
BEGIN:VEVENT
DTSTART;TZID=America/New_York:20260215T110000
DTEND;TZID=America/New_York:20260215T123000
DTSTAMP:20260423T115514
CREATED:20251215T023125Z
LAST-MODIFIED:20251215T030710Z
UID:10002448-1771153200-1771158600@www.unitycenterdc.org
SUMMARY:Sunday Service on Zoom
DESCRIPTION:Unity Center DC Sunday Service\, 11:00am to Noon\, fellowship to follow. Virtual only. We welcome everyone to join our fabulous speakers and musicians in sharing the Unity message. Unity is a global\, inclusive\, spiritual community. We offer practical\, uplifting resources to help people of all faiths apply positive spiritual principles to their lives. \nAll services are available on www.youtube.com/unitycenterdc\nThank you for your love offerings @unitycenterdc on Venmo. \n11:00 AM Sunday Celebration Service (Same info each week)\nJoin Zoom Meeting\nhttps://zoom.us/j/621776707?pwd=dUQ5Z0VnbS9RSThJd2JEb2FLTWxGQT09\nMeeting id: 621 776 707\nPassword: 250925
URL:https://www.unitycenterdc.org/calendar/sunday-service-7/2026-02-15/
LOCATION:Unity Center DC on Zoom\, Washington\, DC\, 20007
CATEGORIES:Service
ATTACH;FMTTYPE=image/png:https://www.unitycenterdc.org/wp-content/uploads/2020/12/Zoom-Desktop-1.png
GEO:38.9228637;-77.0720087
END:VEVENT
BEGIN:VEVENT
DTSTART;TZID=America/New_York:20260218T193000
DTEND;TZID=America/New_York:20260218T203000
DTSTAMP:20260423T115514
CREATED:20240710T195714Z
LAST-MODIFIED:20251215T015512Z
UID:10002401-1771443000-1771446600@www.unitycenterdc.org
SUMMARY:A Course in Miracles Wednesday Study Group
DESCRIPTION:Our ACIM Study Group meets Wednesday\, 7:30PM to 8:30PM. We welcome Course students of all levels. We read from the Text with discussion as desired. \nACIM Wednesdays 7:30-8:30PM\nJoin Zoom Meeting\nhttps://us02web.zoom.us/j/81683083429?pwd=MXhaTjBZUTJyRlRaSFF6VnNLTHB4Zz09\nMeeting ID: 816 8308 3429\nPassword: 761662\nPhone: 1-301-715-8592
URL:https://www.unitycenterdc.org/calendar/a-course-in-miracles-wednesday-study-group-3-2-2/2026-02-18/
LOCATION:Unity Center DC on Zoom\, Washington\, DC\, 20007
CATEGORIES:Study
ATTACH;FMTTYPE=image/jpeg:https://www.unitycenterdc.org/wp-content/uploads/2016/01/ACIM.jpg
GEO:38.9228637;-77.0720087
END:VEVENT
BEGIN:VEVENT
DTSTART;TZID=America/New_York:20260221T190000
DTEND;TZID=America/New_York:20260221T191500
DTSTAMP:20260423T115514
CREATED:20251002T222039Z
LAST-MODIFIED:20251003T134335Z
UID:10002250-1771700400-1771701300@www.unitycenterdc.org
SUMMARY:Peace Prayer Circle
DESCRIPTION:Wherever you are\nEvery Saturday\, 7:00 PM\nEach Saturday\, we join together in a virtual moment of prayer for global healing and peace. No matter where you are or what you are doing\, take this moment to connect to this powerful practice to bring peace to the world.
URL:https://www.unitycenterdc.org/calendar/peace-prayer-circle/2026-02-21/
LOCATION:Unity Center DC on Zoom\, Washington\, DC\, 20007
CATEGORIES:Prayer
ATTACH;FMTTYPE=image/png:https://www.unitycenterdc.org/wp-content/uploads/2025/01/Circle-of-Folks-low.png
GEO:38.9228637;-77.0720087
END:VEVENT
BEGIN:VEVENT
DTSTART;TZID=America/New_York:20260222T110000
DTEND;TZID=America/New_York:20260222T123000
DTSTAMP:20260423T115514
CREATED:20251215T023125Z
LAST-MODIFIED:20251215T030710Z
UID:10002449-1771758000-1771763400@www.unitycenterdc.org
SUMMARY:Sunday Service on Zoom
DESCRIPTION:Unity Center DC Sunday Service\, 11:00am to Noon\, fellowship to follow. Virtual only. We welcome everyone to join our fabulous speakers and musicians in sharing the Unity message. Unity is a global\, inclusive\, spiritual community. We offer practical\, uplifting resources to help people of all faiths apply positive spiritual principles to their lives. \nAll services are available on www.youtube.com/unitycenterdc\nThank you for your love offerings @unitycenterdc on Venmo. \n11:00 AM Sunday Celebration Service (Same info each week)\nJoin Zoom Meeting\nhttps://zoom.us/j/621776707?pwd=dUQ5Z0VnbS9RSThJd2JEb2FLTWxGQT09\nMeeting id: 621 776 707\nPassword: 250925
URL:https://www.unitycenterdc.org/calendar/sunday-service-7/2026-02-22/
LOCATION:Unity Center DC on Zoom\, Washington\, DC\, 20007
CATEGORIES:Service
ATTACH;FMTTYPE=image/png:https://www.unitycenterdc.org/wp-content/uploads/2020/12/Zoom-Desktop-1.png
GEO:38.9228637;-77.0720087
END:VEVENT
BEGIN:VEVENT
DTSTART;TZID=America/New_York:20260225T193000
DTEND;TZID=America/New_York:20260225T203000
DTSTAMP:20260423T115514
CREATED:20240710T195714Z
LAST-MODIFIED:20251215T015512Z
UID:10002402-1772047800-1772051400@www.unitycenterdc.org
SUMMARY:A Course in Miracles Wednesday Study Group
DESCRIPTION:Our ACIM Study Group meets Wednesday\, 7:30PM to 8:30PM. We welcome Course students of all levels. We read from the Text with discussion as desired. \nACIM Wednesdays 7:30-8:30PM\nJoin Zoom Meeting\nhttps://us02web.zoom.us/j/81683083429?pwd=MXhaTjBZUTJyRlRaSFF6VnNLTHB4Zz09\nMeeting ID: 816 8308 3429\nPassword: 761662\nPhone: 1-301-715-8592
URL:https://www.unitycenterdc.org/calendar/a-course-in-miracles-wednesday-study-group-3-2-2/2026-02-25/
LOCATION:Unity Center DC on Zoom\, Washington\, DC\, 20007
CATEGORIES:Study
ATTACH;FMTTYPE=image/jpeg:https://www.unitycenterdc.org/wp-content/uploads/2016/01/ACIM.jpg
GEO:38.9228637;-77.0720087
END:VEVENT
BEGIN:VEVENT
DTSTART;TZID=America/New_York:20260228T190000
DTEND;TZID=America/New_York:20260228T191500
DTSTAMP:20260423T115514
CREATED:20251002T222039Z
LAST-MODIFIED:20251003T134335Z
UID:10002251-1772305200-1772306100@www.unitycenterdc.org
SUMMARY:Peace Prayer Circle
DESCRIPTION:Wherever you are\nEvery Saturday\, 7:00 PM\nEach Saturday\, we join together in a virtual moment of prayer for global healing and peace. No matter where you are or what you are doing\, take this moment to connect to this powerful practice to bring peace to the world.
URL:https://www.unitycenterdc.org/calendar/peace-prayer-circle/2026-02-28/
LOCATION:Unity Center DC on Zoom\, Washington\, DC\, 20007
CATEGORIES:Prayer
ATTACH;FMTTYPE=image/png:https://www.unitycenterdc.org/wp-content/uploads/2025/01/Circle-of-Folks-low.png
GEO:38.9228637;-77.0720087
END:VEVENT
END:VCALENDAR