BEGIN:VCALENDAR
VERSION:2.0
PRODID:-//Unity Center DC - ECPv6.15.20//NONSGML v1.0//EN
CALSCALE:GREGORIAN
METHOD:PUBLISH
X-ORIGINAL-URL:https://www.unitycenterdc.org
X-WR-CALDESC:Events for Unity Center DC
REFRESH-INTERVAL;VALUE=DURATION:PT1H
X-Robots-Tag:noindex
X-PUBLISHED-TTL:PT1H
BEGIN:VTIMEZONE
TZID:America/New_York
BEGIN:DAYLIGHT
TZOFFSETFROM:-0500
TZOFFSETTO:-0400
TZNAME:EDT
DTSTART:20230312T070000
END:DAYLIGHT
BEGIN:STANDARD
TZOFFSETFROM:-0400
TZOFFSETTO:-0500
TZNAME:EST
DTSTART:20231105T060000
END:STANDARD
BEGIN:DAYLIGHT
TZOFFSETFROM:-0500
TZOFFSETTO:-0400
TZNAME:EDT
DTSTART:20240310T070000
END:DAYLIGHT
BEGIN:STANDARD
TZOFFSETFROM:-0400
TZOFFSETTO:-0500
TZNAME:EST
DTSTART:20241103T060000
END:STANDARD
BEGIN:DAYLIGHT
TZOFFSETFROM:-0500
TZOFFSETTO:-0400
TZNAME:EDT
DTSTART:20250309T070000
END:DAYLIGHT
BEGIN:STANDARD
TZOFFSETFROM:-0400
TZOFFSETTO:-0500
TZNAME:EST
DTSTART:20251102T060000
END:STANDARD
END:VTIMEZONE
BEGIN:VEVENT
DTSTART;TZID=America/New_York:20240505T110000
DTEND;TZID=America/New_York:20240505T123000
DTSTAMP:20260425T113953
CREATED:20231231T180531Z
LAST-MODIFIED:20250617T181233Z
UID:10001738-1714906800-1714912200@www.unitycenterdc.org
SUMMARY:Sunday Service
DESCRIPTION:Unity Center DC Sunday Service\, 11:00am to Noon\, fellowship to follow. Virtual only. We welcome everyone to join our fabulous speakers and musicians in sharing the Unity message. Unity is a global\, inclusive\, spiritual community. We offer practical\, uplifting resources to help people of all faiths apply positive spiritual principles to their lives. \nAll services are available on www.youtube.com/unitycenterdc\nThank you for your love offerings @unitycenterdc on Venmo. \n11:00 AM Sunday Celebration Service (Same info each week)\nJoin Zoom Meeting\nhttps://zoom.us/j/621776707?pwd=dUQ5Z0VnbS9RSThJd2JEb2FLTWxGQT09\nMeeting id: 621 776 707\nPassword: 250925
URL:https://www.unitycenterdc.org/calendar/sunday-service-6-2/2024-05-05/
LOCATION:Unity Center DC on Zoom\, Washington\, DC\, 20007
CATEGORIES:Service
ATTACH;FMTTYPE=image/png:https://www.unitycenterdc.org/wp-content/uploads/2020/12/Zoom-Desktop-1.png
GEO:38.9228637;-77.0720087
END:VEVENT
BEGIN:VEVENT
DTSTART;TZID=America/New_York:20240508T193000
DTEND;TZID=America/New_York:20240508T203000
DTSTAMP:20260425T113953
CREATED:20231231T180930Z
LAST-MODIFIED:20231231T181021Z
UID:10001791-1715196600-1715200200@www.unitycenterdc.org
SUMMARY:A Course in Miracles Wednesday Study Group
DESCRIPTION:Our ACIM Study Group meets Wednesday\, 7:30PM to 8:30PM. We welcome Course students of all levels. We read from the Text with discussion as desired. \nACIM Wednesdays 7:30-8:30PM\nJoin Zoom Meeting\nhttps://us02web.zoom.us/j/81683083429?pwd=MXhaTjBZUTJyRlRaSFF6VnNLTHB4Zz09\nMeeting ID: 816 8308 3429\nPassword: 761662\nPhone: 1-301-715-8592
URL:https://www.unitycenterdc.org/calendar/a-course-in-miracles-wednesday-study-group-3-2/2024-05-08/
LOCATION:Unity Center DC on Zoom\, Washington\, DC\, 20007
CATEGORIES:Study
ATTACH;FMTTYPE=image/jpeg:https://www.unitycenterdc.org/wp-content/uploads/2016/01/ACIM.jpg
GEO:38.9228637;-77.0720087
END:VEVENT
BEGIN:VEVENT
DTSTART;TZID=America/New_York:20240509T193000
DTEND;TZID=America/New_York:20240509T203000
DTSTAMP:20260425T113953
CREATED:20240502T184851Z
LAST-MODIFIED:20251215T020735Z
UID:10002421-1715283000-1715286600@www.unitycenterdc.org
SUMMARY:Book Group—Divine Audacity
DESCRIPTION:Book Group—Divine Audacity\n \nRev Linda Martella-Whitsett’s new book\, Divine Audacity makes the audacious claim that each of us can be “the light of the world” Jesus instructed his followers to be. She offers a path for living a deep and authentic life outside of the strictures of traditional religious categories. A refreshing approach\, in essence\, on how to be spiritual without being religious. \nWe need to jettison the idea of a God who is out there and above us. God is not a super-human who gives and takes\, punishes and rewards. God does not require human suffering and repentance. \nWe truly find God when we go inside to connect with divine light\, realize our oneness with God and others\, and let our light shine in the world. Martella-Whittset looks at what “divine light” is and how it is both audacious and normal to claim it for ourselves. Next she introduces us to 12 spiritual powers we can all develop and learn to use on a daily basis: faith\, understanding\, will\, imagination\, zeal power\, love\, wisdom\, strength\, order\, release\, and life itself. When we consciously shine our spiritual powers on ourselves\, not only are our lives improved\, but all of humanity can be enriched and transformed. Let your light shine! \nKindle\, new and used versions available at Amazon. \n((•)) Zoom to Meeting. \nMeeting ID: 896 6201 4678\nPasscode: book
URL:https://www.unitycenterdc.org/calendar/book-group-divine-audacity/2024-05-09/
LOCATION:Unity Center DC on Zoom\, Washington\, DC\, 20007
CATEGORIES:Class
ATTACH;FMTTYPE=image/jpeg:https://www.unitycenterdc.org/wp-content/uploads/2024/05/Divine-Audacity.jpg
GEO:38.9228637;-77.0720087
END:VEVENT
END:VCALENDAR