BEGIN:VCALENDAR
VERSION:2.0
PRODID:-//Unity Center DC - ECPv6.15.20//NONSGML v1.0//EN
CALSCALE:GREGORIAN
METHOD:PUBLISH
X-ORIGINAL-URL:https://www.unitycenterdc.org
X-WR-CALDESC:Events for Unity Center DC
REFRESH-INTERVAL;VALUE=DURATION:PT1H
X-Robots-Tag:noindex
X-PUBLISHED-TTL:PT1H
BEGIN:VTIMEZONE
TZID:America/New_York
BEGIN:DAYLIGHT
TZOFFSETFROM:-0500
TZOFFSETTO:-0400
TZNAME:EDT
DTSTART:20230312T070000
END:DAYLIGHT
BEGIN:STANDARD
TZOFFSETFROM:-0400
TZOFFSETTO:-0500
TZNAME:EST
DTSTART:20231105T060000
END:STANDARD
BEGIN:DAYLIGHT
TZOFFSETFROM:-0500
TZOFFSETTO:-0400
TZNAME:EDT
DTSTART:20240310T070000
END:DAYLIGHT
BEGIN:STANDARD
TZOFFSETFROM:-0400
TZOFFSETTO:-0500
TZNAME:EST
DTSTART:20241103T060000
END:STANDARD
BEGIN:DAYLIGHT
TZOFFSETFROM:-0500
TZOFFSETTO:-0400
TZNAME:EDT
DTSTART:20250309T070000
END:DAYLIGHT
BEGIN:STANDARD
TZOFFSETFROM:-0400
TZOFFSETTO:-0500
TZNAME:EST
DTSTART:20251102T060000
END:STANDARD
END:VTIMEZONE
BEGIN:VEVENT
DTSTART;TZID=America/New_York:20241026T200000
DTEND;TZID=America/New_York:20241103T193000
DTSTAMP:20260424T174157
CREATED:20251016T201745Z
LAST-MODIFIED:20251016T201745Z
UID:10002307-1729972800-1730662200@www.unitycenterdc.org
SUMMARY:Meditation for our Nation
DESCRIPTION:All are welcome to join online to pray for calm and peace through this election season. Facilitated by Kathleen Healy.
URL:https://www.unitycenterdc.org/calendar/meditation-for-our-nation-2/2024-10-26/
LOCATION:Unity Center DC on Zoom\, Washington\, DC\, 20007
CATEGORIES:Meditation
ATTACH;FMTTYPE=image/jpeg:https://www.unitycenterdc.org/wp-content/uploads/2024/11/Meditation-e1760646081751.jpeg
GEO:38.9228637;-77.0720087
END:VEVENT
BEGIN:VEVENT
DTSTART;TZID=America/New_York:20241102T200000
DTEND;TZID=America/New_York:20241110T193000
DTSTAMP:20260424T174157
CREATED:20251016T201745Z
LAST-MODIFIED:20251016T201745Z
UID:10002308-1730577600-1731267000@www.unitycenterdc.org
SUMMARY:Meditation for our Nation
DESCRIPTION:All are welcome to join online to pray for calm and peace through this election season. Facilitated by Kathleen Healy.
URL:https://www.unitycenterdc.org/calendar/meditation-for-our-nation-2/2024-11-02/
LOCATION:Unity Center DC on Zoom\, Washington\, DC\, 20007
CATEGORIES:Meditation
ATTACH;FMTTYPE=image/jpeg:https://www.unitycenterdc.org/wp-content/uploads/2024/11/Meditation-e1760646081751.jpeg
GEO:38.9228637;-77.0720087
END:VEVENT
BEGIN:VEVENT
DTSTART;TZID=America/New_York:20241103T110000
DTEND;TZID=America/New_York:20241103T123000
DTSTAMP:20260424T174157
CREATED:20231231T180531Z
LAST-MODIFIED:20250617T181233Z
UID:10001764-1730631600-1730637000@www.unitycenterdc.org
SUMMARY:Sunday Service
DESCRIPTION:Unity Center DC Sunday Service\, 11:00am to Noon\, fellowship to follow. Virtual only. We welcome everyone to join our fabulous speakers and musicians in sharing the Unity message. Unity is a global\, inclusive\, spiritual community. We offer practical\, uplifting resources to help people of all faiths apply positive spiritual principles to their lives. \nAll services are available on www.youtube.com/unitycenterdc\nThank you for your love offerings @unitycenterdc on Venmo. \n11:00 AM Sunday Celebration Service (Same info each week)\nJoin Zoom Meeting\nhttps://zoom.us/j/621776707?pwd=dUQ5Z0VnbS9RSThJd2JEb2FLTWxGQT09\nMeeting id: 621 776 707\nPassword: 250925
URL:https://www.unitycenterdc.org/calendar/sunday-service-6-2/2024-11-03/
LOCATION:Unity Center DC on Zoom\, Washington\, DC\, 20007
CATEGORIES:Service
ATTACH;FMTTYPE=image/png:https://www.unitycenterdc.org/wp-content/uploads/2020/12/Zoom-Desktop-1.png
GEO:38.9228637;-77.0720087
END:VEVENT
BEGIN:VEVENT
DTSTART;TZID=America/New_York:20241103T170000
DTEND;TZID=America/New_York:20241103T173000
DTSTAMP:20260424T174157
CREATED:20241105T220703Z
LAST-MODIFIED:20241105T220703Z
UID:10001884-1730653200-1730655000@www.unitycenterdc.org
SUMMARY:Meditation for our Nation
DESCRIPTION:All are welcome to join online to pray for calm and peace through this election season. Facilitated by Kathleen Healy.
URL:https://www.unitycenterdc.org/calendar/meditation-for-our-nation/2024-11-03/
LOCATION:Unity Center DC on Zoom\, Washington\, DC\, 20007
CATEGORIES:Meditation
ATTACH;FMTTYPE=image/jpeg:https://www.unitycenterdc.org/wp-content/uploads/2024/11/Meditation-e1760646081751.jpeg
GEO:38.9228637;-77.0720087
END:VEVENT
BEGIN:VEVENT
DTSTART;TZID=America/New_York:20241107T190000
DTEND;TZID=America/New_York:20241107T200000
DTSTAMP:20260424T174157
CREATED:20231231T181310Z
LAST-MODIFIED:20250617T181528Z
UID:10001847-1731006000-1731009600@www.unitycenterdc.org
SUMMARY:Spiritual Support Group
DESCRIPTION:Facilitated by Kathleen Healy \nOur Spiritual Support Group meets the 1st and 3rd Thursdays of the month to share our spiritual journey and to hold each other in light as we adjust to the changes happening in our lives and the world. If interested in learning more and/or joining please contact Kathleen at kathleenannhealy@gmail.com \n((•)) Zoom to Meditation\nMeeting ID: 879 1247 7261\nPasscode: 471632
URL:https://www.unitycenterdc.org/calendar/spiritual-support-group-3/2024-11-07/
LOCATION:Unity Center DC on Zoom\, Washington\, DC\, 20007
CATEGORIES:Class
ATTACH;FMTTYPE=image/jpeg:https://www.unitycenterdc.org/wp-content/uploads/2021/04/Zoom-Board-Meeting.jpg
GEO:38.9228637;-77.0720087
END:VEVENT
BEGIN:VEVENT
DTSTART;TZID=America/New_York:20241109T200000
DTEND;TZID=America/New_York:20241117T203000
DTSTAMP:20260424T174157
CREATED:20251016T201745Z
LAST-MODIFIED:20251016T201745Z
UID:10002309-1731182400-1731875400@www.unitycenterdc.org
SUMMARY:Meditation for our Nation
DESCRIPTION:All are welcome to join online to pray for calm and peace through this election season. Facilitated by Kathleen Healy.
URL:https://www.unitycenterdc.org/calendar/meditation-for-our-nation-2/2024-11-09/
LOCATION:Unity Center DC on Zoom\, Washington\, DC\, 20007
CATEGORIES:Meditation
ATTACH;FMTTYPE=image/jpeg:https://www.unitycenterdc.org/wp-content/uploads/2024/11/Meditation-e1760646081751.jpeg
GEO:38.9228637;-77.0720087
END:VEVENT
END:VCALENDAR