BEGIN:VCALENDAR
VERSION:2.0
PRODID:-//Unity Center DC - ECPv6.15.20//NONSGML v1.0//EN
CALSCALE:GREGORIAN
METHOD:PUBLISH
X-WR-CALNAME:Unity Center DC
X-ORIGINAL-URL:https://www.unitycenterdc.org
X-WR-CALDESC:Events for Unity Center DC
REFRESH-INTERVAL;VALUE=DURATION:PT1H
X-Robots-Tag:noindex
X-PUBLISHED-TTL:PT1H
BEGIN:VTIMEZONE
TZID:America/New_York
BEGIN:DAYLIGHT
TZOFFSETFROM:-0500
TZOFFSETTO:-0400
TZNAME:EDT
DTSTART:20240310T070000
END:DAYLIGHT
BEGIN:STANDARD
TZOFFSETFROM:-0400
TZOFFSETTO:-0500
TZNAME:EST
DTSTART:20241103T060000
END:STANDARD
BEGIN:DAYLIGHT
TZOFFSETFROM:-0500
TZOFFSETTO:-0400
TZNAME:EDT
DTSTART:20250309T070000
END:DAYLIGHT
BEGIN:STANDARD
TZOFFSETFROM:-0400
TZOFFSETTO:-0500
TZNAME:EST
DTSTART:20251102T060000
END:STANDARD
BEGIN:DAYLIGHT
TZOFFSETFROM:-0500
TZOFFSETTO:-0400
TZNAME:EDT
DTSTART:20260308T070000
END:DAYLIGHT
BEGIN:STANDARD
TZOFFSETFROM:-0400
TZOFFSETTO:-0500
TZNAME:EST
DTSTART:20261101T060000
END:STANDARD
END:VTIMEZONE
BEGIN:VEVENT
DTSTART;TZID=America/New_York:20251214T110000
DTEND;TZID=America/New_York:20251214T123000
DTSTAMP:20260423T181910
CREATED:20251029T170714Z
LAST-MODIFIED:20251029T170714Z
UID:10002031-1765710000-1765715400@www.unitycenterdc.org
SUMMARY:Sunday Service on Zoom
DESCRIPTION:Unity Center DC Sunday Service\, 11:00am to Noon\, fellowship to follow. Virtual only. We welcome everyone to join our fabulous speakers and musicians in sharing the Unity message. Unity is a global\, inclusive\, spiritual community. We offer practical\, uplifting resources to help people of all faiths apply positive spiritual principles to their lives. \nAll services are available on www.youtube.com/unitycenterdc\nThank you for your love offerings @unitycenterdc on Venmo. \n11:00 AM Sunday Celebration Service (Same info each week)\nJoin Zoom Meeting\nhttps://zoom.us/j/621776707?pwd=dUQ5Z0VnbS9RSThJd2JEb2FLTWxGQT09\nMeeting id: 621 776 707\nPassword: 250925
URL:https://www.unitycenterdc.org/calendar/sunday-service-6-2-2/2025-12-14/
LOCATION:Unity Center DC on Zoom\, Washington\, DC\, 20007
CATEGORIES:Service
ATTACH;FMTTYPE=image/png:https://www.unitycenterdc.org/wp-content/uploads/2020/12/Zoom-Desktop-1.png
GEO:38.9228637;-77.0720087
END:VEVENT
BEGIN:VEVENT
DTSTART;TZID=America/New_York:20251216T193000
DTEND;TZID=America/New_York:20251216T203000
DTSTAMP:20260423T181910
CREATED:20251002T013243Z
LAST-MODIFIED:20251215T020453Z
UID:10002320-1765913400-1765917000@www.unitycenterdc.org
SUMMARY:New Thought Prosperity Principles Class
DESCRIPTION:Rev Karen Gray will offer a 13-week class beginning Tuesday\, October 21. It’s personal! Participants will examine personal prosperity principles\, and discuss fortifying and “blocking” mindsets. \nContent: We will explore key prosperity teachings from New Thought leaders including Charles Fillmore\, Eric Butterworth\, Neville Goddard\, John Randolph Price\, David Spangler\, Edwene Gaines\, and others. \nMaterials: one small book\, easily available online for ~$7.00. \nStructure: 13 sessions. Each will include a lesson\, group discussion\, a meditation and an exercise. Occasional reading or follow ups may be assigned between classes. \nSchedule: 13 nearly consecutive Tuesdays. A list of meeting dates will be established as we begin. Please plan to attend all (or most) sessions. \nTuition: Love offering. \nRSVP: Please let Karen know\, if you plan to participate. Write karen@karengray.com or text 202-744-5771. \n((•)) Zoom to Meeting\nMeeting ID: 814 4834 0994\nPasscode: prosperity
URL:https://www.unitycenterdc.org/calendar/new-thought-prosperity-principles-class/2025-12-16/
LOCATION:Unity Center DC on Zoom\, Washington\, DC\, 20007
CATEGORIES:Class
GEO:38.9228637;-77.0720087
END:VEVENT
BEGIN:VEVENT
DTSTART;TZID=America/New_York:20251217T193000
DTEND;TZID=America/New_York:20251217T203000
DTSTAMP:20260423T181910
CREATED:20240710T195714Z
LAST-MODIFIED:20251215T015512Z
UID:10002394-1765999800-1766003400@www.unitycenterdc.org
SUMMARY:A Course in Miracles Wednesday Study Group
DESCRIPTION:Our ACIM Study Group meets Wednesday\, 7:30PM to 8:30PM. We welcome Course students of all levels. We read from the Text with discussion as desired. \nACIM Wednesdays 7:30-8:30PM\nJoin Zoom Meeting\nhttps://us02web.zoom.us/j/81683083429?pwd=MXhaTjBZUTJyRlRaSFF6VnNLTHB4Zz09\nMeeting ID: 816 8308 3429\nPassword: 761662\nPhone: 1-301-715-8592
URL:https://www.unitycenterdc.org/calendar/a-course-in-miracles-wednesday-study-group-3-2-2/2025-12-17/
LOCATION:Unity Center DC on Zoom\, Washington\, DC\, 20007
CATEGORIES:Study
ATTACH;FMTTYPE=image/jpeg:https://www.unitycenterdc.org/wp-content/uploads/2016/01/ACIM.jpg
GEO:38.9228637;-77.0720087
END:VEVENT
BEGIN:VEVENT
DTSTART;TZID=America/New_York:20251218T073000
DTEND;TZID=America/New_York:20251218T203000
DTSTAMP:20260423T181910
CREATED:20251215T022742Z
LAST-MODIFIED:20251215T022742Z
UID:10002441-1766043000-1766089800@www.unitycenterdc.org
SUMMARY:Book Group\, Divine Audacity
DESCRIPTION:Book Group—Divine Audacity\n \nRev Linda Martella-Whitsett’s new book\, Divine Audacity makes the audacious claim that each of us can be “the light of the world” Jesus instructed his followers to be. She offers a path for living a deep and authentic life outside of the strictures of traditional religious categories. A refreshing approach\, in essence\, on how to be spiritual without being religious. \nWe need to jettison the idea of a God who is out there and above us. God is not a super-human who gives and takes\, punishes and rewards. God does not require human suffering and repentance. \nWe truly find God when we go inside to connect with divine light\, realize our oneness with God and others\, and let our light shine in the world. Martella-Whittset looks at what “divine light” is and how it is both audacious and normal to claim it for ourselves. Next she introduces us to 12 spiritual powers we can all develop and learn to use on a daily basis: faith\, understanding\, will\, imagination\, zeal power\, love\, wisdom\, strength\, order\, release\, and life itself. When we consciously shine our spiritual powers on ourselves\, not only are our lives improved\, but all of humanity can be enriched and transformed. Let your light shine! \nKindle\, new and used versions available at Amazon. \n((•)) Zoom to Meeting. \nMeeting ID: 367 326 7026\nPasscode: book
URL:https://www.unitycenterdc.org/calendar/book-group-divine-audacity-2/
LOCATION:Unity Center DC on Zoom\, Washington\, DC\, 20007
CATEGORIES:Class
ATTACH;FMTTYPE=image/jpeg:https://www.unitycenterdc.org/wp-content/uploads/2024/05/Divine-Audacity.jpg
GEO:38.9228637;-77.0720087
END:VEVENT
BEGIN:VEVENT
DTSTART;TZID=America/New_York:20251218T190000
DTEND;TZID=America/New_York:20251218T200000
DTSTAMP:20260423T181910
CREATED:20231231T181132Z
LAST-MODIFIED:20250617T181612Z
UID:10002045-1766084400-1766088000@www.unitycenterdc.org
SUMMARY:Spiritual Support Group
DESCRIPTION:Facilitated by Kathleen Healy \nOur Spiritual Support Group meets the 1st and 3rd Thursdays of the month to share our spiritual journey and to hold each other in light as we adjust to the changes happening in our lives and the world. If interested in learning more and/or joining please contact Kathleen at kathleenannhealy@gmail.com \n((•)) Zoom to Meditation\nMeeting ID: 879 1247 7261\nPasscode: 471632
URL:https://www.unitycenterdc.org/calendar/spiritual-support-group-2-2/2025-12-18/
LOCATION:Unity Center DC on Zoom\, Washington\, DC\, 20007
CATEGORIES:Class
ATTACH;FMTTYPE=image/jpeg:https://www.unitycenterdc.org/wp-content/uploads/2021/04/Zoom-Board-Meeting.jpg
GEO:38.9228637;-77.0720087
END:VEVENT
BEGIN:VEVENT
DTSTART;TZID=America/New_York:20251220T190000
DTEND;TZID=America/New_York:20251220T191500
DTSTAMP:20260423T181910
CREATED:20251002T222039Z
LAST-MODIFIED:20251003T134335Z
UID:10002241-1766257200-1766258100@www.unitycenterdc.org
SUMMARY:Peace Prayer Circle
DESCRIPTION:Wherever you are\nEvery Saturday\, 7:00 PM\nEach Saturday\, we join together in a virtual moment of prayer for global healing and peace. No matter where you are or what you are doing\, take this moment to connect to this powerful practice to bring peace to the world.
URL:https://www.unitycenterdc.org/calendar/peace-prayer-circle/2025-12-20/
LOCATION:Unity Center DC on Zoom\, Washington\, DC\, 20007
CATEGORIES:Prayer
ATTACH;FMTTYPE=image/png:https://www.unitycenterdc.org/wp-content/uploads/2025/01/Circle-of-Folks-low.png
GEO:38.9228637;-77.0720087
END:VEVENT
END:VCALENDAR