BEGIN:VCALENDAR
VERSION:2.0
PRODID:-//Unity Center DC - ECPv6.15.20//NONSGML v1.0//EN
CALSCALE:GREGORIAN
METHOD:PUBLISH
X-WR-CALNAME:Unity Center DC
X-ORIGINAL-URL:https://www.unitycenterdc.org
X-WR-CALDESC:Events for Unity Center DC
REFRESH-INTERVAL;VALUE=DURATION:PT1H
X-Robots-Tag:noindex
X-PUBLISHED-TTL:PT1H
BEGIN:VTIMEZONE
TZID:America/New_York
BEGIN:DAYLIGHT
TZOFFSETFROM:-0500
TZOFFSETTO:-0400
TZNAME:EDT
DTSTART:20150308T070000
END:DAYLIGHT
BEGIN:STANDARD
TZOFFSETFROM:-0400
TZOFFSETTO:-0500
TZNAME:EST
DTSTART:20151101T060000
END:STANDARD
BEGIN:DAYLIGHT
TZOFFSETFROM:-0500
TZOFFSETTO:-0400
TZNAME:EDT
DTSTART:20160313T070000
END:DAYLIGHT
BEGIN:STANDARD
TZOFFSETFROM:-0400
TZOFFSETTO:-0500
TZNAME:EST
DTSTART:20161106T060000
END:STANDARD
BEGIN:DAYLIGHT
TZOFFSETFROM:-0500
TZOFFSETTO:-0400
TZNAME:EDT
DTSTART:20170312T070000
END:DAYLIGHT
BEGIN:STANDARD
TZOFFSETFROM:-0400
TZOFFSETTO:-0500
TZNAME:EST
DTSTART:20171105T060000
END:STANDARD
BEGIN:DAYLIGHT
TZOFFSETFROM:-0500
TZOFFSETTO:-0400
TZNAME:EDT
DTSTART:20180311T070000
END:DAYLIGHT
BEGIN:STANDARD
TZOFFSETFROM:-0400
TZOFFSETTO:-0500
TZNAME:EST
DTSTART:20181104T060000
END:STANDARD
END:VTIMEZONE
BEGIN:VEVENT
DTSTART;TZID=America/New_York:20171209T073000
DTEND;TZID=America/New_York:20171209T210000
DTSTAMP:20260424T025717
CREATED:20171106T175440Z
LAST-MODIFIED:20171106T175440Z
UID:10000614-1512804600-1512853200@www.unitycenterdc.org
SUMMARY:Senza Nome Winter Concert
DESCRIPTION:Save the date!
URL:https://www.unitycenterdc.org/calendar/senza-nome-winter-concert/
LOCATION:Unity Center DC on Zoom\, Washington\, DC\, 20007
ATTACH;FMTTYPE=application/pdf:https://www.unitycenterdc.org/wp-content/uploads/2017/11/Senza-Nome-Winter-Concertcf.pdf
GEO:38.9228637;-77.0720087
END:VEVENT
BEGIN:VEVENT
DTSTART;TZID=America/New_York:20170617T193000
DTEND;TZID=America/New_York:20170617T210000
DTSTAMP:20260424T025717
CREATED:20170414T172338Z
LAST-MODIFIED:20170603T010102Z
UID:10000579-1497727800-1497733200@www.unitycenterdc.org
SUMMARY:Senza Nome Concert
DESCRIPTION:I am Woman. Here me Sing!\nConcert by Senza Nome\, Female Vocal Group\, under the direction of Barbara Wilkinson. Doors open at 7:00pm for 7:30 concert. Suggested offering $15 as a fundraiser for the Women’s Shelter of Washington DC.
URL:https://www.unitycenterdc.org/calendar/senza-nome-concert/
LOCATION:Unity Center DC on Zoom\, Washington\, DC\, 20007
CATEGORIES:Music
ATTACH;FMTTYPE=image/png:https://www.unitycenterdc.org/wp-content/uploads/2016/05/Senza-Nome-June-17.png
GEO:38.9228637;-77.0720087
END:VEVENT
BEGIN:VEVENT
DTSTART;TZID=America/New_York:20170603T150000
DTEND;TZID=America/New_York:20170603T180000
DTSTAMP:20260424T025717
CREATED:20170426T025347Z
LAST-MODIFIED:20170426T025347Z
UID:10000581-1496502000-1496512800@www.unitycenterdc.org
SUMMARY:Studio recital
DESCRIPTION:Studio recital\, students of Barbara Wilkinson and Sarah Winston.
URL:https://www.unitycenterdc.org/calendar/studio-recital/
LOCATION:Unity Center DC on Zoom\, Washington\, DC\, 20007
CATEGORIES:Private Event
GEO:38.9228637;-77.0720087
END:VEVENT
BEGIN:VEVENT
DTSTART;TZID=America/New_York:20170520T140000
DTEND;TZID=America/New_York:20170520T180000
DTSTAMP:20260424T025717
CREATED:20170414T172034Z
LAST-MODIFIED:20170426T025018Z
UID:10000578-1495288800-1495303200@www.unitycenterdc.org
SUMMARY:Vocal Recital - Helen Ferguson/Barbara Wilkinson
DESCRIPTION:Vocal recital with Helen Ferguson and Barbara Wilkinson on piano.
URL:https://www.unitycenterdc.org/calendar/vocal-recital-helen-fergusonbarbara-wilkinson/
LOCATION:Unity Center DC on Zoom\, Washington\, DC\, 20007
CATEGORIES:Music,Private Event
ATTACH;FMTTYPE=image/jpeg:https://www.unitycenterdc.org/wp-content/uploads/2017/04/AdobeStock_113414278-scaled.jpeg
GEO:38.9228637;-77.0720087
END:VEVENT
BEGIN:VEVENT
DTSTART;TZID=America/New_York:20170519T180000
DTEND;TZID=America/New_York:20170519T200000
DTSTAMP:20260424T025717
CREATED:20170426T025247Z
LAST-MODIFIED:20170426T025247Z
UID:10000580-1495216800-1495224000@www.unitycenterdc.org
SUMMARY:Dress Rehearsal for Vocal Recital
DESCRIPTION:Dress rehearsal for vocal recital\,  Helen Ferguson and Barbara Wilkinson
URL:https://www.unitycenterdc.org/calendar/dress-rehearsal-for-vocal-recital/
LOCATION:Unity Center DC on Zoom\, Washington\, DC\, 20007
CATEGORIES:Private Event
GEO:38.9228637;-77.0720087
END:VEVENT
BEGIN:VEVENT
DTSTART;TZID=America/New_York:20161215T181500
DTEND;TZID=America/New_York:20161215T191500
DTSTAMP:20260424T025717
CREATED:20161006T225409Z
LAST-MODIFIED:20161006T230133Z
UID:10000380-1481825700-1481829300@www.unitycenterdc.org
SUMMARY:Piano Lesson-Private Event
DESCRIPTION:The sanctuary is unavailable for use during this time.
URL:https://www.unitycenterdc.org/calendar/piano-lesson-private-event-3/2016-12-15/
LOCATION:Unity Center DC on Zoom\, Washington\, DC\, 20007
CATEGORIES:Private Event
GEO:38.9228637;-77.0720087
END:VEVENT
BEGIN:VEVENT
DTSTART;TZID=America/New_York:20161212T133000
DTEND;TZID=America/New_York:20161212T180000
DTSTAMP:20260424T025717
CREATED:20161006T224921Z
LAST-MODIFIED:20161201T235852Z
UID:10000367-1481549400-1481565600@www.unitycenterdc.org
SUMMARY:Piano Lesson—Private Event
DESCRIPTION:The sanctuary is unavailable for use during this time.
URL:https://www.unitycenterdc.org/calendar/piano-lesson-private-event/2016-12-12/
LOCATION:Unity Center DC on Zoom\, Washington\, DC\, 20007
CATEGORIES:Private Event
GEO:38.9228637;-77.0720087
END:VEVENT
BEGIN:VEVENT
DTSTART;TZID=America/New_York:20161208T181500
DTEND;TZID=America/New_York:20161208T191500
DTSTAMP:20260424T025717
CREATED:20161006T225409Z
LAST-MODIFIED:20161006T230133Z
UID:10000379-1481220900-1481224500@www.unitycenterdc.org
SUMMARY:Piano Lesson-Private Event
DESCRIPTION:The sanctuary is unavailable for use during this time.
URL:https://www.unitycenterdc.org/calendar/piano-lesson-private-event-3/2016-12-08/
LOCATION:Unity Center DC on Zoom\, Washington\, DC\, 20007
CATEGORIES:Private Event
GEO:38.9228637;-77.0720087
END:VEVENT
BEGIN:VEVENT
DTSTART;TZID=America/New_York:20161205T133000
DTEND;TZID=America/New_York:20161205T180000
DTSTAMP:20260424T025717
CREATED:20161006T224921Z
LAST-MODIFIED:20161201T235852Z
UID:10000366-1480944600-1480960800@www.unitycenterdc.org
SUMMARY:Piano Lesson—Private Event
DESCRIPTION:The sanctuary is unavailable for use during this time.
URL:https://www.unitycenterdc.org/calendar/piano-lesson-private-event/2016-12-05/
LOCATION:Unity Center DC on Zoom\, Washington\, DC\, 20007
CATEGORIES:Private Event
GEO:38.9228637;-77.0720087
END:VEVENT
BEGIN:VEVENT
DTSTART;TZID=America/New_York:20161203T133000
DTEND;TZID=America/New_York:20161203T150000
DTSTAMP:20260424T025717
CREATED:20161202T023041Z
LAST-MODIFIED:20161202T023104Z
UID:10000388-1480771800-1480777200@www.unitycenterdc.org
SUMMARY:Music Rehearsal
DESCRIPTION:The sanctuary is not available during this time.
URL:https://www.unitycenterdc.org/calendar/music-rehearsal/
LOCATION:Unity Center DC on Zoom\, Washington\, DC\, 20007
GEO:38.9228637;-77.0720087
END:VEVENT
BEGIN:VEVENT
DTSTART;TZID=America/New_York:20161201T181500
DTEND;TZID=America/New_York:20161201T191500
DTSTAMP:20260424T025717
CREATED:20161006T225409Z
LAST-MODIFIED:20161006T230133Z
UID:10000378-1480616100-1480619700@www.unitycenterdc.org
SUMMARY:Piano Lesson-Private Event
DESCRIPTION:The sanctuary is unavailable for use during this time.
URL:https://www.unitycenterdc.org/calendar/piano-lesson-private-event-3/2016-12-01/
LOCATION:Unity Center DC on Zoom\, Washington\, DC\, 20007
CATEGORIES:Private Event
GEO:38.9228637;-77.0720087
END:VEVENT
BEGIN:VEVENT
DTSTART;TZID=America/New_York:20161128T133000
DTEND;TZID=America/New_York:20161128T180000
DTSTAMP:20260424T025717
CREATED:20161006T224921Z
LAST-MODIFIED:20161201T235852Z
UID:10000365-1480339800-1480356000@www.unitycenterdc.org
SUMMARY:Piano Lesson—Private Event
DESCRIPTION:The sanctuary is unavailable for use during this time.
URL:https://www.unitycenterdc.org/calendar/piano-lesson-private-event/2016-11-28/
LOCATION:Unity Center DC on Zoom\, Washington\, DC\, 20007
CATEGORIES:Private Event
GEO:38.9228637;-77.0720087
END:VEVENT
BEGIN:VEVENT
DTSTART;TZID=America/New_York:20161124T181500
DTEND;TZID=America/New_York:20161124T191500
DTSTAMP:20260424T025717
CREATED:20161006T225409Z
LAST-MODIFIED:20161006T230133Z
UID:10000377-1480011300-1480014900@www.unitycenterdc.org
SUMMARY:Piano Lesson-Private Event
DESCRIPTION:The sanctuary is unavailable for use during this time.
URL:https://www.unitycenterdc.org/calendar/piano-lesson-private-event-3/2016-11-24/
LOCATION:Unity Center DC on Zoom\, Washington\, DC\, 20007
CATEGORIES:Private Event
GEO:38.9228637;-77.0720087
END:VEVENT
BEGIN:VEVENT
DTSTART;TZID=America/New_York:20161121T133000
DTEND;TZID=America/New_York:20161121T180000
DTSTAMP:20260424T025717
CREATED:20161006T224921Z
LAST-MODIFIED:20161201T235852Z
UID:10000364-1479735000-1479751200@www.unitycenterdc.org
SUMMARY:Piano Lesson—Private Event
DESCRIPTION:The sanctuary is unavailable for use during this time.
URL:https://www.unitycenterdc.org/calendar/piano-lesson-private-event/2016-11-21/
LOCATION:Unity Center DC on Zoom\, Washington\, DC\, 20007
CATEGORIES:Private Event
GEO:38.9228637;-77.0720087
END:VEVENT
BEGIN:VEVENT
DTSTART;TZID=America/New_York:20161117T181500
DTEND;TZID=America/New_York:20161117T191500
DTSTAMP:20260424T025717
CREATED:20161006T225409Z
LAST-MODIFIED:20161006T230133Z
UID:10000376-1479406500-1479410100@www.unitycenterdc.org
SUMMARY:Piano Lesson-Private Event
DESCRIPTION:The sanctuary is unavailable for use during this time.
URL:https://www.unitycenterdc.org/calendar/piano-lesson-private-event-3/2016-11-17/
LOCATION:Unity Center DC on Zoom\, Washington\, DC\, 20007
CATEGORIES:Private Event
GEO:38.9228637;-77.0720087
END:VEVENT
BEGIN:VEVENT
DTSTART;TZID=America/New_York:20161114T133000
DTEND;TZID=America/New_York:20161114T180000
DTSTAMP:20260424T025717
CREATED:20161006T224921Z
LAST-MODIFIED:20161201T235852Z
UID:10000363-1479130200-1479146400@www.unitycenterdc.org
SUMMARY:Piano Lesson—Private Event
DESCRIPTION:The sanctuary is unavailable for use during this time.
URL:https://www.unitycenterdc.org/calendar/piano-lesson-private-event/2016-11-14/
LOCATION:Unity Center DC on Zoom\, Washington\, DC\, 20007
CATEGORIES:Private Event
GEO:38.9228637;-77.0720087
END:VEVENT
BEGIN:VEVENT
DTSTART;TZID=America/New_York:20161110T181500
DTEND;TZID=America/New_York:20161110T191500
DTSTAMP:20260424T025717
CREATED:20161006T225409Z
LAST-MODIFIED:20161006T230133Z
UID:10000375-1478801700-1478805300@www.unitycenterdc.org
SUMMARY:Piano Lesson-Private Event
DESCRIPTION:The sanctuary is unavailable for use during this time.
URL:https://www.unitycenterdc.org/calendar/piano-lesson-private-event-3/2016-11-10/
LOCATION:Unity Center DC on Zoom\, Washington\, DC\, 20007
CATEGORIES:Private Event
GEO:38.9228637;-77.0720087
END:VEVENT
BEGIN:VEVENT
DTSTART;TZID=America/New_York:20161107T133000
DTEND;TZID=America/New_York:20161107T180000
DTSTAMP:20260424T025717
CREATED:20161006T224921Z
LAST-MODIFIED:20161201T235852Z
UID:10000362-1478525400-1478541600@www.unitycenterdc.org
SUMMARY:Piano Lesson—Private Event
DESCRIPTION:The sanctuary is unavailable for use during this time.
URL:https://www.unitycenterdc.org/calendar/piano-lesson-private-event/2016-11-07/
LOCATION:Unity Center DC on Zoom\, Washington\, DC\, 20007
CATEGORIES:Private Event
GEO:38.9228637;-77.0720087
END:VEVENT
BEGIN:VEVENT
DTSTART;TZID=America/New_York:20161103T181500
DTEND;TZID=America/New_York:20161103T191500
DTSTAMP:20260424T025717
CREATED:20161006T225409Z
LAST-MODIFIED:20161006T230133Z
UID:10000374-1478196900-1478200500@www.unitycenterdc.org
SUMMARY:Piano Lesson-Private Event
DESCRIPTION:The sanctuary is unavailable for use during this time.
URL:https://www.unitycenterdc.org/calendar/piano-lesson-private-event-3/2016-11-03/
LOCATION:Unity Center DC on Zoom\, Washington\, DC\, 20007
CATEGORIES:Private Event
GEO:38.9228637;-77.0720087
END:VEVENT
BEGIN:VEVENT
DTSTART;TZID=America/New_York:20161031T133000
DTEND;TZID=America/New_York:20161031T180000
DTSTAMP:20260424T025717
CREATED:20161006T224921Z
LAST-MODIFIED:20161201T235852Z
UID:10000361-1477920600-1477936800@www.unitycenterdc.org
SUMMARY:Piano Lesson—Private Event
DESCRIPTION:The sanctuary is unavailable for use during this time.
URL:https://www.unitycenterdc.org/calendar/piano-lesson-private-event/2016-10-31/
LOCATION:Unity Center DC on Zoom\, Washington\, DC\, 20007
CATEGORIES:Private Event
GEO:38.9228637;-77.0720087
END:VEVENT
BEGIN:VEVENT
DTSTART;TZID=America/New_York:20161027T181500
DTEND;TZID=America/New_York:20161027T191500
DTSTAMP:20260424T025717
CREATED:20161006T225409Z
LAST-MODIFIED:20161006T230133Z
UID:10000373-1477592100-1477595700@www.unitycenterdc.org
SUMMARY:Piano Lesson-Private Event
DESCRIPTION:The sanctuary is unavailable for use during this time.
URL:https://www.unitycenterdc.org/calendar/piano-lesson-private-event-3/2016-10-27/
LOCATION:Unity Center DC on Zoom\, Washington\, DC\, 20007
CATEGORIES:Private Event
GEO:38.9228637;-77.0720087
END:VEVENT
BEGIN:VEVENT
DTSTART;TZID=America/New_York:20161024T133000
DTEND;TZID=America/New_York:20161024T180000
DTSTAMP:20260424T025717
CREATED:20161006T224921Z
LAST-MODIFIED:20161201T235852Z
UID:10000360-1477315800-1477332000@www.unitycenterdc.org
SUMMARY:Piano Lesson—Private Event
DESCRIPTION:The sanctuary is unavailable for use during this time.
URL:https://www.unitycenterdc.org/calendar/piano-lesson-private-event/2016-10-24/
LOCATION:Unity Center DC on Zoom\, Washington\, DC\, 20007
CATEGORIES:Private Event
GEO:38.9228637;-77.0720087
END:VEVENT
BEGIN:VEVENT
DTSTART;TZID=America/New_York:20161020T181500
DTEND;TZID=America/New_York:20161020T191500
DTSTAMP:20260424T025717
CREATED:20161006T225409Z
LAST-MODIFIED:20161006T230133Z
UID:10000372-1476987300-1476990900@www.unitycenterdc.org
SUMMARY:Piano Lesson-Private Event
DESCRIPTION:The sanctuary is unavailable for use during this time.
URL:https://www.unitycenterdc.org/calendar/piano-lesson-private-event-3/2016-10-20/
LOCATION:Unity Center DC on Zoom\, Washington\, DC\, 20007
CATEGORIES:Private Event
GEO:38.9228637;-77.0720087
END:VEVENT
BEGIN:VEVENT
DTSTART;TZID=America/New_York:20161017T133000
DTEND;TZID=America/New_York:20161017T180000
DTSTAMP:20260424T025717
CREATED:20161006T224921Z
LAST-MODIFIED:20161201T235852Z
UID:10000359-1476711000-1476727200@www.unitycenterdc.org
SUMMARY:Piano Lesson—Private Event
DESCRIPTION:The sanctuary is unavailable for use during this time.
URL:https://www.unitycenterdc.org/calendar/piano-lesson-private-event/2016-10-17/
LOCATION:Unity Center DC on Zoom\, Washington\, DC\, 20007
CATEGORIES:Private Event
GEO:38.9228637;-77.0720087
END:VEVENT
BEGIN:VEVENT
DTSTART;TZID=America/New_York:20161016T160000
DTEND;TZID=America/New_York:20161016T190000
DTSTAMP:20260424T025717
CREATED:20161006T225705Z
LAST-MODIFIED:20161006T230110Z
UID:10000381-1476633600-1476644400@www.unitycenterdc.org
SUMMARY:Recital with Katherine Riddle
DESCRIPTION:Recital with Katherine Riddle
URL:https://www.unitycenterdc.org/calendar/recital-with-katherine-riddle/
LOCATION:Unity Center DC on Zoom\, Washington\, DC\, 20007
CATEGORIES:Music
ATTACH;FMTTYPE=image/jpeg:https://www.unitycenterdc.org/wp-content/uploads/2016/05/riddleheadshot-scaled.jpg
GEO:38.9228637;-77.0720087
END:VEVENT
BEGIN:VEVENT
DTSTART;TZID=America/New_York:20161013T181500
DTEND;TZID=America/New_York:20161013T191500
DTSTAMP:20260424T025717
CREATED:20161006T225409Z
LAST-MODIFIED:20161006T230133Z
UID:10000371-1476382500-1476386100@www.unitycenterdc.org
SUMMARY:Piano Lesson-Private Event
DESCRIPTION:The sanctuary is unavailable for use during this time.
URL:https://www.unitycenterdc.org/calendar/piano-lesson-private-event-3/2016-10-13/
LOCATION:Unity Center DC on Zoom\, Washington\, DC\, 20007
CATEGORIES:Private Event
GEO:38.9228637;-77.0720087
END:VEVENT
BEGIN:VEVENT
DTSTART;TZID=America/New_York:20161010T133000
DTEND;TZID=America/New_York:20161010T180000
DTSTAMP:20260424T025717
CREATED:20161006T224921Z
LAST-MODIFIED:20161201T235852Z
UID:10000358-1476106200-1476122400@www.unitycenterdc.org
SUMMARY:Piano Lesson—Private Event
DESCRIPTION:The sanctuary is unavailable for use during this time.
URL:https://www.unitycenterdc.org/calendar/piano-lesson-private-event/2016-10-10/
LOCATION:Unity Center DC on Zoom\, Washington\, DC\, 20007
CATEGORIES:Private Event
GEO:38.9228637;-77.0720087
END:VEVENT
BEGIN:VEVENT
DTSTART;TZID=America/New_York:20161006T181500
DTEND;TZID=America/New_York:20161006T191500
DTSTAMP:20260424T025717
CREATED:20161006T225409Z
LAST-MODIFIED:20161006T230133Z
UID:10000370-1475777700-1475781300@www.unitycenterdc.org
SUMMARY:Piano Lesson-Private Event
DESCRIPTION:The sanctuary is unavailable for use during this time.
URL:https://www.unitycenterdc.org/calendar/piano-lesson-private-event-3/2016-10-06/
LOCATION:Unity Center DC on Zoom\, Washington\, DC\, 20007
CATEGORIES:Private Event
GEO:38.9228637;-77.0720087
END:VEVENT
BEGIN:VEVENT
DTSTART;TZID=America/New_York:20161003T133000
DTEND;TZID=America/New_York:20161003T180000
DTSTAMP:20260424T025717
CREATED:20161006T224921Z
LAST-MODIFIED:20161201T235852Z
UID:10000357-1475501400-1475517600@www.unitycenterdc.org
SUMMARY:Piano Lesson—Private Event
DESCRIPTION:The sanctuary is unavailable for use during this time.
URL:https://www.unitycenterdc.org/calendar/piano-lesson-private-event/2016-10-03/
LOCATION:Unity Center DC on Zoom\, Washington\, DC\, 20007
CATEGORIES:Private Event
GEO:38.9228637;-77.0720087
END:VEVENT
BEGIN:VEVENT
DTSTART;TZID=America/New_York:20160929T181500
DTEND;TZID=America/New_York:20160929T191500
DTSTAMP:20260424T025717
CREATED:20161006T225409Z
LAST-MODIFIED:20161006T230133Z
UID:10000369-1475172900-1475176500@www.unitycenterdc.org
SUMMARY:Piano Lesson-Private Event
DESCRIPTION:The sanctuary is unavailable for use during this time.
URL:https://www.unitycenterdc.org/calendar/piano-lesson-private-event-3/2016-09-29/
LOCATION:Unity Center DC on Zoom\, Washington\, DC\, 20007
CATEGORIES:Private Event
GEO:38.9228637;-77.0720087
END:VEVENT
END:VCALENDAR