BEGIN:VCALENDAR
VERSION:2.0
PRODID:-//Unity Center DC - ECPv6.15.20//NONSGML v1.0//EN
CALSCALE:GREGORIAN
METHOD:PUBLISH
X-WR-CALNAME:Unity Center DC
X-ORIGINAL-URL:https://www.unitycenterdc.org
X-WR-CALDESC:Events for Unity Center DC
REFRESH-INTERVAL;VALUE=DURATION:PT1H
X-Robots-Tag:noindex
X-PUBLISHED-TTL:PT1H
BEGIN:VTIMEZONE
TZID:America/New_York
BEGIN:DAYLIGHT
TZOFFSETFROM:-0500
TZOFFSETTO:-0400
TZNAME:EDT
DTSTART:20150308T070000
END:DAYLIGHT
BEGIN:STANDARD
TZOFFSETFROM:-0400
TZOFFSETTO:-0500
TZNAME:EST
DTSTART:20151101T060000
END:STANDARD
BEGIN:DAYLIGHT
TZOFFSETFROM:-0500
TZOFFSETTO:-0400
TZNAME:EDT
DTSTART:20160313T070000
END:DAYLIGHT
BEGIN:STANDARD
TZOFFSETFROM:-0400
TZOFFSETTO:-0500
TZNAME:EST
DTSTART:20161106T060000
END:STANDARD
BEGIN:DAYLIGHT
TZOFFSETFROM:-0500
TZOFFSETTO:-0400
TZNAME:EDT
DTSTART:20170312T070000
END:DAYLIGHT
BEGIN:STANDARD
TZOFFSETFROM:-0400
TZOFFSETTO:-0500
TZNAME:EST
DTSTART:20171105T060000
END:STANDARD
END:VTIMEZONE
BEGIN:VEVENT
DTSTART;TZID=America/New_York:20161027T181500
DTEND;TZID=America/New_York:20161027T191500
DTSTAMP:20260424T042055
CREATED:20161006T225409Z
LAST-MODIFIED:20161006T230133Z
UID:10000373-1477592100-1477595700@www.unitycenterdc.org
SUMMARY:Piano Lesson-Private Event
DESCRIPTION:The sanctuary is unavailable for use during this time.
URL:https://www.unitycenterdc.org/calendar/piano-lesson-private-event-3/2016-10-27/
LOCATION:Unity Center DC on Zoom\, Washington\, DC\, 20007
CATEGORIES:Private Event
GEO:38.9228637;-77.0720087
END:VEVENT
BEGIN:VEVENT
DTSTART;TZID=America/New_York:20161024T133000
DTEND;TZID=America/New_York:20161024T180000
DTSTAMP:20260424T042055
CREATED:20161006T224921Z
LAST-MODIFIED:20161201T235852Z
UID:10000360-1477315800-1477332000@www.unitycenterdc.org
SUMMARY:Piano Lesson—Private Event
DESCRIPTION:The sanctuary is unavailable for use during this time.
URL:https://www.unitycenterdc.org/calendar/piano-lesson-private-event/2016-10-24/
LOCATION:Unity Center DC on Zoom\, Washington\, DC\, 20007
CATEGORIES:Private Event
GEO:38.9228637;-77.0720087
END:VEVENT
BEGIN:VEVENT
DTSTART;TZID=America/New_York:20161020T181500
DTEND;TZID=America/New_York:20161020T191500
DTSTAMP:20260424T042055
CREATED:20161006T225409Z
LAST-MODIFIED:20161006T230133Z
UID:10000372-1476987300-1476990900@www.unitycenterdc.org
SUMMARY:Piano Lesson-Private Event
DESCRIPTION:The sanctuary is unavailable for use during this time.
URL:https://www.unitycenterdc.org/calendar/piano-lesson-private-event-3/2016-10-20/
LOCATION:Unity Center DC on Zoom\, Washington\, DC\, 20007
CATEGORIES:Private Event
GEO:38.9228637;-77.0720087
END:VEVENT
BEGIN:VEVENT
DTSTART;TZID=America/New_York:20161017T133000
DTEND;TZID=America/New_York:20161017T180000
DTSTAMP:20260424T042055
CREATED:20161006T224921Z
LAST-MODIFIED:20161201T235852Z
UID:10000359-1476711000-1476727200@www.unitycenterdc.org
SUMMARY:Piano Lesson—Private Event
DESCRIPTION:The sanctuary is unavailable for use during this time.
URL:https://www.unitycenterdc.org/calendar/piano-lesson-private-event/2016-10-17/
LOCATION:Unity Center DC on Zoom\, Washington\, DC\, 20007
CATEGORIES:Private Event
GEO:38.9228637;-77.0720087
END:VEVENT
BEGIN:VEVENT
DTSTART;TZID=America/New_York:20161016T160000
DTEND;TZID=America/New_York:20161016T190000
DTSTAMP:20260424T042055
CREATED:20161006T225705Z
LAST-MODIFIED:20161006T230110Z
UID:10000381-1476633600-1476644400@www.unitycenterdc.org
SUMMARY:Recital with Katherine Riddle
DESCRIPTION:Recital with Katherine Riddle
URL:https://www.unitycenterdc.org/calendar/recital-with-katherine-riddle/
LOCATION:Unity Center DC on Zoom\, Washington\, DC\, 20007
CATEGORIES:Music
ATTACH;FMTTYPE=image/jpeg:https://www.unitycenterdc.org/wp-content/uploads/2016/05/riddleheadshot-scaled.jpg
GEO:38.9228637;-77.0720087
END:VEVENT
BEGIN:VEVENT
DTSTART;TZID=America/New_York:20161013T181500
DTEND;TZID=America/New_York:20161013T191500
DTSTAMP:20260424T042055
CREATED:20161006T225409Z
LAST-MODIFIED:20161006T230133Z
UID:10000371-1476382500-1476386100@www.unitycenterdc.org
SUMMARY:Piano Lesson-Private Event
DESCRIPTION:The sanctuary is unavailable for use during this time.
URL:https://www.unitycenterdc.org/calendar/piano-lesson-private-event-3/2016-10-13/
LOCATION:Unity Center DC on Zoom\, Washington\, DC\, 20007
CATEGORIES:Private Event
GEO:38.9228637;-77.0720087
END:VEVENT
BEGIN:VEVENT
DTSTART;TZID=America/New_York:20161010T133000
DTEND;TZID=America/New_York:20161010T180000
DTSTAMP:20260424T042055
CREATED:20161006T224921Z
LAST-MODIFIED:20161201T235852Z
UID:10000358-1476106200-1476122400@www.unitycenterdc.org
SUMMARY:Piano Lesson—Private Event
DESCRIPTION:The sanctuary is unavailable for use during this time.
URL:https://www.unitycenterdc.org/calendar/piano-lesson-private-event/2016-10-10/
LOCATION:Unity Center DC on Zoom\, Washington\, DC\, 20007
CATEGORIES:Private Event
GEO:38.9228637;-77.0720087
END:VEVENT
BEGIN:VEVENT
DTSTART;TZID=America/New_York:20161006T181500
DTEND;TZID=America/New_York:20161006T191500
DTSTAMP:20260424T042055
CREATED:20161006T225409Z
LAST-MODIFIED:20161006T230133Z
UID:10000370-1475777700-1475781300@www.unitycenterdc.org
SUMMARY:Piano Lesson-Private Event
DESCRIPTION:The sanctuary is unavailable for use during this time.
URL:https://www.unitycenterdc.org/calendar/piano-lesson-private-event-3/2016-10-06/
LOCATION:Unity Center DC on Zoom\, Washington\, DC\, 20007
CATEGORIES:Private Event
GEO:38.9228637;-77.0720087
END:VEVENT
BEGIN:VEVENT
DTSTART;TZID=America/New_York:20161003T133000
DTEND;TZID=America/New_York:20161003T180000
DTSTAMP:20260424T042055
CREATED:20161006T224921Z
LAST-MODIFIED:20161201T235852Z
UID:10000357-1475501400-1475517600@www.unitycenterdc.org
SUMMARY:Piano Lesson—Private Event
DESCRIPTION:The sanctuary is unavailable for use during this time.
URL:https://www.unitycenterdc.org/calendar/piano-lesson-private-event/2016-10-03/
LOCATION:Unity Center DC on Zoom\, Washington\, DC\, 20007
CATEGORIES:Private Event
GEO:38.9228637;-77.0720087
END:VEVENT
BEGIN:VEVENT
DTSTART;TZID=America/New_York:20160929T181500
DTEND;TZID=America/New_York:20160929T191500
DTSTAMP:20260424T042055
CREATED:20161006T225409Z
LAST-MODIFIED:20161006T230133Z
UID:10000369-1475172900-1475176500@www.unitycenterdc.org
SUMMARY:Piano Lesson-Private Event
DESCRIPTION:The sanctuary is unavailable for use during this time.
URL:https://www.unitycenterdc.org/calendar/piano-lesson-private-event-3/2016-09-29/
LOCATION:Unity Center DC on Zoom\, Washington\, DC\, 20007
CATEGORIES:Private Event
GEO:38.9228637;-77.0720087
END:VEVENT
BEGIN:VEVENT
DTSTART;TZID=America/New_York:20160927T120000
DTEND;TZID=America/New_York:20160927T130000
DTSTAMP:20260424T042055
CREATED:20161006T225125Z
LAST-MODIFIED:20161201T235406Z
UID:10000368-1474977600-1474981200@www.unitycenterdc.org
SUMMARY:Piano Lesson-Private Event
DESCRIPTION:The sanctuary is unavailable for use during this time.
URL:https://www.unitycenterdc.org/calendar/piano-lesson-private-event-2/2016-09-27/
LOCATION:Unity Center DC on Zoom\, Washington\, DC\, 20007
CATEGORIES:Private Event
GEO:38.9228637;-77.0720087
END:VEVENT
BEGIN:VEVENT
DTSTART;TZID=America/New_York:20160926T133000
DTEND;TZID=America/New_York:20160926T180000
DTSTAMP:20260424T042055
CREATED:20161006T224921Z
LAST-MODIFIED:20161201T235852Z
UID:10000356-1474896600-1474912800@www.unitycenterdc.org
SUMMARY:Piano Lesson—Private Event
DESCRIPTION:The sanctuary is unavailable for use during this time.
URL:https://www.unitycenterdc.org/calendar/piano-lesson-private-event/2016-09-26/
LOCATION:Unity Center DC on Zoom\, Washington\, DC\, 20007
CATEGORIES:Private Event
GEO:38.9228637;-77.0720087
END:VEVENT
BEGIN:VEVENT
DTSTART;TZID=America/New_York:20160618T183000
DTEND;TZID=America/New_York:20160618T210000
DTSTAMP:20260424T042055
CREATED:20160707T145317Z
LAST-MODIFIED:20160707T145317Z
UID:10000315-1466274600-1466283600@www.unitycenterdc.org
SUMMARY:Concert with Narda Muñoz and Barbara Wilkinson
DESCRIPTION:Concert with Narda Muñoz with Barbara Wilkinson on piano.\n7:00pm\, Doors open 6:30pm\n$20 Donation to support the artists.
URL:https://www.unitycenterdc.org/calendar/recital-with-narda-munoz-2/
LOCATION:Unity Center DC on Zoom\, Washington\, DC\, 20007
ATTACH;FMTTYPE=image/png:https://www.unitycenterdc.org/wp-content/uploads/2016/05/Screen-Shot-2016-06-14-at-5.32.10-PM.png
GEO:38.9228637;-77.0720087
END:VEVENT
BEGIN:VEVENT
DTSTART;TZID=America/New_York:20160618T183000
DTEND;TZID=America/New_York:20160618T210000
DTSTAMP:20260424T042055
CREATED:20160527T122212Z
LAST-MODIFIED:20160615T205154Z
UID:10000001-1466274600-1466283600@www.unitycenterdc.org
SUMMARY:Concert with Narda Muñoz and Barbara Wilkinson
DESCRIPTION:Concert with Narda Muñoz with Barbara Wilkinson on piano.\n7:00pm\, Doors open 6:30pm\n$20 Donation to support the artists.
URL:https://www.unitycenterdc.org/calendar/recital-with-narda-munoz/
LOCATION:Unity Center DC on Zoom\, Washington\, DC\, 20007
ATTACH;FMTTYPE=image/png:https://www.unitycenterdc.org/wp-content/uploads/2016/05/Screen-Shot-2016-06-14-at-5.32.10-PM.png
GEO:38.9228637;-77.0720087
END:VEVENT
BEGIN:VEVENT
DTSTART;TZID=America/New_York:20160608T171500
DTEND;TZID=America/New_York:20160608T181500
DTSTAMP:20260424T042055
CREATED:20160107T003714Z
LAST-MODIFIED:20160602T145831Z
UID:10000089-1465406100-1465409700@www.unitycenterdc.org
SUMMARY:Barbara Wilkinson Studio Teaching
DESCRIPTION:Sanctuary reserved for private event.
URL:https://www.unitycenterdc.org/calendar/barbara-wilkinson-studio-teaching-3/2016-06-08/
LOCATION:Unity Center DC on Zoom\, Washington\, DC\, 20007
CATEGORIES:Private Event
GEO:38.9228637;-77.0720087
END:VEVENT
BEGIN:VEVENT
DTSTART;TZID=America/New_York:20160601T171500
DTEND;TZID=America/New_York:20160601T181500
DTSTAMP:20260424T042055
CREATED:20160107T003714Z
LAST-MODIFIED:20160602T145831Z
UID:10000088-1464801300-1464804900@www.unitycenterdc.org
SUMMARY:Barbara Wilkinson Studio Teaching
DESCRIPTION:Sanctuary reserved for private event.
URL:https://www.unitycenterdc.org/calendar/barbara-wilkinson-studio-teaching-3/2016-06-01/
LOCATION:Unity Center DC on Zoom\, Washington\, DC\, 20007
CATEGORIES:Private Event
GEO:38.9228637;-77.0720087
END:VEVENT
BEGIN:VEVENT
DTSTART;TZID=America/New_York:20160525T171500
DTEND;TZID=America/New_York:20160525T181500
DTSTAMP:20260424T042055
CREATED:20160107T003714Z
LAST-MODIFIED:20160602T145831Z
UID:10000087-1464196500-1464200100@www.unitycenterdc.org
SUMMARY:Barbara Wilkinson Studio Teaching
DESCRIPTION:Sanctuary reserved for private event.
URL:https://www.unitycenterdc.org/calendar/barbara-wilkinson-studio-teaching-3/2016-05-25/
LOCATION:Unity Center DC on Zoom\, Washington\, DC\, 20007
CATEGORIES:Private Event
GEO:38.9228637;-77.0720087
END:VEVENT
BEGIN:VEVENT
DTSTART;TZID=America/New_York:20160518T171500
DTEND;TZID=America/New_York:20160518T181500
DTSTAMP:20260424T042055
CREATED:20160107T003714Z
LAST-MODIFIED:20160602T145831Z
UID:10000086-1463591700-1463595300@www.unitycenterdc.org
SUMMARY:Barbara Wilkinson Studio Teaching
DESCRIPTION:Sanctuary reserved for private event.
URL:https://www.unitycenterdc.org/calendar/barbara-wilkinson-studio-teaching-3/2016-05-18/
LOCATION:Unity Center DC on Zoom\, Washington\, DC\, 20007
CATEGORIES:Private Event
GEO:38.9228637;-77.0720087
END:VEVENT
BEGIN:VEVENT
DTSTART;TZID=America/New_York:20160514T133000
DTEND;TZID=America/New_York:20160514T153000
DTSTAMP:20260424T042055
CREATED:20160527T121757Z
LAST-MODIFIED:20160527T121757Z
UID:10000141-1463232600-1463239800@www.unitycenterdc.org
SUMMARY:Piano Recital
DESCRIPTION:Sanctuary reserved for private event.
URL:https://www.unitycenterdc.org/calendar/piano-recital/
LOCATION:Unity Center DC on Zoom\, Washington\, DC\, 20007
GEO:38.9228637;-77.0720087
END:VEVENT
BEGIN:VEVENT
DTSTART;TZID=America/New_York:20160511T171500
DTEND;TZID=America/New_York:20160511T181500
DTSTAMP:20260424T042055
CREATED:20160107T003714Z
LAST-MODIFIED:20160602T145831Z
UID:10000085-1462986900-1462990500@www.unitycenterdc.org
SUMMARY:Barbara Wilkinson Studio Teaching
DESCRIPTION:Sanctuary reserved for private event.
URL:https://www.unitycenterdc.org/calendar/barbara-wilkinson-studio-teaching-3/2016-05-11/
LOCATION:Unity Center DC on Zoom\, Washington\, DC\, 20007
CATEGORIES:Private Event
GEO:38.9228637;-77.0720087
END:VEVENT
BEGIN:VEVENT
DTSTART;TZID=America/New_York:20160504T171500
DTEND;TZID=America/New_York:20160504T181500
DTSTAMP:20260424T042055
CREATED:20160107T003714Z
LAST-MODIFIED:20160602T145831Z
UID:10000084-1462382100-1462385700@www.unitycenterdc.org
SUMMARY:Barbara Wilkinson Studio Teaching
DESCRIPTION:Sanctuary reserved for private event.
URL:https://www.unitycenterdc.org/calendar/barbara-wilkinson-studio-teaching-3/2016-05-04/
LOCATION:Unity Center DC on Zoom\, Washington\, DC\, 20007
CATEGORIES:Private Event
GEO:38.9228637;-77.0720087
END:VEVENT
BEGIN:VEVENT
DTSTART;TZID=America/New_York:20160428T121500
DTEND;TZID=America/New_York:20160428T124500
DTSTAMP:20260424T042055
CREATED:20160107T004057Z
LAST-MODIFIED:20160506T222600Z
UID:10000167-1461845700-1461847500@www.unitycenterdc.org
SUMMARY:Barbara Wilkinson Studio Teaching
DESCRIPTION:Sanctuary reserved for private event.
URL:https://www.unitycenterdc.org/calendar/barbara-wilkinson-studio-teaching-4/2016-04-28/
LOCATION:Unity Center DC on Zoom\, Washington\, DC\, 20007
CATEGORIES:Private Event
GEO:38.9228637;-77.0720087
END:VEVENT
BEGIN:VEVENT
DTSTART;TZID=America/New_York:20160427T171500
DTEND;TZID=America/New_York:20160427T181500
DTSTAMP:20260424T042055
CREATED:20160107T003714Z
LAST-MODIFIED:20160602T145831Z
UID:10000083-1461777300-1461780900@www.unitycenterdc.org
SUMMARY:Barbara Wilkinson Studio Teaching
DESCRIPTION:Sanctuary reserved for private event.
URL:https://www.unitycenterdc.org/calendar/barbara-wilkinson-studio-teaching-3/2016-04-27/
LOCATION:Unity Center DC on Zoom\, Washington\, DC\, 20007
CATEGORIES:Private Event
GEO:38.9228637;-77.0720087
END:VEVENT
BEGIN:VEVENT
DTSTART;TZID=America/New_York:20160421T121500
DTEND;TZID=America/New_York:20160421T124500
DTSTAMP:20260424T042055
CREATED:20160107T004057Z
LAST-MODIFIED:20160506T222600Z
UID:10000166-1461240900-1461242700@www.unitycenterdc.org
SUMMARY:Barbara Wilkinson Studio Teaching
DESCRIPTION:Sanctuary reserved for private event.
URL:https://www.unitycenterdc.org/calendar/barbara-wilkinson-studio-teaching-4/2016-04-21/
LOCATION:Unity Center DC on Zoom\, Washington\, DC\, 20007
CATEGORIES:Private Event
GEO:38.9228637;-77.0720087
END:VEVENT
BEGIN:VEVENT
DTSTART;TZID=America/New_York:20160420T171500
DTEND;TZID=America/New_York:20160420T181500
DTSTAMP:20260424T042055
CREATED:20160107T003714Z
LAST-MODIFIED:20160602T145831Z
UID:10000082-1461172500-1461176100@www.unitycenterdc.org
SUMMARY:Barbara Wilkinson Studio Teaching
DESCRIPTION:Sanctuary reserved for private event.
URL:https://www.unitycenterdc.org/calendar/barbara-wilkinson-studio-teaching-3/2016-04-20/
LOCATION:Unity Center DC on Zoom\, Washington\, DC\, 20007
CATEGORIES:Private Event
GEO:38.9228637;-77.0720087
END:VEVENT
BEGIN:VEVENT
DTSTART;TZID=America/New_York:20160414T121500
DTEND;TZID=America/New_York:20160414T124500
DTSTAMP:20260424T042055
CREATED:20160107T004057Z
LAST-MODIFIED:20160506T222600Z
UID:10000165-1460636100-1460637900@www.unitycenterdc.org
SUMMARY:Barbara Wilkinson Studio Teaching
DESCRIPTION:Sanctuary reserved for private event.
URL:https://www.unitycenterdc.org/calendar/barbara-wilkinson-studio-teaching-4/2016-04-14/
LOCATION:Unity Center DC on Zoom\, Washington\, DC\, 20007
CATEGORIES:Private Event
GEO:38.9228637;-77.0720087
END:VEVENT
BEGIN:VEVENT
DTSTART;TZID=America/New_York:20160413T171500
DTEND;TZID=America/New_York:20160413T181500
DTSTAMP:20260424T042055
CREATED:20160107T003714Z
LAST-MODIFIED:20160602T145831Z
UID:10000081-1460567700-1460571300@www.unitycenterdc.org
SUMMARY:Barbara Wilkinson Studio Teaching
DESCRIPTION:Sanctuary reserved for private event.
URL:https://www.unitycenterdc.org/calendar/barbara-wilkinson-studio-teaching-3/2016-04-13/
LOCATION:Unity Center DC on Zoom\, Washington\, DC\, 20007
CATEGORIES:Private Event
GEO:38.9228637;-77.0720087
END:VEVENT
BEGIN:VEVENT
DTSTART;TZID=America/New_York:20160407T121500
DTEND;TZID=America/New_York:20160407T124500
DTSTAMP:20260424T042055
CREATED:20160107T004057Z
LAST-MODIFIED:20160506T222600Z
UID:10000164-1460031300-1460033100@www.unitycenterdc.org
SUMMARY:Barbara Wilkinson Studio Teaching
DESCRIPTION:Sanctuary reserved for private event.
URL:https://www.unitycenterdc.org/calendar/barbara-wilkinson-studio-teaching-4/2016-04-07/
LOCATION:Unity Center DC on Zoom\, Washington\, DC\, 20007
CATEGORIES:Private Event
GEO:38.9228637;-77.0720087
END:VEVENT
BEGIN:VEVENT
DTSTART;TZID=America/New_York:20160406T171500
DTEND;TZID=America/New_York:20160406T181500
DTSTAMP:20260424T042055
CREATED:20160107T003714Z
LAST-MODIFIED:20160602T145831Z
UID:10000080-1459962900-1459966500@www.unitycenterdc.org
SUMMARY:Barbara Wilkinson Studio Teaching
DESCRIPTION:Sanctuary reserved for private event.
URL:https://www.unitycenterdc.org/calendar/barbara-wilkinson-studio-teaching-3/2016-04-06/
LOCATION:Unity Center DC on Zoom\, Washington\, DC\, 20007
CATEGORIES:Private Event
GEO:38.9228637;-77.0720087
END:VEVENT
BEGIN:VEVENT
DTSTART;TZID=America/New_York:20160331T121500
DTEND;TZID=America/New_York:20160331T124500
DTSTAMP:20260424T042055
CREATED:20160107T004057Z
LAST-MODIFIED:20160506T222600Z
UID:10000163-1459426500-1459428300@www.unitycenterdc.org
SUMMARY:Barbara Wilkinson Studio Teaching
DESCRIPTION:Sanctuary reserved for private event.
URL:https://www.unitycenterdc.org/calendar/barbara-wilkinson-studio-teaching-4/2016-03-31/
LOCATION:Unity Center DC on Zoom\, Washington\, DC\, 20007
CATEGORIES:Private Event
GEO:38.9228637;-77.0720087
END:VEVENT
END:VCALENDAR