BEGIN:VCALENDAR
VERSION:2.0
PRODID:-//Unity Center DC - ECPv6.15.20//NONSGML v1.0//EN
CALSCALE:GREGORIAN
METHOD:PUBLISH
X-ORIGINAL-URL:https://www.unitycenterdc.org
X-WR-CALDESC:Events for Unity Center DC
REFRESH-INTERVAL;VALUE=DURATION:PT1H
X-Robots-Tag:noindex
X-PUBLISHED-TTL:PT1H
BEGIN:VTIMEZONE
TZID:America/New_York
BEGIN:DAYLIGHT
TZOFFSETFROM:-0500
TZOFFSETTO:-0400
TZNAME:EDT
DTSTART:20150308T070000
END:DAYLIGHT
BEGIN:STANDARD
TZOFFSETFROM:-0400
TZOFFSETTO:-0500
TZNAME:EST
DTSTART:20151101T060000
END:STANDARD
BEGIN:DAYLIGHT
TZOFFSETFROM:-0500
TZOFFSETTO:-0400
TZNAME:EDT
DTSTART:20160313T070000
END:DAYLIGHT
BEGIN:STANDARD
TZOFFSETFROM:-0400
TZOFFSETTO:-0500
TZNAME:EST
DTSTART:20161106T060000
END:STANDARD
BEGIN:DAYLIGHT
TZOFFSETFROM:-0500
TZOFFSETTO:-0400
TZNAME:EDT
DTSTART:20170312T070000
END:DAYLIGHT
BEGIN:STANDARD
TZOFFSETFROM:-0400
TZOFFSETTO:-0500
TZNAME:EST
DTSTART:20171105T060000
END:STANDARD
END:VTIMEZONE
BEGIN:VEVENT
DTSTART;TZID=America/New_York:20160903T100000
DTEND;TZID=America/New_York:20160903T150000
DTSTAMP:20260424T080630
CREATED:20151202T163443Z
LAST-MODIFIED:20160731T121830Z
UID:10000107-1472896800-1472914800@www.unitycenterdc.org
SUMMARY:Eden Energy Medicine Share
DESCRIPTION:Eden Energy Medicine Share open to Eden Energy Medicine Practitioners. Facilitated by Sylvia Sturm.
URL:https://www.unitycenterdc.org/calendar/eden-energy-medicine-share-2016-07-02-2016-09-03/2016-09-03/
LOCATION:Unity Center DC on Zoom\, Washington\, DC\, 20007
CATEGORIES:Reiki
ATTACH;FMTTYPE=image/png:https://www.unitycenterdc.org/wp-content/uploads/2015/12/Eden-Energy.png
GEO:38.9228637;-77.0720087
END:VEVENT
BEGIN:VEVENT
DTSTART;TZID=America/New_York:20160806T100000
DTEND;TZID=America/New_York:20160806T150000
DTSTAMP:20260424T080630
CREATED:20151202T163443Z
LAST-MODIFIED:20160731T121906Z
UID:10000106-1470477600-1470495600@www.unitycenterdc.org
SUMMARY:Eden Energy Medicine Share
DESCRIPTION:THIS EVENT HAS BEEN CANCELLED.\nEden Energy Medicine Share open to Eden Energy Medicine Practitioners. Facilitated by Sylvia Sturm.
URL:https://www.unitycenterdc.org/calendar/eden-energy-medicine-share-2016-07-02-2016-08-06/
LOCATION:Unity Center DC on Zoom\, Washington\, DC\, 20007
CATEGORIES:Reiki
ATTACH;FMTTYPE=image/png:https://www.unitycenterdc.org/wp-content/uploads/2015/12/Eden-Energy.png
GEO:38.9228637;-77.0720087
END:VEVENT
BEGIN:VEVENT
DTSTART;TZID=America/New_York:20160804T190000
DTEND;TZID=America/New_York:20160804T210000
DTSTAMP:20260424T080630
CREATED:20151202T162743Z
LAST-MODIFIED:20181022T201502Z
UID:10000115-1470337200-1470344400@www.unitycenterdc.org
SUMMARY:Reiki Share
DESCRIPTION:Join Sylvia Sturm and Chic Welsh-Charrier for a relaxing evening of reiki. This reiki share is open to all who wish to give and receive. Come to learn\, practice and have fun. Love offering welcome. \nSylvia Sturm is a Subtle Energies Practitioner\, Eden Energy Medicine Clinical Practitioner and Reiki Master Teacher. She is a Reiki Fellow\, GW Center for Integrative Medicine Clinical Program Director\, Subtle Energy Program at seniors’ residence\, Washington\,DC\, EFT Certification of Completion Level 1 and Level 2\, and has over 400 volunteer Reiki hours at the George Washington University Hospital.
URL:https://www.unitycenterdc.org/calendar/reiki-share/2016-08-04/
CATEGORIES:Reiki
ATTACH;FMTTYPE=image/jpeg:https://www.unitycenterdc.org/wp-content/uploads/2015/12/Reiki.jpg
END:VEVENT
BEGIN:VEVENT
DTSTART;TZID=America/New_York:20160709T100000
DTEND;TZID=America/New_York:20160709T150000
DTSTAMP:20260424T080630
CREATED:20151202T163443Z
LAST-MODIFIED:20160707T153320Z
UID:10000105-1468058400-1468076400@www.unitycenterdc.org
SUMMARY:Eden Energy Medicine Share
DESCRIPTION:Eden Energy Medicine Share open to Eden Energy Medicine Practitioners. Facilitated by Sylvia Sturm.
URL:https://www.unitycenterdc.org/calendar/eden-energy-medicine-share-2016-07-02/
LOCATION:Unity Center DC on Zoom\, Washington\, DC\, 20007
CATEGORIES:Reiki
ATTACH;FMTTYPE=image/png:https://www.unitycenterdc.org/wp-content/uploads/2015/12/Eden-Energy.png
GEO:38.9228637;-77.0720087
END:VEVENT
BEGIN:VEVENT
DTSTART;TZID=America/New_York:20160702T100000
DTEND;TZID=America/New_York:20160702T150000
DTSTAMP:20260424T080630
CREATED:20151202T163443Z
LAST-MODIFIED:20160502T195920Z
UID:10000104-1467453600-1467471600@www.unitycenterdc.org
SUMMARY:Eden Energy Medicine Share
DESCRIPTION:Eden Energy Medicine Share open to Eden Energy Medicine Practitioners. Facilitated by Sylvia Sturm.
URL:https://www.unitycenterdc.org/calendar/eden-energy-medicine-share/2016-07-02/
LOCATION:3655 Calvert St\, NW\, Washington\, 20007\, United States
CATEGORIES:Reiki
ATTACH;FMTTYPE=image/png:https://www.unitycenterdc.org/wp-content/uploads/2015/12/Eden-Energy.png
END:VEVENT
BEGIN:VEVENT
DTSTART;TZID=America/New_York:20160606T190000
DTEND;TZID=America/New_York:20160606T210000
DTSTAMP:20260424T080630
CREATED:20151202T162743Z
LAST-MODIFIED:20160606T235859Z
UID:10000095-1465239600-1465246800@www.unitycenterdc.org
SUMMARY:Reiki Share
DESCRIPTION:Join Sylvia Sturm and Chic Welsh-Charrier for a relaxing evening of reiki. This reiki share is open to all who wish to give and receive. Come to learn\, practice and have fun. Love offering welcome. \nSylvia Sturm is a Subtle Energies Practitioner\, Eden Energy Medicine Clinical Practitioner and Reiki Master Teacher. She is a Reiki Fellow\, GW Center for Integrative Medicine Clinical Program Director\, Subtle Energy Program at seniors’ residence\, Washington\,DC\, EFT Certification of Completion Level 1 and Level 2\, and has over 400 volunteer Reiki hours at the George Washington University Hospital.
URL:https://www.unitycenterdc.org/calendar/reiki-share-2016-06-06/
LOCATION:UCDC on Zoom\, DC
CATEGORIES:Reiki
ATTACH;FMTTYPE=image/jpeg:https://www.unitycenterdc.org/wp-content/uploads/2015/12/Reiki.jpg
GEO:38.9071923;-77.0368707
END:VEVENT
BEGIN:VEVENT
DTSTART;TZID=America/New_York:20160604T190000
DTEND;TZID=America/New_York:20160604T210000
DTSTAMP:20260424T080630
CREATED:20151202T162743Z
LAST-MODIFIED:20181022T201502Z
UID:10000114-1465066800-1465074000@www.unitycenterdc.org
SUMMARY:Reiki Share
DESCRIPTION:Join Sylvia Sturm and Chic Welsh-Charrier for a relaxing evening of reiki. This reiki share is open to all who wish to give and receive. Come to learn\, practice and have fun. Love offering welcome. \nSylvia Sturm is a Subtle Energies Practitioner\, Eden Energy Medicine Clinical Practitioner and Reiki Master Teacher. She is a Reiki Fellow\, GW Center for Integrative Medicine Clinical Program Director\, Subtle Energy Program at seniors’ residence\, Washington\,DC\, EFT Certification of Completion Level 1 and Level 2\, and has over 400 volunteer Reiki hours at the George Washington University Hospital.
URL:https://www.unitycenterdc.org/calendar/reiki-share/2016-06-04/
CATEGORIES:Reiki
ATTACH;FMTTYPE=image/jpeg:https://www.unitycenterdc.org/wp-content/uploads/2015/12/Reiki.jpg
END:VEVENT
BEGIN:VEVENT
DTSTART;TZID=America/New_York:20160602T100000
DTEND;TZID=America/New_York:20160602T150000
DTSTAMP:20260424T080630
CREATED:20151202T163443Z
LAST-MODIFIED:20160502T195920Z
UID:10000103-1464861600-1464879600@www.unitycenterdc.org
SUMMARY:Eden Energy Medicine Share
DESCRIPTION:Eden Energy Medicine Share open to Eden Energy Medicine Practitioners. Facilitated by Sylvia Sturm.
URL:https://www.unitycenterdc.org/calendar/eden-energy-medicine-share/2016-06-02/
LOCATION:3655 Calvert St\, NW\, Washington\, 20007\, United States
CATEGORIES:Reiki
ATTACH;FMTTYPE=image/png:https://www.unitycenterdc.org/wp-content/uploads/2015/12/Eden-Energy.png
END:VEVENT
BEGIN:VEVENT
DTSTART;TZID=America/New_York:20160504T190000
DTEND;TZID=America/New_York:20160504T210000
DTSTAMP:20260424T080630
CREATED:20151202T162743Z
LAST-MODIFIED:20181022T201502Z
UID:10000113-1462388400-1462395600@www.unitycenterdc.org
SUMMARY:Reiki Share
DESCRIPTION:Join Sylvia Sturm and Chic Welsh-Charrier for a relaxing evening of reiki. This reiki share is open to all who wish to give and receive. Come to learn\, practice and have fun. Love offering welcome. \nSylvia Sturm is a Subtle Energies Practitioner\, Eden Energy Medicine Clinical Practitioner and Reiki Master Teacher. She is a Reiki Fellow\, GW Center for Integrative Medicine Clinical Program Director\, Subtle Energy Program at seniors’ residence\, Washington\,DC\, EFT Certification of Completion Level 1 and Level 2\, and has over 400 volunteer Reiki hours at the George Washington University Hospital.
URL:https://www.unitycenterdc.org/calendar/reiki-share/2016-05-04/
CATEGORIES:Reiki
ATTACH;FMTTYPE=image/jpeg:https://www.unitycenterdc.org/wp-content/uploads/2015/12/Reiki.jpg
END:VEVENT
BEGIN:VEVENT
DTSTART;TZID=America/New_York:20160502T100000
DTEND;TZID=America/New_York:20160502T150000
DTSTAMP:20260424T080630
CREATED:20151202T163443Z
LAST-MODIFIED:20160502T195920Z
UID:10000102-1462183200-1462201200@www.unitycenterdc.org
SUMMARY:Eden Energy Medicine Share
DESCRIPTION:Eden Energy Medicine Share open to Eden Energy Medicine Practitioners. Facilitated by Sylvia Sturm.
URL:https://www.unitycenterdc.org/calendar/eden-energy-medicine-share/2016-05-02/
LOCATION:3655 Calvert St\, NW\, Washington\, 20007\, United States
CATEGORIES:Reiki
ATTACH;FMTTYPE=image/png:https://www.unitycenterdc.org/wp-content/uploads/2015/12/Eden-Energy.png
END:VEVENT
BEGIN:VEVENT
DTSTART;TZID=America/New_York:20160304T190000
DTEND;TZID=America/New_York:20160304T210000
DTSTAMP:20260424T080630
CREATED:20151202T162743Z
LAST-MODIFIED:20181022T201502Z
UID:10000112-1457118000-1457125200@www.unitycenterdc.org
SUMMARY:Reiki Share
DESCRIPTION:Join Sylvia Sturm and Chic Welsh-Charrier for a relaxing evening of reiki. This reiki share is open to all who wish to give and receive. Come to learn\, practice and have fun. Love offering welcome. \nSylvia Sturm is a Subtle Energies Practitioner\, Eden Energy Medicine Clinical Practitioner and Reiki Master Teacher. She is a Reiki Fellow\, GW Center for Integrative Medicine Clinical Program Director\, Subtle Energy Program at seniors’ residence\, Washington\,DC\, EFT Certification of Completion Level 1 and Level 2\, and has over 400 volunteer Reiki hours at the George Washington University Hospital.
URL:https://www.unitycenterdc.org/calendar/reiki-share/2016-03-04/
CATEGORIES:Reiki
ATTACH;FMTTYPE=image/jpeg:https://www.unitycenterdc.org/wp-content/uploads/2015/12/Reiki.jpg
END:VEVENT
BEGIN:VEVENT
DTSTART;TZID=America/New_York:20160302T100000
DTEND;TZID=America/New_York:20160302T150000
DTSTAMP:20260424T080630
CREATED:20151202T163443Z
LAST-MODIFIED:20160502T195920Z
UID:10000101-1456912800-1456930800@www.unitycenterdc.org
SUMMARY:Eden Energy Medicine Share
DESCRIPTION:Eden Energy Medicine Share open to Eden Energy Medicine Practitioners. Facilitated by Sylvia Sturm.
URL:https://www.unitycenterdc.org/calendar/eden-energy-medicine-share/2016-03-02/
LOCATION:3655 Calvert St\, NW\, Washington\, 20007\, United States
CATEGORIES:Reiki
ATTACH;FMTTYPE=image/png:https://www.unitycenterdc.org/wp-content/uploads/2015/12/Eden-Energy.png
END:VEVENT
BEGIN:VEVENT
DTSTART;TZID=America/New_York:20160204T190000
DTEND;TZID=America/New_York:20160204T210000
DTSTAMP:20260424T080630
CREATED:20151202T162743Z
LAST-MODIFIED:20181022T201502Z
UID:10000111-1454612400-1454619600@www.unitycenterdc.org
SUMMARY:Reiki Share
DESCRIPTION:Join Sylvia Sturm and Chic Welsh-Charrier for a relaxing evening of reiki. This reiki share is open to all who wish to give and receive. Come to learn\, practice and have fun. Love offering welcome. \nSylvia Sturm is a Subtle Energies Practitioner\, Eden Energy Medicine Clinical Practitioner and Reiki Master Teacher. She is a Reiki Fellow\, GW Center for Integrative Medicine Clinical Program Director\, Subtle Energy Program at seniors’ residence\, Washington\,DC\, EFT Certification of Completion Level 1 and Level 2\, and has over 400 volunteer Reiki hours at the George Washington University Hospital.
URL:https://www.unitycenterdc.org/calendar/reiki-share/2016-02-04/
CATEGORIES:Reiki
ATTACH;FMTTYPE=image/jpeg:https://www.unitycenterdc.org/wp-content/uploads/2015/12/Reiki.jpg
END:VEVENT
BEGIN:VEVENT
DTSTART;TZID=America/New_York:20160202T100000
DTEND;TZID=America/New_York:20160202T150000
DTSTAMP:20260424T080630
CREATED:20151202T163443Z
LAST-MODIFIED:20160502T195920Z
UID:10000100-1454407200-1454425200@www.unitycenterdc.org
SUMMARY:Eden Energy Medicine Share
DESCRIPTION:Eden Energy Medicine Share open to Eden Energy Medicine Practitioners. Facilitated by Sylvia Sturm.
URL:https://www.unitycenterdc.org/calendar/eden-energy-medicine-share/2016-02-02/
LOCATION:3655 Calvert St\, NW\, Washington\, 20007\, United States
CATEGORIES:Reiki
ATTACH;FMTTYPE=image/png:https://www.unitycenterdc.org/wp-content/uploads/2015/12/Eden-Energy.png
END:VEVENT
BEGIN:VEVENT
DTSTART;TZID=America/New_York:20160104T190000
DTEND;TZID=America/New_York:20160104T210000
DTSTAMP:20260424T080630
CREATED:20151202T162743Z
LAST-MODIFIED:20181022T201502Z
UID:10000110-1451934000-1451941200@www.unitycenterdc.org
SUMMARY:Reiki Share
DESCRIPTION:Join Sylvia Sturm and Chic Welsh-Charrier for a relaxing evening of reiki. This reiki share is open to all who wish to give and receive. Come to learn\, practice and have fun. Love offering welcome. \nSylvia Sturm is a Subtle Energies Practitioner\, Eden Energy Medicine Clinical Practitioner and Reiki Master Teacher. She is a Reiki Fellow\, GW Center for Integrative Medicine Clinical Program Director\, Subtle Energy Program at seniors’ residence\, Washington\,DC\, EFT Certification of Completion Level 1 and Level 2\, and has over 400 volunteer Reiki hours at the George Washington University Hospital.
URL:https://www.unitycenterdc.org/calendar/reiki-share/2016-01-04/
CATEGORIES:Reiki
ATTACH;FMTTYPE=image/jpeg:https://www.unitycenterdc.org/wp-content/uploads/2015/12/Reiki.jpg
END:VEVENT
BEGIN:VEVENT
DTSTART;TZID=America/New_York:20160102T100000
DTEND;TZID=America/New_York:20160102T150000
DTSTAMP:20260424T080630
CREATED:20151202T163443Z
LAST-MODIFIED:20160502T195920Z
UID:10000099-1451728800-1451746800@www.unitycenterdc.org
SUMMARY:Eden Energy Medicine Share
DESCRIPTION:Eden Energy Medicine Share open to Eden Energy Medicine Practitioners. Facilitated by Sylvia Sturm.
URL:https://www.unitycenterdc.org/calendar/eden-energy-medicine-share/2016-01-02/
LOCATION:3655 Calvert St\, NW\, Washington\, 20007\, United States
CATEGORIES:Reiki
ATTACH;FMTTYPE=image/png:https://www.unitycenterdc.org/wp-content/uploads/2015/12/Eden-Energy.png
END:VEVENT
END:VCALENDAR