BEGIN:VCALENDAR
VERSION:2.0
PRODID:-//Unity Center DC - ECPv6.15.20//NONSGML v1.0//EN
CALSCALE:GREGORIAN
METHOD:PUBLISH
X-ORIGINAL-URL:https://www.unitycenterdc.org
X-WR-CALDESC:Events for Unity Center DC
REFRESH-INTERVAL;VALUE=DURATION:PT1H
X-Robots-Tag:noindex
X-PUBLISHED-TTL:PT1H
BEGIN:VTIMEZONE
TZID:America/New_York
BEGIN:DAYLIGHT
TZOFFSETFROM:-0500
TZOFFSETTO:-0400
TZNAME:EDT
DTSTART:20250309T070000
END:DAYLIGHT
BEGIN:STANDARD
TZOFFSETFROM:-0400
TZOFFSETTO:-0500
TZNAME:EST
DTSTART:20251102T060000
END:STANDARD
BEGIN:DAYLIGHT
TZOFFSETFROM:-0500
TZOFFSETTO:-0400
TZNAME:EDT
DTSTART:20260308T070000
END:DAYLIGHT
BEGIN:STANDARD
TZOFFSETFROM:-0400
TZOFFSETTO:-0500
TZNAME:EST
DTSTART:20261101T060000
END:STANDARD
BEGIN:DAYLIGHT
TZOFFSETFROM:-0500
TZOFFSETTO:-0400
TZNAME:EDT
DTSTART:20270314T070000
END:DAYLIGHT
BEGIN:STANDARD
TZOFFSETFROM:-0400
TZOFFSETTO:-0500
TZNAME:EST
DTSTART:20271107T060000
END:STANDARD
END:VTIMEZONE
BEGIN:VEVENT
DTSTART;TZID=America/New_York:20260409T100000
DTEND;TZID=America/New_York:20260409T113000
DTSTAMP:20260423T124630
CREATED:20260325T232931Z
LAST-MODIFIED:20260325T233038Z
UID:10002526-1775728800-1775734200@www.unitycenterdc.org
SUMMARY:Arlington Food Assistance Center Volunteering
DESCRIPTION:Mark your calendar to volunteer at the Arlington Food Assistance Center once a month. We will pack food each second Thursday of the month from 10:00 AM to 11:30 AM. Easy parking in the lot behind the center. Closed toe shoes required. Bring a hat or hair nets supplied. Great fellowship!
URL:https://www.unitycenterdc.org/calendar/arlington-food-assistance-center-volunteering/2026-04-09/
LOCATION:Arlington Food Asistance Center\, 2708 South Nelson Street\, Arlington\, VA\, 22206\, United States
CATEGORIES:Volunteer
ATTACH;FMTTYPE=image/png:https://www.unitycenterdc.org/wp-content/uploads/2026/03/afac-rectangle.png
END:VEVENT
END:VCALENDAR