BEGIN:VCALENDAR
VERSION:2.0
PRODID:-//Unity Center DC - ECPv6.15.20//NONSGML v1.0//EN
CALSCALE:GREGORIAN
METHOD:PUBLISH
X-ORIGINAL-URL:https://www.unitycenterdc.org
X-WR-CALDESC:Events for Unity Center DC
REFRESH-INTERVAL;VALUE=DURATION:PT1H
X-Robots-Tag:noindex
X-PUBLISHED-TTL:PT1H
BEGIN:VTIMEZONE
TZID:America/New_York
BEGIN:DAYLIGHT
TZOFFSETFROM:-0500
TZOFFSETTO:-0400
TZNAME:EDT
DTSTART:20250309T070000
END:DAYLIGHT
BEGIN:STANDARD
TZOFFSETFROM:-0400
TZOFFSETTO:-0500
TZNAME:EST
DTSTART:20251102T060000
END:STANDARD
BEGIN:DAYLIGHT
TZOFFSETFROM:-0500
TZOFFSETTO:-0400
TZNAME:EDT
DTSTART:20260308T070000
END:DAYLIGHT
BEGIN:STANDARD
TZOFFSETFROM:-0400
TZOFFSETTO:-0500
TZNAME:EST
DTSTART:20261101T060000
END:STANDARD
BEGIN:DAYLIGHT
TZOFFSETFROM:-0500
TZOFFSETTO:-0400
TZNAME:EDT
DTSTART:20270314T070000
END:DAYLIGHT
BEGIN:STANDARD
TZOFFSETFROM:-0400
TZOFFSETTO:-0500
TZNAME:EST
DTSTART:20271107T060000
END:STANDARD
BEGIN:DAYLIGHT
TZOFFSETFROM:-0500
TZOFFSETTO:-0400
TZNAME:EDT
DTSTART:20280312T070000
END:DAYLIGHT
BEGIN:STANDARD
TZOFFSETFROM:-0400
TZOFFSETTO:-0500
TZNAME:EST
DTSTART:20281105T060000
END:STANDARD
BEGIN:DAYLIGHT
TZOFFSETFROM:-0500
TZOFFSETTO:-0400
TZNAME:EDT
DTSTART:20290311T070000
END:DAYLIGHT
BEGIN:STANDARD
TZOFFSETFROM:-0400
TZOFFSETTO:-0500
TZNAME:EST
DTSTART:20291104T060000
END:STANDARD
END:VTIMEZONE
BEGIN:VEVENT
DTSTART;TZID=America/New_York:20260514T100000
DTEND;TZID=America/New_York:20260514T113000
DTSTAMP:20260423T112228
CREATED:20260325T232931Z
LAST-MODIFIED:20260325T233038Z
UID:10002527-1778752800-1778758200@www.unitycenterdc.org
SUMMARY:Arlington Food Assistance Center Volunteering
DESCRIPTION:Mark your calendar to volunteer at the Arlington Food Assistance Center once a month. We will pack food each second Thursday of the month from 10:00 AM to 11:30 AM. Easy parking in the lot behind the center. Closed toe shoes required. Bring a hat or hair nets supplied. Great fellowship!
URL:https://www.unitycenterdc.org/calendar/arlington-food-assistance-center-volunteering/2026-05-14/
LOCATION:Arlington Food Asistance Center\, 2708 South Nelson Street\, Arlington\, VA\, 22206\, United States
CATEGORIES:Volunteer
ATTACH;FMTTYPE=image/png:https://www.unitycenterdc.org/wp-content/uploads/2026/03/afac-rectangle.png
END:VEVENT
BEGIN:VEVENT
DTSTART;TZID=America/New_York:20260611T100000
DTEND;TZID=America/New_York:20260611T113000
DTSTAMP:20260423T112228
CREATED:20260325T232931Z
LAST-MODIFIED:20260325T233038Z
UID:10002528-1781172000-1781177400@www.unitycenterdc.org
SUMMARY:Arlington Food Assistance Center Volunteering
DESCRIPTION:Mark your calendar to volunteer at the Arlington Food Assistance Center once a month. We will pack food each second Thursday of the month from 10:00 AM to 11:30 AM. Easy parking in the lot behind the center. Closed toe shoes required. Bring a hat or hair nets supplied. Great fellowship!
URL:https://www.unitycenterdc.org/calendar/arlington-food-assistance-center-volunteering/2026-06-11/
LOCATION:Arlington Food Asistance Center\, 2708 South Nelson Street\, Arlington\, VA\, 22206\, United States
CATEGORIES:Volunteer
ATTACH;FMTTYPE=image/png:https://www.unitycenterdc.org/wp-content/uploads/2026/03/afac-rectangle.png
END:VEVENT
BEGIN:VEVENT
DTSTART;TZID=America/New_York:20260709T100000
DTEND;TZID=America/New_York:20260709T113000
DTSTAMP:20260423T112228
CREATED:20260325T232931Z
LAST-MODIFIED:20260325T233038Z
UID:10002529-1783591200-1783596600@www.unitycenterdc.org
SUMMARY:Arlington Food Assistance Center Volunteering
DESCRIPTION:Mark your calendar to volunteer at the Arlington Food Assistance Center once a month. We will pack food each second Thursday of the month from 10:00 AM to 11:30 AM. Easy parking in the lot behind the center. Closed toe shoes required. Bring a hat or hair nets supplied. Great fellowship!
URL:https://www.unitycenterdc.org/calendar/arlington-food-assistance-center-volunteering/2026-07-09/
LOCATION:Arlington Food Asistance Center\, 2708 South Nelson Street\, Arlington\, VA\, 22206\, United States
CATEGORIES:Volunteer
ATTACH;FMTTYPE=image/png:https://www.unitycenterdc.org/wp-content/uploads/2026/03/afac-rectangle.png
END:VEVENT
BEGIN:VEVENT
DTSTART;TZID=America/New_York:20260813T100000
DTEND;TZID=America/New_York:20260813T113000
DTSTAMP:20260423T112228
CREATED:20260325T232931Z
LAST-MODIFIED:20260325T233038Z
UID:10002530-1786615200-1786620600@www.unitycenterdc.org
SUMMARY:Arlington Food Assistance Center Volunteering
DESCRIPTION:Mark your calendar to volunteer at the Arlington Food Assistance Center once a month. We will pack food each second Thursday of the month from 10:00 AM to 11:30 AM. Easy parking in the lot behind the center. Closed toe shoes required. Bring a hat or hair nets supplied. Great fellowship!
URL:https://www.unitycenterdc.org/calendar/arlington-food-assistance-center-volunteering/2026-08-13/
LOCATION:Arlington Food Asistance Center\, 2708 South Nelson Street\, Arlington\, VA\, 22206\, United States
CATEGORIES:Volunteer
ATTACH;FMTTYPE=image/png:https://www.unitycenterdc.org/wp-content/uploads/2026/03/afac-rectangle.png
END:VEVENT
BEGIN:VEVENT
DTSTART;TZID=America/New_York:20260910T100000
DTEND;TZID=America/New_York:20260910T113000
DTSTAMP:20260423T112228
CREATED:20260325T232931Z
LAST-MODIFIED:20260325T233038Z
UID:10002531-1789034400-1789039800@www.unitycenterdc.org
SUMMARY:Arlington Food Assistance Center Volunteering
DESCRIPTION:Mark your calendar to volunteer at the Arlington Food Assistance Center once a month. We will pack food each second Thursday of the month from 10:00 AM to 11:30 AM. Easy parking in the lot behind the center. Closed toe shoes required. Bring a hat or hair nets supplied. Great fellowship!
URL:https://www.unitycenterdc.org/calendar/arlington-food-assistance-center-volunteering/2026-09-10/
LOCATION:Arlington Food Asistance Center\, 2708 South Nelson Street\, Arlington\, VA\, 22206\, United States
CATEGORIES:Volunteer
ATTACH;FMTTYPE=image/png:https://www.unitycenterdc.org/wp-content/uploads/2026/03/afac-rectangle.png
END:VEVENT
BEGIN:VEVENT
DTSTART;TZID=America/New_York:20261008T100000
DTEND;TZID=America/New_York:20261008T113000
DTSTAMP:20260423T112228
CREATED:20260325T232931Z
LAST-MODIFIED:20260325T233038Z
UID:10002532-1791453600-1791459000@www.unitycenterdc.org
SUMMARY:Arlington Food Assistance Center Volunteering
DESCRIPTION:Mark your calendar to volunteer at the Arlington Food Assistance Center once a month. We will pack food each second Thursday of the month from 10:00 AM to 11:30 AM. Easy parking in the lot behind the center. Closed toe shoes required. Bring a hat or hair nets supplied. Great fellowship!
URL:https://www.unitycenterdc.org/calendar/arlington-food-assistance-center-volunteering/2026-10-08/
LOCATION:Arlington Food Asistance Center\, 2708 South Nelson Street\, Arlington\, VA\, 22206\, United States
CATEGORIES:Volunteer
ATTACH;FMTTYPE=image/png:https://www.unitycenterdc.org/wp-content/uploads/2026/03/afac-rectangle.png
END:VEVENT
BEGIN:VEVENT
DTSTART;TZID=America/New_York:20261112T100000
DTEND;TZID=America/New_York:20261112T113000
DTSTAMP:20260423T112228
CREATED:20260325T232931Z
LAST-MODIFIED:20260325T233038Z
UID:10002533-1794477600-1794483000@www.unitycenterdc.org
SUMMARY:Arlington Food Assistance Center Volunteering
DESCRIPTION:Mark your calendar to volunteer at the Arlington Food Assistance Center once a month. We will pack food each second Thursday of the month from 10:00 AM to 11:30 AM. Easy parking in the lot behind the center. Closed toe shoes required. Bring a hat or hair nets supplied. Great fellowship!
URL:https://www.unitycenterdc.org/calendar/arlington-food-assistance-center-volunteering/2026-11-12/
LOCATION:Arlington Food Asistance Center\, 2708 South Nelson Street\, Arlington\, VA\, 22206\, United States
CATEGORIES:Volunteer
ATTACH;FMTTYPE=image/png:https://www.unitycenterdc.org/wp-content/uploads/2026/03/afac-rectangle.png
END:VEVENT
BEGIN:VEVENT
DTSTART;TZID=America/New_York:20261210T100000
DTEND;TZID=America/New_York:20261210T113000
DTSTAMP:20260423T112228
CREATED:20260325T232931Z
LAST-MODIFIED:20260325T233038Z
UID:10002534-1796896800-1796902200@www.unitycenterdc.org
SUMMARY:Arlington Food Assistance Center Volunteering
DESCRIPTION:Mark your calendar to volunteer at the Arlington Food Assistance Center once a month. We will pack food each second Thursday of the month from 10:00 AM to 11:30 AM. Easy parking in the lot behind the center. Closed toe shoes required. Bring a hat or hair nets supplied. Great fellowship!
URL:https://www.unitycenterdc.org/calendar/arlington-food-assistance-center-volunteering/2026-12-10/
LOCATION:Arlington Food Asistance Center\, 2708 South Nelson Street\, Arlington\, VA\, 22206\, United States
CATEGORIES:Volunteer
ATTACH;FMTTYPE=image/png:https://www.unitycenterdc.org/wp-content/uploads/2026/03/afac-rectangle.png
END:VEVENT
BEGIN:VEVENT
DTSTART;TZID=America/New_York:20270114T100000
DTEND;TZID=America/New_York:20270114T113000
DTSTAMP:20260423T112228
CREATED:20260325T232931Z
LAST-MODIFIED:20260325T233038Z
UID:10002535-1799920800-1799926200@www.unitycenterdc.org
SUMMARY:Arlington Food Assistance Center Volunteering
DESCRIPTION:Mark your calendar to volunteer at the Arlington Food Assistance Center once a month. We will pack food each second Thursday of the month from 10:00 AM to 11:30 AM. Easy parking in the lot behind the center. Closed toe shoes required. Bring a hat or hair nets supplied. Great fellowship!
URL:https://www.unitycenterdc.org/calendar/arlington-food-assistance-center-volunteering/2027-01-14/
LOCATION:Arlington Food Asistance Center\, 2708 South Nelson Street\, Arlington\, VA\, 22206\, United States
CATEGORIES:Volunteer
ATTACH;FMTTYPE=image/png:https://www.unitycenterdc.org/wp-content/uploads/2026/03/afac-rectangle.png
END:VEVENT
BEGIN:VEVENT
DTSTART;TZID=America/New_York:20270211T100000
DTEND;TZID=America/New_York:20270211T113000
DTSTAMP:20260423T112228
CREATED:20260325T232931Z
LAST-MODIFIED:20260325T233038Z
UID:10002536-1802340000-1802345400@www.unitycenterdc.org
SUMMARY:Arlington Food Assistance Center Volunteering
DESCRIPTION:Mark your calendar to volunteer at the Arlington Food Assistance Center once a month. We will pack food each second Thursday of the month from 10:00 AM to 11:30 AM. Easy parking in the lot behind the center. Closed toe shoes required. Bring a hat or hair nets supplied. Great fellowship!
URL:https://www.unitycenterdc.org/calendar/arlington-food-assistance-center-volunteering/2027-02-11/
LOCATION:Arlington Food Asistance Center\, 2708 South Nelson Street\, Arlington\, VA\, 22206\, United States
CATEGORIES:Volunteer
ATTACH;FMTTYPE=image/png:https://www.unitycenterdc.org/wp-content/uploads/2026/03/afac-rectangle.png
END:VEVENT
BEGIN:VEVENT
DTSTART;TZID=America/New_York:20270311T100000
DTEND;TZID=America/New_York:20270311T113000
DTSTAMP:20260423T112228
CREATED:20260325T232931Z
LAST-MODIFIED:20260325T233038Z
UID:10002537-1804759200-1804764600@www.unitycenterdc.org
SUMMARY:Arlington Food Assistance Center Volunteering
DESCRIPTION:Mark your calendar to volunteer at the Arlington Food Assistance Center once a month. We will pack food each second Thursday of the month from 10:00 AM to 11:30 AM. Easy parking in the lot behind the center. Closed toe shoes required. Bring a hat or hair nets supplied. Great fellowship!
URL:https://www.unitycenterdc.org/calendar/arlington-food-assistance-center-volunteering/2027-03-11/
LOCATION:Arlington Food Asistance Center\, 2708 South Nelson Street\, Arlington\, VA\, 22206\, United States
CATEGORIES:Volunteer
ATTACH;FMTTYPE=image/png:https://www.unitycenterdc.org/wp-content/uploads/2026/03/afac-rectangle.png
END:VEVENT
BEGIN:VEVENT
DTSTART;TZID=America/New_York:20270408T100000
DTEND;TZID=America/New_York:20270408T113000
DTSTAMP:20260423T112228
CREATED:20260325T232931Z
LAST-MODIFIED:20260325T233038Z
UID:10002538-1807178400-1807183800@www.unitycenterdc.org
SUMMARY:Arlington Food Assistance Center Volunteering
DESCRIPTION:Mark your calendar to volunteer at the Arlington Food Assistance Center once a month. We will pack food each second Thursday of the month from 10:00 AM to 11:30 AM. Easy parking in the lot behind the center. Closed toe shoes required. Bring a hat or hair nets supplied. Great fellowship!
URL:https://www.unitycenterdc.org/calendar/arlington-food-assistance-center-volunteering/2027-04-08/
LOCATION:Arlington Food Asistance Center\, 2708 South Nelson Street\, Arlington\, VA\, 22206\, United States
CATEGORIES:Volunteer
ATTACH;FMTTYPE=image/png:https://www.unitycenterdc.org/wp-content/uploads/2026/03/afac-rectangle.png
END:VEVENT
BEGIN:VEVENT
DTSTART;TZID=America/New_York:20270513T100000
DTEND;TZID=America/New_York:20270513T113000
DTSTAMP:20260423T112228
CREATED:20260325T232931Z
LAST-MODIFIED:20260325T233038Z
UID:10002539-1810202400-1810207800@www.unitycenterdc.org
SUMMARY:Arlington Food Assistance Center Volunteering
DESCRIPTION:Mark your calendar to volunteer at the Arlington Food Assistance Center once a month. We will pack food each second Thursday of the month from 10:00 AM to 11:30 AM. Easy parking in the lot behind the center. Closed toe shoes required. Bring a hat or hair nets supplied. Great fellowship!
URL:https://www.unitycenterdc.org/calendar/arlington-food-assistance-center-volunteering/2027-05-13/
LOCATION:Arlington Food Asistance Center\, 2708 South Nelson Street\, Arlington\, VA\, 22206\, United States
CATEGORIES:Volunteer
ATTACH;FMTTYPE=image/png:https://www.unitycenterdc.org/wp-content/uploads/2026/03/afac-rectangle.png
END:VEVENT
BEGIN:VEVENT
DTSTART;TZID=America/New_York:20270610T100000
DTEND;TZID=America/New_York:20270610T113000
DTSTAMP:20260423T112228
CREATED:20260325T232931Z
LAST-MODIFIED:20260325T233038Z
UID:10002540-1812621600-1812627000@www.unitycenterdc.org
SUMMARY:Arlington Food Assistance Center Volunteering
DESCRIPTION:Mark your calendar to volunteer at the Arlington Food Assistance Center once a month. We will pack food each second Thursday of the month from 10:00 AM to 11:30 AM. Easy parking in the lot behind the center. Closed toe shoes required. Bring a hat or hair nets supplied. Great fellowship!
URL:https://www.unitycenterdc.org/calendar/arlington-food-assistance-center-volunteering/2027-06-10/
LOCATION:Arlington Food Asistance Center\, 2708 South Nelson Street\, Arlington\, VA\, 22206\, United States
CATEGORIES:Volunteer
ATTACH;FMTTYPE=image/png:https://www.unitycenterdc.org/wp-content/uploads/2026/03/afac-rectangle.png
END:VEVENT
BEGIN:VEVENT
DTSTART;TZID=America/New_York:20270708T100000
DTEND;TZID=America/New_York:20270708T113000
DTSTAMP:20260423T112228
CREATED:20260325T232931Z
LAST-MODIFIED:20260325T233038Z
UID:10002541-1815040800-1815046200@www.unitycenterdc.org
SUMMARY:Arlington Food Assistance Center Volunteering
DESCRIPTION:Mark your calendar to volunteer at the Arlington Food Assistance Center once a month. We will pack food each second Thursday of the month from 10:00 AM to 11:30 AM. Easy parking in the lot behind the center. Closed toe shoes required. Bring a hat or hair nets supplied. Great fellowship!
URL:https://www.unitycenterdc.org/calendar/arlington-food-assistance-center-volunteering/2027-07-08/
LOCATION:Arlington Food Asistance Center\, 2708 South Nelson Street\, Arlington\, VA\, 22206\, United States
CATEGORIES:Volunteer
ATTACH;FMTTYPE=image/png:https://www.unitycenterdc.org/wp-content/uploads/2026/03/afac-rectangle.png
END:VEVENT
BEGIN:VEVENT
DTSTART;TZID=America/New_York:20270812T100000
DTEND;TZID=America/New_York:20270812T113000
DTSTAMP:20260423T112228
CREATED:20260325T232931Z
LAST-MODIFIED:20260325T233038Z
UID:10002542-1818064800-1818070200@www.unitycenterdc.org
SUMMARY:Arlington Food Assistance Center Volunteering
DESCRIPTION:Mark your calendar to volunteer at the Arlington Food Assistance Center once a month. We will pack food each second Thursday of the month from 10:00 AM to 11:30 AM. Easy parking in the lot behind the center. Closed toe shoes required. Bring a hat or hair nets supplied. Great fellowship!
URL:https://www.unitycenterdc.org/calendar/arlington-food-assistance-center-volunteering/2027-08-12/
LOCATION:Arlington Food Asistance Center\, 2708 South Nelson Street\, Arlington\, VA\, 22206\, United States
CATEGORIES:Volunteer
ATTACH;FMTTYPE=image/png:https://www.unitycenterdc.org/wp-content/uploads/2026/03/afac-rectangle.png
END:VEVENT
BEGIN:VEVENT
DTSTART;TZID=America/New_York:20270909T100000
DTEND;TZID=America/New_York:20270909T113000
DTSTAMP:20260423T112228
CREATED:20260325T232931Z
LAST-MODIFIED:20260325T233038Z
UID:10002543-1820484000-1820489400@www.unitycenterdc.org
SUMMARY:Arlington Food Assistance Center Volunteering
DESCRIPTION:Mark your calendar to volunteer at the Arlington Food Assistance Center once a month. We will pack food each second Thursday of the month from 10:00 AM to 11:30 AM. Easy parking in the lot behind the center. Closed toe shoes required. Bring a hat or hair nets supplied. Great fellowship!
URL:https://www.unitycenterdc.org/calendar/arlington-food-assistance-center-volunteering/2027-09-09/
LOCATION:Arlington Food Asistance Center\, 2708 South Nelson Street\, Arlington\, VA\, 22206\, United States
CATEGORIES:Volunteer
ATTACH;FMTTYPE=image/png:https://www.unitycenterdc.org/wp-content/uploads/2026/03/afac-rectangle.png
END:VEVENT
BEGIN:VEVENT
DTSTART;TZID=America/New_York:20271014T100000
DTEND;TZID=America/New_York:20271014T113000
DTSTAMP:20260423T112228
CREATED:20260325T232931Z
LAST-MODIFIED:20260325T233038Z
UID:10002544-1823508000-1823513400@www.unitycenterdc.org
SUMMARY:Arlington Food Assistance Center Volunteering
DESCRIPTION:Mark your calendar to volunteer at the Arlington Food Assistance Center once a month. We will pack food each second Thursday of the month from 10:00 AM to 11:30 AM. Easy parking in the lot behind the center. Closed toe shoes required. Bring a hat or hair nets supplied. Great fellowship!
URL:https://www.unitycenterdc.org/calendar/arlington-food-assistance-center-volunteering/2027-10-14/
LOCATION:Arlington Food Asistance Center\, 2708 South Nelson Street\, Arlington\, VA\, 22206\, United States
CATEGORIES:Volunteer
ATTACH;FMTTYPE=image/png:https://www.unitycenterdc.org/wp-content/uploads/2026/03/afac-rectangle.png
END:VEVENT
BEGIN:VEVENT
DTSTART;TZID=America/New_York:20271111T100000
DTEND;TZID=America/New_York:20271111T113000
DTSTAMP:20260423T112228
CREATED:20260325T232931Z
LAST-MODIFIED:20260325T233038Z
UID:10002545-1825927200-1825932600@www.unitycenterdc.org
SUMMARY:Arlington Food Assistance Center Volunteering
DESCRIPTION:Mark your calendar to volunteer at the Arlington Food Assistance Center once a month. We will pack food each second Thursday of the month from 10:00 AM to 11:30 AM. Easy parking in the lot behind the center. Closed toe shoes required. Bring a hat or hair nets supplied. Great fellowship!
URL:https://www.unitycenterdc.org/calendar/arlington-food-assistance-center-volunteering/2027-11-11/
LOCATION:Arlington Food Asistance Center\, 2708 South Nelson Street\, Arlington\, VA\, 22206\, United States
CATEGORIES:Volunteer
ATTACH;FMTTYPE=image/png:https://www.unitycenterdc.org/wp-content/uploads/2026/03/afac-rectangle.png
END:VEVENT
BEGIN:VEVENT
DTSTART;TZID=America/New_York:20271209T100000
DTEND;TZID=America/New_York:20271209T113000
DTSTAMP:20260423T112228
CREATED:20260325T232931Z
LAST-MODIFIED:20260325T233038Z
UID:10002546-1828346400-1828351800@www.unitycenterdc.org
SUMMARY:Arlington Food Assistance Center Volunteering
DESCRIPTION:Mark your calendar to volunteer at the Arlington Food Assistance Center once a month. We will pack food each second Thursday of the month from 10:00 AM to 11:30 AM. Easy parking in the lot behind the center. Closed toe shoes required. Bring a hat or hair nets supplied. Great fellowship!
URL:https://www.unitycenterdc.org/calendar/arlington-food-assistance-center-volunteering/2027-12-09/
LOCATION:Arlington Food Asistance Center\, 2708 South Nelson Street\, Arlington\, VA\, 22206\, United States
CATEGORIES:Volunteer
ATTACH;FMTTYPE=image/png:https://www.unitycenterdc.org/wp-content/uploads/2026/03/afac-rectangle.png
END:VEVENT
BEGIN:VEVENT
DTSTART;TZID=America/New_York:20280113T100000
DTEND;TZID=America/New_York:20280113T113000
DTSTAMP:20260423T112228
CREATED:20260325T232931Z
LAST-MODIFIED:20260325T233038Z
UID:10002547-1831370400-1831375800@www.unitycenterdc.org
SUMMARY:Arlington Food Assistance Center Volunteering
DESCRIPTION:Mark your calendar to volunteer at the Arlington Food Assistance Center once a month. We will pack food each second Thursday of the month from 10:00 AM to 11:30 AM. Easy parking in the lot behind the center. Closed toe shoes required. Bring a hat or hair nets supplied. Great fellowship!
URL:https://www.unitycenterdc.org/calendar/arlington-food-assistance-center-volunteering/2028-01-13/
LOCATION:Arlington Food Asistance Center\, 2708 South Nelson Street\, Arlington\, VA\, 22206\, United States
CATEGORIES:Volunteer
ATTACH;FMTTYPE=image/png:https://www.unitycenterdc.org/wp-content/uploads/2026/03/afac-rectangle.png
END:VEVENT
BEGIN:VEVENT
DTSTART;TZID=America/New_York:20280210T100000
DTEND;TZID=America/New_York:20280210T113000
DTSTAMP:20260423T112228
CREATED:20260325T232931Z
LAST-MODIFIED:20260325T233038Z
UID:10002548-1833789600-1833795000@www.unitycenterdc.org
SUMMARY:Arlington Food Assistance Center Volunteering
DESCRIPTION:Mark your calendar to volunteer at the Arlington Food Assistance Center once a month. We will pack food each second Thursday of the month from 10:00 AM to 11:30 AM. Easy parking in the lot behind the center. Closed toe shoes required. Bring a hat or hair nets supplied. Great fellowship!
URL:https://www.unitycenterdc.org/calendar/arlington-food-assistance-center-volunteering/2028-02-10/
LOCATION:Arlington Food Asistance Center\, 2708 South Nelson Street\, Arlington\, VA\, 22206\, United States
CATEGORIES:Volunteer
ATTACH;FMTTYPE=image/png:https://www.unitycenterdc.org/wp-content/uploads/2026/03/afac-rectangle.png
END:VEVENT
BEGIN:VEVENT
DTSTART;TZID=America/New_York:20280309T100000
DTEND;TZID=America/New_York:20280309T113000
DTSTAMP:20260423T112228
CREATED:20260325T232931Z
LAST-MODIFIED:20260325T233038Z
UID:10002549-1836208800-1836214200@www.unitycenterdc.org
SUMMARY:Arlington Food Assistance Center Volunteering
DESCRIPTION:Mark your calendar to volunteer at the Arlington Food Assistance Center once a month. We will pack food each second Thursday of the month from 10:00 AM to 11:30 AM. Easy parking in the lot behind the center. Closed toe shoes required. Bring a hat or hair nets supplied. Great fellowship!
URL:https://www.unitycenterdc.org/calendar/arlington-food-assistance-center-volunteering/2028-03-09/
LOCATION:Arlington Food Asistance Center\, 2708 South Nelson Street\, Arlington\, VA\, 22206\, United States
CATEGORIES:Volunteer
ATTACH;FMTTYPE=image/png:https://www.unitycenterdc.org/wp-content/uploads/2026/03/afac-rectangle.png
END:VEVENT
BEGIN:VEVENT
DTSTART;TZID=America/New_York:20280413T100000
DTEND;TZID=America/New_York:20280413T113000
DTSTAMP:20260423T112228
CREATED:20260325T232931Z
LAST-MODIFIED:20260325T233038Z
UID:10002550-1839232800-1839238200@www.unitycenterdc.org
SUMMARY:Arlington Food Assistance Center Volunteering
DESCRIPTION:Mark your calendar to volunteer at the Arlington Food Assistance Center once a month. We will pack food each second Thursday of the month from 10:00 AM to 11:30 AM. Easy parking in the lot behind the center. Closed toe shoes required. Bring a hat or hair nets supplied. Great fellowship!
URL:https://www.unitycenterdc.org/calendar/arlington-food-assistance-center-volunteering/2028-04-13/
LOCATION:Arlington Food Asistance Center\, 2708 South Nelson Street\, Arlington\, VA\, 22206\, United States
CATEGORIES:Volunteer
ATTACH;FMTTYPE=image/png:https://www.unitycenterdc.org/wp-content/uploads/2026/03/afac-rectangle.png
END:VEVENT
BEGIN:VEVENT
DTSTART;TZID=America/New_York:20280511T100000
DTEND;TZID=America/New_York:20280511T113000
DTSTAMP:20260423T112228
CREATED:20260325T232931Z
LAST-MODIFIED:20260325T233038Z
UID:10002551-1841652000-1841657400@www.unitycenterdc.org
SUMMARY:Arlington Food Assistance Center Volunteering
DESCRIPTION:Mark your calendar to volunteer at the Arlington Food Assistance Center once a month. We will pack food each second Thursday of the month from 10:00 AM to 11:30 AM. Easy parking in the lot behind the center. Closed toe shoes required. Bring a hat or hair nets supplied. Great fellowship!
URL:https://www.unitycenterdc.org/calendar/arlington-food-assistance-center-volunteering/2028-05-11/
LOCATION:Arlington Food Asistance Center\, 2708 South Nelson Street\, Arlington\, VA\, 22206\, United States
CATEGORIES:Volunteer
ATTACH;FMTTYPE=image/png:https://www.unitycenterdc.org/wp-content/uploads/2026/03/afac-rectangle.png
END:VEVENT
BEGIN:VEVENT
DTSTART;TZID=America/New_York:20280608T100000
DTEND;TZID=America/New_York:20280608T113000
DTSTAMP:20260423T112228
CREATED:20260325T232931Z
LAST-MODIFIED:20260325T233038Z
UID:10002552-1844071200-1844076600@www.unitycenterdc.org
SUMMARY:Arlington Food Assistance Center Volunteering
DESCRIPTION:Mark your calendar to volunteer at the Arlington Food Assistance Center once a month. We will pack food each second Thursday of the month from 10:00 AM to 11:30 AM. Easy parking in the lot behind the center. Closed toe shoes required. Bring a hat or hair nets supplied. Great fellowship!
URL:https://www.unitycenterdc.org/calendar/arlington-food-assistance-center-volunteering/2028-06-08/
LOCATION:Arlington Food Asistance Center\, 2708 South Nelson Street\, Arlington\, VA\, 22206\, United States
CATEGORIES:Volunteer
ATTACH;FMTTYPE=image/png:https://www.unitycenterdc.org/wp-content/uploads/2026/03/afac-rectangle.png
END:VEVENT
BEGIN:VEVENT
DTSTART;TZID=America/New_York:20280713T100000
DTEND;TZID=America/New_York:20280713T113000
DTSTAMP:20260423T112228
CREATED:20260325T232931Z
LAST-MODIFIED:20260325T233038Z
UID:10002553-1847095200-1847100600@www.unitycenterdc.org
SUMMARY:Arlington Food Assistance Center Volunteering
DESCRIPTION:Mark your calendar to volunteer at the Arlington Food Assistance Center once a month. We will pack food each second Thursday of the month from 10:00 AM to 11:30 AM. Easy parking in the lot behind the center. Closed toe shoes required. Bring a hat or hair nets supplied. Great fellowship!
URL:https://www.unitycenterdc.org/calendar/arlington-food-assistance-center-volunteering/2028-07-13/
LOCATION:Arlington Food Asistance Center\, 2708 South Nelson Street\, Arlington\, VA\, 22206\, United States
CATEGORIES:Volunteer
ATTACH;FMTTYPE=image/png:https://www.unitycenterdc.org/wp-content/uploads/2026/03/afac-rectangle.png
END:VEVENT
BEGIN:VEVENT
DTSTART;TZID=America/New_York:20280810T100000
DTEND;TZID=America/New_York:20280810T113000
DTSTAMP:20260423T112228
CREATED:20260325T232931Z
LAST-MODIFIED:20260325T233038Z
UID:10002554-1849514400-1849519800@www.unitycenterdc.org
SUMMARY:Arlington Food Assistance Center Volunteering
DESCRIPTION:Mark your calendar to volunteer at the Arlington Food Assistance Center once a month. We will pack food each second Thursday of the month from 10:00 AM to 11:30 AM. Easy parking in the lot behind the center. Closed toe shoes required. Bring a hat or hair nets supplied. Great fellowship!
URL:https://www.unitycenterdc.org/calendar/arlington-food-assistance-center-volunteering/2028-08-10/
LOCATION:Arlington Food Asistance Center\, 2708 South Nelson Street\, Arlington\, VA\, 22206\, United States
CATEGORIES:Volunteer
ATTACH;FMTTYPE=image/png:https://www.unitycenterdc.org/wp-content/uploads/2026/03/afac-rectangle.png
END:VEVENT
BEGIN:VEVENT
DTSTART;TZID=America/New_York:20280914T100000
DTEND;TZID=America/New_York:20280914T113000
DTSTAMP:20260423T112228
CREATED:20260325T232931Z
LAST-MODIFIED:20260325T233038Z
UID:10002555-1852538400-1852543800@www.unitycenterdc.org
SUMMARY:Arlington Food Assistance Center Volunteering
DESCRIPTION:Mark your calendar to volunteer at the Arlington Food Assistance Center once a month. We will pack food each second Thursday of the month from 10:00 AM to 11:30 AM. Easy parking in the lot behind the center. Closed toe shoes required. Bring a hat or hair nets supplied. Great fellowship!
URL:https://www.unitycenterdc.org/calendar/arlington-food-assistance-center-volunteering/2028-09-14/
LOCATION:Arlington Food Asistance Center\, 2708 South Nelson Street\, Arlington\, VA\, 22206\, United States
CATEGORIES:Volunteer
ATTACH;FMTTYPE=image/png:https://www.unitycenterdc.org/wp-content/uploads/2026/03/afac-rectangle.png
END:VEVENT
BEGIN:VEVENT
DTSTART;TZID=America/New_York:20281012T100000
DTEND;TZID=America/New_York:20281012T113000
DTSTAMP:20260423T112228
CREATED:20260325T232931Z
LAST-MODIFIED:20260325T233038Z
UID:10002556-1854957600-1854963000@www.unitycenterdc.org
SUMMARY:Arlington Food Assistance Center Volunteering
DESCRIPTION:Mark your calendar to volunteer at the Arlington Food Assistance Center once a month. We will pack food each second Thursday of the month from 10:00 AM to 11:30 AM. Easy parking in the lot behind the center. Closed toe shoes required. Bring a hat or hair nets supplied. Great fellowship!
URL:https://www.unitycenterdc.org/calendar/arlington-food-assistance-center-volunteering/2028-10-12/
LOCATION:Arlington Food Asistance Center\, 2708 South Nelson Street\, Arlington\, VA\, 22206\, United States
CATEGORIES:Volunteer
ATTACH;FMTTYPE=image/png:https://www.unitycenterdc.org/wp-content/uploads/2026/03/afac-rectangle.png
END:VEVENT
END:VCALENDAR