BEGIN:VCALENDAR
VERSION:2.0
PRODID:-//Unity Center DC - ECPv6.15.20//NONSGML v1.0//EN
CALSCALE:GREGORIAN
METHOD:PUBLISH
X-WR-CALNAME:Unity Center DC
X-ORIGINAL-URL:https://www.unitycenterdc.org
X-WR-CALDESC:Events for Unity Center DC
REFRESH-INTERVAL;VALUE=DURATION:PT1H
X-Robots-Tag:noindex
X-PUBLISHED-TTL:PT1H
BEGIN:VTIMEZONE
TZID:America/New_York
BEGIN:DAYLIGHT
TZOFFSETFROM:-0500
TZOFFSETTO:-0400
TZNAME:EDT
DTSTART:20280312T070000
END:DAYLIGHT
BEGIN:STANDARD
TZOFFSETFROM:-0400
TZOFFSETTO:-0500
TZNAME:EST
DTSTART:20281105T060000
END:STANDARD
BEGIN:DAYLIGHT
TZOFFSETFROM:-0500
TZOFFSETTO:-0400
TZNAME:EDT
DTSTART:20290311T070000
END:DAYLIGHT
BEGIN:STANDARD
TZOFFSETFROM:-0400
TZOFFSETTO:-0500
TZNAME:EST
DTSTART:20291104T060000
END:STANDARD
BEGIN:DAYLIGHT
TZOFFSETFROM:-0500
TZOFFSETTO:-0400
TZNAME:EDT
DTSTART:20300310T070000
END:DAYLIGHT
BEGIN:STANDARD
TZOFFSETFROM:-0400
TZOFFSETTO:-0500
TZNAME:EST
DTSTART:20301103T060000
END:STANDARD
BEGIN:DAYLIGHT
TZOFFSETFROM:-0500
TZOFFSETTO:-0400
TZNAME:EDT
DTSTART:20310309T070000
END:DAYLIGHT
BEGIN:STANDARD
TZOFFSETFROM:-0400
TZOFFSETTO:-0500
TZNAME:EST
DTSTART:20311102T060000
END:STANDARD
BEGIN:DAYLIGHT
TZOFFSETFROM:-0500
TZOFFSETTO:-0400
TZNAME:EDT
DTSTART:20320314T070000
END:DAYLIGHT
BEGIN:STANDARD
TZOFFSETFROM:-0400
TZOFFSETTO:-0500
TZNAME:EST
DTSTART:20321107T060000
END:STANDARD
END:VTIMEZONE
BEGIN:VEVENT
DTSTART;TZID=America/New_York:20290913T100000
DTEND;TZID=America/New_York:20290913T113000
DTSTAMP:20260423T141315
CREATED:20260325T232931Z
LAST-MODIFIED:20260325T233038Z
UID:10002567-1883988000-1883993400@www.unitycenterdc.org
SUMMARY:Arlington Food Assistance Center Volunteering
DESCRIPTION:Mark your calendar to volunteer at the Arlington Food Assistance Center once a month. We will pack food each second Thursday of the month from 10:00 AM to 11:30 AM. Easy parking in the lot behind the center. Closed toe shoes required. Bring a hat or hair nets supplied. Great fellowship!
URL:https://www.unitycenterdc.org/calendar/arlington-food-assistance-center-volunteering/2029-09-13/
LOCATION:Arlington Food Asistance Center\, 2708 South Nelson Street\, Arlington\, VA\, 22206\, United States
CATEGORIES:Volunteer
ATTACH;FMTTYPE=image/png:https://www.unitycenterdc.org/wp-content/uploads/2026/03/afac-rectangle.png
END:VEVENT
BEGIN:VEVENT
DTSTART;TZID=America/New_York:20291011T100000
DTEND;TZID=America/New_York:20291011T113000
DTSTAMP:20260423T141315
CREATED:20260325T232931Z
LAST-MODIFIED:20260325T233038Z
UID:10002568-1886407200-1886412600@www.unitycenterdc.org
SUMMARY:Arlington Food Assistance Center Volunteering
DESCRIPTION:Mark your calendar to volunteer at the Arlington Food Assistance Center once a month. We will pack food each second Thursday of the month from 10:00 AM to 11:30 AM. Easy parking in the lot behind the center. Closed toe shoes required. Bring a hat or hair nets supplied. Great fellowship!
URL:https://www.unitycenterdc.org/calendar/arlington-food-assistance-center-volunteering/2029-10-11/
LOCATION:Arlington Food Asistance Center\, 2708 South Nelson Street\, Arlington\, VA\, 22206\, United States
CATEGORIES:Volunteer
ATTACH;FMTTYPE=image/png:https://www.unitycenterdc.org/wp-content/uploads/2026/03/afac-rectangle.png
END:VEVENT
BEGIN:VEVENT
DTSTART;TZID=America/New_York:20291108T100000
DTEND;TZID=America/New_York:20291108T113000
DTSTAMP:20260423T141315
CREATED:20260325T232931Z
LAST-MODIFIED:20260325T233038Z
UID:10002569-1888826400-1888831800@www.unitycenterdc.org
SUMMARY:Arlington Food Assistance Center Volunteering
DESCRIPTION:Mark your calendar to volunteer at the Arlington Food Assistance Center once a month. We will pack food each second Thursday of the month from 10:00 AM to 11:30 AM. Easy parking in the lot behind the center. Closed toe shoes required. Bring a hat or hair nets supplied. Great fellowship!
URL:https://www.unitycenterdc.org/calendar/arlington-food-assistance-center-volunteering/2029-11-08/
LOCATION:Arlington Food Asistance Center\, 2708 South Nelson Street\, Arlington\, VA\, 22206\, United States
CATEGORIES:Volunteer
ATTACH;FMTTYPE=image/png:https://www.unitycenterdc.org/wp-content/uploads/2026/03/afac-rectangle.png
END:VEVENT
BEGIN:VEVENT
DTSTART;TZID=America/New_York:20291213T100000
DTEND;TZID=America/New_York:20291213T113000
DTSTAMP:20260423T141315
CREATED:20260325T232931Z
LAST-MODIFIED:20260325T233038Z
UID:10002570-1891850400-1891855800@www.unitycenterdc.org
SUMMARY:Arlington Food Assistance Center Volunteering
DESCRIPTION:Mark your calendar to volunteer at the Arlington Food Assistance Center once a month. We will pack food each second Thursday of the month from 10:00 AM to 11:30 AM. Easy parking in the lot behind the center. Closed toe shoes required. Bring a hat or hair nets supplied. Great fellowship!
URL:https://www.unitycenterdc.org/calendar/arlington-food-assistance-center-volunteering/2029-12-13/
LOCATION:Arlington Food Asistance Center\, 2708 South Nelson Street\, Arlington\, VA\, 22206\, United States
CATEGORIES:Volunteer
ATTACH;FMTTYPE=image/png:https://www.unitycenterdc.org/wp-content/uploads/2026/03/afac-rectangle.png
END:VEVENT
BEGIN:VEVENT
DTSTART;TZID=America/New_York:20300110T100000
DTEND;TZID=America/New_York:20300110T113000
DTSTAMP:20260423T141315
CREATED:20260325T232931Z
LAST-MODIFIED:20260325T233038Z
UID:10002571-1894269600-1894275000@www.unitycenterdc.org
SUMMARY:Arlington Food Assistance Center Volunteering
DESCRIPTION:Mark your calendar to volunteer at the Arlington Food Assistance Center once a month. We will pack food each second Thursday of the month from 10:00 AM to 11:30 AM. Easy parking in the lot behind the center. Closed toe shoes required. Bring a hat or hair nets supplied. Great fellowship!
URL:https://www.unitycenterdc.org/calendar/arlington-food-assistance-center-volunteering/2030-01-10/
LOCATION:Arlington Food Asistance Center\, 2708 South Nelson Street\, Arlington\, VA\, 22206\, United States
CATEGORIES:Volunteer
ATTACH;FMTTYPE=image/png:https://www.unitycenterdc.org/wp-content/uploads/2026/03/afac-rectangle.png
END:VEVENT
BEGIN:VEVENT
DTSTART;TZID=America/New_York:20300214T100000
DTEND;TZID=America/New_York:20300214T113000
DTSTAMP:20260423T141315
CREATED:20260325T232931Z
LAST-MODIFIED:20260325T233038Z
UID:10002572-1897293600-1897299000@www.unitycenterdc.org
SUMMARY:Arlington Food Assistance Center Volunteering
DESCRIPTION:Mark your calendar to volunteer at the Arlington Food Assistance Center once a month. We will pack food each second Thursday of the month from 10:00 AM to 11:30 AM. Easy parking in the lot behind the center. Closed toe shoes required. Bring a hat or hair nets supplied. Great fellowship!
URL:https://www.unitycenterdc.org/calendar/arlington-food-assistance-center-volunteering/2030-02-14/
LOCATION:Arlington Food Asistance Center\, 2708 South Nelson Street\, Arlington\, VA\, 22206\, United States
CATEGORIES:Volunteer
ATTACH;FMTTYPE=image/png:https://www.unitycenterdc.org/wp-content/uploads/2026/03/afac-rectangle.png
END:VEVENT
BEGIN:VEVENT
DTSTART;TZID=America/New_York:20300314T100000
DTEND;TZID=America/New_York:20300314T113000
DTSTAMP:20260423T141315
CREATED:20260325T232931Z
LAST-MODIFIED:20260325T233038Z
UID:10002573-1899712800-1899718200@www.unitycenterdc.org
SUMMARY:Arlington Food Assistance Center Volunteering
DESCRIPTION:Mark your calendar to volunteer at the Arlington Food Assistance Center once a month. We will pack food each second Thursday of the month from 10:00 AM to 11:30 AM. Easy parking in the lot behind the center. Closed toe shoes required. Bring a hat or hair nets supplied. Great fellowship!
URL:https://www.unitycenterdc.org/calendar/arlington-food-assistance-center-volunteering/2030-03-14/
LOCATION:Arlington Food Asistance Center\, 2708 South Nelson Street\, Arlington\, VA\, 22206\, United States
CATEGORIES:Volunteer
ATTACH;FMTTYPE=image/png:https://www.unitycenterdc.org/wp-content/uploads/2026/03/afac-rectangle.png
END:VEVENT
BEGIN:VEVENT
DTSTART;TZID=America/New_York:20300411T100000
DTEND;TZID=America/New_York:20300411T113000
DTSTAMP:20260423T141315
CREATED:20260325T232931Z
LAST-MODIFIED:20260325T233038Z
UID:10002574-1902132000-1902137400@www.unitycenterdc.org
SUMMARY:Arlington Food Assistance Center Volunteering
DESCRIPTION:Mark your calendar to volunteer at the Arlington Food Assistance Center once a month. We will pack food each second Thursday of the month from 10:00 AM to 11:30 AM. Easy parking in the lot behind the center. Closed toe shoes required. Bring a hat or hair nets supplied. Great fellowship!
URL:https://www.unitycenterdc.org/calendar/arlington-food-assistance-center-volunteering/2030-04-11/
LOCATION:Arlington Food Asistance Center\, 2708 South Nelson Street\, Arlington\, VA\, 22206\, United States
CATEGORIES:Volunteer
ATTACH;FMTTYPE=image/png:https://www.unitycenterdc.org/wp-content/uploads/2026/03/afac-rectangle.png
END:VEVENT
BEGIN:VEVENT
DTSTART;TZID=America/New_York:20300509T100000
DTEND;TZID=America/New_York:20300509T113000
DTSTAMP:20260423T141315
CREATED:20260325T232931Z
LAST-MODIFIED:20260325T233038Z
UID:10002575-1904551200-1904556600@www.unitycenterdc.org
SUMMARY:Arlington Food Assistance Center Volunteering
DESCRIPTION:Mark your calendar to volunteer at the Arlington Food Assistance Center once a month. We will pack food each second Thursday of the month from 10:00 AM to 11:30 AM. Easy parking in the lot behind the center. Closed toe shoes required. Bring a hat or hair nets supplied. Great fellowship!
URL:https://www.unitycenterdc.org/calendar/arlington-food-assistance-center-volunteering/2030-05-09/
LOCATION:Arlington Food Asistance Center\, 2708 South Nelson Street\, Arlington\, VA\, 22206\, United States
CATEGORIES:Volunteer
ATTACH;FMTTYPE=image/png:https://www.unitycenterdc.org/wp-content/uploads/2026/03/afac-rectangle.png
END:VEVENT
BEGIN:VEVENT
DTSTART;TZID=America/New_York:20300613T100000
DTEND;TZID=America/New_York:20300613T113000
DTSTAMP:20260423T141315
CREATED:20260325T232931Z
LAST-MODIFIED:20260325T233038Z
UID:10002576-1907575200-1907580600@www.unitycenterdc.org
SUMMARY:Arlington Food Assistance Center Volunteering
DESCRIPTION:Mark your calendar to volunteer at the Arlington Food Assistance Center once a month. We will pack food each second Thursday of the month from 10:00 AM to 11:30 AM. Easy parking in the lot behind the center. Closed toe shoes required. Bring a hat or hair nets supplied. Great fellowship!
URL:https://www.unitycenterdc.org/calendar/arlington-food-assistance-center-volunteering/2030-06-13/
LOCATION:Arlington Food Asistance Center\, 2708 South Nelson Street\, Arlington\, VA\, 22206\, United States
CATEGORIES:Volunteer
ATTACH;FMTTYPE=image/png:https://www.unitycenterdc.org/wp-content/uploads/2026/03/afac-rectangle.png
END:VEVENT
BEGIN:VEVENT
DTSTART;TZID=America/New_York:20300711T100000
DTEND;TZID=America/New_York:20300711T113000
DTSTAMP:20260423T141315
CREATED:20260325T232931Z
LAST-MODIFIED:20260325T233038Z
UID:10002577-1909994400-1909999800@www.unitycenterdc.org
SUMMARY:Arlington Food Assistance Center Volunteering
DESCRIPTION:Mark your calendar to volunteer at the Arlington Food Assistance Center once a month. We will pack food each second Thursday of the month from 10:00 AM to 11:30 AM. Easy parking in the lot behind the center. Closed toe shoes required. Bring a hat or hair nets supplied. Great fellowship!
URL:https://www.unitycenterdc.org/calendar/arlington-food-assistance-center-volunteering/2030-07-11/
LOCATION:Arlington Food Asistance Center\, 2708 South Nelson Street\, Arlington\, VA\, 22206\, United States
CATEGORIES:Volunteer
ATTACH;FMTTYPE=image/png:https://www.unitycenterdc.org/wp-content/uploads/2026/03/afac-rectangle.png
END:VEVENT
BEGIN:VEVENT
DTSTART;TZID=America/New_York:20300808T100000
DTEND;TZID=America/New_York:20300808T113000
DTSTAMP:20260423T141315
CREATED:20260325T232931Z
LAST-MODIFIED:20260325T233038Z
UID:10002578-1912413600-1912419000@www.unitycenterdc.org
SUMMARY:Arlington Food Assistance Center Volunteering
DESCRIPTION:Mark your calendar to volunteer at the Arlington Food Assistance Center once a month. We will pack food each second Thursday of the month from 10:00 AM to 11:30 AM. Easy parking in the lot behind the center. Closed toe shoes required. Bring a hat or hair nets supplied. Great fellowship!
URL:https://www.unitycenterdc.org/calendar/arlington-food-assistance-center-volunteering/2030-08-08/
LOCATION:Arlington Food Asistance Center\, 2708 South Nelson Street\, Arlington\, VA\, 22206\, United States
CATEGORIES:Volunteer
ATTACH;FMTTYPE=image/png:https://www.unitycenterdc.org/wp-content/uploads/2026/03/afac-rectangle.png
END:VEVENT
BEGIN:VEVENT
DTSTART;TZID=America/New_York:20300912T100000
DTEND;TZID=America/New_York:20300912T113000
DTSTAMP:20260423T141315
CREATED:20260325T232931Z
LAST-MODIFIED:20260325T233038Z
UID:10002579-1915437600-1915443000@www.unitycenterdc.org
SUMMARY:Arlington Food Assistance Center Volunteering
DESCRIPTION:Mark your calendar to volunteer at the Arlington Food Assistance Center once a month. We will pack food each second Thursday of the month from 10:00 AM to 11:30 AM. Easy parking in the lot behind the center. Closed toe shoes required. Bring a hat or hair nets supplied. Great fellowship!
URL:https://www.unitycenterdc.org/calendar/arlington-food-assistance-center-volunteering/2030-09-12/
LOCATION:Arlington Food Asistance Center\, 2708 South Nelson Street\, Arlington\, VA\, 22206\, United States
CATEGORIES:Volunteer
ATTACH;FMTTYPE=image/png:https://www.unitycenterdc.org/wp-content/uploads/2026/03/afac-rectangle.png
END:VEVENT
BEGIN:VEVENT
DTSTART;TZID=America/New_York:20301010T100000
DTEND;TZID=America/New_York:20301010T113000
DTSTAMP:20260423T141315
CREATED:20260325T232931Z
LAST-MODIFIED:20260325T233038Z
UID:10002580-1917856800-1917862200@www.unitycenterdc.org
SUMMARY:Arlington Food Assistance Center Volunteering
DESCRIPTION:Mark your calendar to volunteer at the Arlington Food Assistance Center once a month. We will pack food each second Thursday of the month from 10:00 AM to 11:30 AM. Easy parking in the lot behind the center. Closed toe shoes required. Bring a hat or hair nets supplied. Great fellowship!
URL:https://www.unitycenterdc.org/calendar/arlington-food-assistance-center-volunteering/2030-10-10/
LOCATION:Arlington Food Asistance Center\, 2708 South Nelson Street\, Arlington\, VA\, 22206\, United States
CATEGORIES:Volunteer
ATTACH;FMTTYPE=image/png:https://www.unitycenterdc.org/wp-content/uploads/2026/03/afac-rectangle.png
END:VEVENT
BEGIN:VEVENT
DTSTART;TZID=America/New_York:20301114T100000
DTEND;TZID=America/New_York:20301114T113000
DTSTAMP:20260423T141315
CREATED:20260325T232931Z
LAST-MODIFIED:20260325T233038Z
UID:10002581-1920880800-1920886200@www.unitycenterdc.org
SUMMARY:Arlington Food Assistance Center Volunteering
DESCRIPTION:Mark your calendar to volunteer at the Arlington Food Assistance Center once a month. We will pack food each second Thursday of the month from 10:00 AM to 11:30 AM. Easy parking in the lot behind the center. Closed toe shoes required. Bring a hat or hair nets supplied. Great fellowship!
URL:https://www.unitycenterdc.org/calendar/arlington-food-assistance-center-volunteering/2030-11-14/
LOCATION:Arlington Food Asistance Center\, 2708 South Nelson Street\, Arlington\, VA\, 22206\, United States
CATEGORIES:Volunteer
ATTACH;FMTTYPE=image/png:https://www.unitycenterdc.org/wp-content/uploads/2026/03/afac-rectangle.png
END:VEVENT
BEGIN:VEVENT
DTSTART;TZID=America/New_York:20301212T100000
DTEND;TZID=America/New_York:20301212T113000
DTSTAMP:20260423T141315
CREATED:20260325T232931Z
LAST-MODIFIED:20260325T233038Z
UID:10002582-1923300000-1923305400@www.unitycenterdc.org
SUMMARY:Arlington Food Assistance Center Volunteering
DESCRIPTION:Mark your calendar to volunteer at the Arlington Food Assistance Center once a month. We will pack food each second Thursday of the month from 10:00 AM to 11:30 AM. Easy parking in the lot behind the center. Closed toe shoes required. Bring a hat or hair nets supplied. Great fellowship!
URL:https://www.unitycenterdc.org/calendar/arlington-food-assistance-center-volunteering/2030-12-12/
LOCATION:Arlington Food Asistance Center\, 2708 South Nelson Street\, Arlington\, VA\, 22206\, United States
CATEGORIES:Volunteer
ATTACH;FMTTYPE=image/png:https://www.unitycenterdc.org/wp-content/uploads/2026/03/afac-rectangle.png
END:VEVENT
BEGIN:VEVENT
DTSTART;TZID=America/New_York:20310109T100000
DTEND;TZID=America/New_York:20310109T113000
DTSTAMP:20260423T141315
CREATED:20260325T232931Z
LAST-MODIFIED:20260325T233038Z
UID:10002583-1925719200-1925724600@www.unitycenterdc.org
SUMMARY:Arlington Food Assistance Center Volunteering
DESCRIPTION:Mark your calendar to volunteer at the Arlington Food Assistance Center once a month. We will pack food each second Thursday of the month from 10:00 AM to 11:30 AM. Easy parking in the lot behind the center. Closed toe shoes required. Bring a hat or hair nets supplied. Great fellowship!
URL:https://www.unitycenterdc.org/calendar/arlington-food-assistance-center-volunteering/2031-01-09/
LOCATION:Arlington Food Asistance Center\, 2708 South Nelson Street\, Arlington\, VA\, 22206\, United States
CATEGORIES:Volunteer
ATTACH;FMTTYPE=image/png:https://www.unitycenterdc.org/wp-content/uploads/2026/03/afac-rectangle.png
END:VEVENT
BEGIN:VEVENT
DTSTART;TZID=America/New_York:20310213T100000
DTEND;TZID=America/New_York:20310213T113000
DTSTAMP:20260423T141315
CREATED:20260325T232931Z
LAST-MODIFIED:20260325T233038Z
UID:10002584-1928743200-1928748600@www.unitycenterdc.org
SUMMARY:Arlington Food Assistance Center Volunteering
DESCRIPTION:Mark your calendar to volunteer at the Arlington Food Assistance Center once a month. We will pack food each second Thursday of the month from 10:00 AM to 11:30 AM. Easy parking in the lot behind the center. Closed toe shoes required. Bring a hat or hair nets supplied. Great fellowship!
URL:https://www.unitycenterdc.org/calendar/arlington-food-assistance-center-volunteering/2031-02-13/
LOCATION:Arlington Food Asistance Center\, 2708 South Nelson Street\, Arlington\, VA\, 22206\, United States
CATEGORIES:Volunteer
ATTACH;FMTTYPE=image/png:https://www.unitycenterdc.org/wp-content/uploads/2026/03/afac-rectangle.png
END:VEVENT
BEGIN:VEVENT
DTSTART;TZID=America/New_York:20310313T100000
DTEND;TZID=America/New_York:20310313T113000
DTSTAMP:20260423T141315
CREATED:20260325T232931Z
LAST-MODIFIED:20260325T233038Z
UID:10002585-1931162400-1931167800@www.unitycenterdc.org
SUMMARY:Arlington Food Assistance Center Volunteering
DESCRIPTION:Mark your calendar to volunteer at the Arlington Food Assistance Center once a month. We will pack food each second Thursday of the month from 10:00 AM to 11:30 AM. Easy parking in the lot behind the center. Closed toe shoes required. Bring a hat or hair nets supplied. Great fellowship!
URL:https://www.unitycenterdc.org/calendar/arlington-food-assistance-center-volunteering/2031-03-13/
LOCATION:Arlington Food Asistance Center\, 2708 South Nelson Street\, Arlington\, VA\, 22206\, United States
CATEGORIES:Volunteer
ATTACH;FMTTYPE=image/png:https://www.unitycenterdc.org/wp-content/uploads/2026/03/afac-rectangle.png
END:VEVENT
END:VCALENDAR