BEGIN:VCALENDAR
VERSION:2.0
PRODID:-//Unity Center DC - ECPv6.15.20//NONSGML v1.0//EN
CALSCALE:GREGORIAN
METHOD:PUBLISH
X-WR-CALNAME:Unity Center DC
X-ORIGINAL-URL:https://www.unitycenterdc.org
X-WR-CALDESC:Events for Unity Center DC
REFRESH-INTERVAL;VALUE=DURATION:PT1H
X-Robots-Tag:noindex
X-PUBLISHED-TTL:PT1H
BEGIN:VTIMEZONE
TZID:America/New_York
BEGIN:DAYLIGHT
TZOFFSETFROM:-0500
TZOFFSETTO:-0400
TZNAME:EDT
DTSTART:20170312T070000
END:DAYLIGHT
BEGIN:STANDARD
TZOFFSETFROM:-0400
TZOFFSETTO:-0500
TZNAME:EST
DTSTART:20171105T060000
END:STANDARD
BEGIN:DAYLIGHT
TZOFFSETFROM:-0500
TZOFFSETTO:-0400
TZNAME:EDT
DTSTART:20180311T070000
END:DAYLIGHT
BEGIN:STANDARD
TZOFFSETFROM:-0400
TZOFFSETTO:-0500
TZNAME:EST
DTSTART:20181104T060000
END:STANDARD
BEGIN:DAYLIGHT
TZOFFSETFROM:-0500
TZOFFSETTO:-0400
TZNAME:EDT
DTSTART:20190310T070000
END:DAYLIGHT
BEGIN:STANDARD
TZOFFSETFROM:-0400
TZOFFSETTO:-0500
TZNAME:EST
DTSTART:20191103T060000
END:STANDARD
BEGIN:DAYLIGHT
TZOFFSETFROM:-0500
TZOFFSETTO:-0400
TZNAME:EDT
DTSTART:20200308T070000
END:DAYLIGHT
BEGIN:STANDARD
TZOFFSETFROM:-0400
TZOFFSETTO:-0500
TZNAME:EST
DTSTART:20201101T060000
END:STANDARD
END:VTIMEZONE
BEGIN:VEVENT
DTSTART;TZID=America/New_York:20190106T110000
DTEND;TZID=America/New_York:20190106T120000
DTSTAMP:20260424T080809
CREATED:20180524T154606Z
LAST-MODIFIED:20190829T234539Z
UID:10000701-1546772400-1546776000@www.unitycenterdc.org
SUMMARY:Sunday Celebration
DESCRIPTION:Our worship celebration begins at 11 am Sunday morning. Plan on arriving a few minutes before hand\, so that you can mingle and find your seat. The Service lasts approximately one hour with additional time afterward for fellowship. Our celebration includes a wonderful selection of music\, meditation\, prayer and an inspirational Unity message. During our friendship time\, coffee and light fare are available for your enjoyment. We welcome individuals and families of all kinds at our celebration services. If you have handicapped needs\, please allow extra time for drop off and pick up.
URL:https://www.unitycenterdc.org/calendar/sunday-celebration/2019-01-06/
LOCATION:Unity Center DC\, 3655 Calvert St\, NW\, Washington\, DC\, 20007\, United States
CATEGORIES:Service
ATTACH;FMTTYPE=image/png:https://www.unitycenterdc.org/wp-content/uploads/2014/12/Church-Round.png
GEO:38.9229551;-77.0719611
X-APPLE-STRUCTURED-LOCATION;VALUE=URI;X-ADDRESS=Unity Center DC 3655 Calvert St NW Washington DC 20007 United States;X-APPLE-RADIUS=500;X-TITLE=3655 Calvert St\, NW:geo:-77.0719611,38.9229551
END:VEVENT
BEGIN:VEVENT
DTSTART;TZID=America/New_York:20190106T093000
DTEND;TZID=America/New_York:20190106T103000
DTSTAMP:20260424T080809
CREATED:20190109T165424Z
LAST-MODIFIED:20190109T165518Z
UID:10000766-1546767000-1546770600@www.unitycenterdc.org
SUMMARY:Basic Metaphysics: The First Four Principles
DESCRIPTION:Basic Metaphysics: The First Four Principles.\nFacilitated by Caywood Black\, LUT.\nJanuary 6 – God is Absolute Good\, Everywhere Present\nJanuary 13 – Human Beings have a Spark of Divinity within\, the Christ Spirit. Their very essence is of God\, and therefore they are also inherently good.\nJanuary 20 – Human Beings create their experiences by the activity of their thinking. Everything in the manifest realm has its beginnings in thought.\nJanuary 27 – Prayer is creative thinking that heightens the connection with God Mind and therefore brings forth wisdom\, healing\, prosperity\, and everything good. \nWesley room. Love offering welcome.
URL:https://www.unitycenterdc.org/calendar/basic-metaphysics%e2%80%a8the-first-four-principles/2019-01-06/
LOCATION:Unity Center DC\, 3655 Calvert St\, NW\, Washington\, DC\, 20007\, United States
CATEGORIES:Class
GEO:38.9229551;-77.0719611
X-APPLE-STRUCTURED-LOCATION;VALUE=URI;X-ADDRESS=Unity Center DC 3655 Calvert St NW Washington DC 20007 United States;X-APPLE-RADIUS=500;X-TITLE=3655 Calvert St\, NW:geo:-77.0719611,38.9229551
END:VEVENT
BEGIN:VEVENT
DTSTART;TZID=America/New_York:20181209T123000
DTEND;TZID=America/New_York:20181209T133000
DTSTAMP:20260424T080809
CREATED:20181205T184814Z
LAST-MODIFIED:20181205T184814Z
UID:10000765-1544358600-1544362200@www.unitycenterdc.org
SUMMARY:Spiritual Preparation for Christmas
DESCRIPTION:Join this informal discussion group with Paul Tenaglia.
URL:https://www.unitycenterdc.org/calendar/spiritual-preparation-for-christmas/2018-12-09/
LOCATION:Unity Center DC\, 3655 Calvert St\, NW\, Washington\, DC\, 20007\, United States
CATEGORIES:Class
ATTACH;FMTTYPE=image/jpeg:https://www.unitycenterdc.org/wp-content/uploads/2018/12/Manger.jpg
GEO:38.9229551;-77.0719611
X-APPLE-STRUCTURED-LOCATION;VALUE=URI;X-ADDRESS=Unity Center DC 3655 Calvert St NW Washington DC 20007 United States;X-APPLE-RADIUS=500;X-TITLE=3655 Calvert St\, NW:geo:-77.0719611,38.9229551
END:VEVENT
BEGIN:VEVENT
DTSTART;TZID=America/New_York:20181202T123000
DTEND;TZID=America/New_York:20181202T133000
DTSTAMP:20260424T080809
CREATED:20181205T184814Z
LAST-MODIFIED:20181205T184814Z
UID:10000764-1543753800-1543757400@www.unitycenterdc.org
SUMMARY:Spiritual Preparation for Christmas
DESCRIPTION:Join this informal discussion group with Paul Tenaglia.
URL:https://www.unitycenterdc.org/calendar/spiritual-preparation-for-christmas/2018-12-02/
LOCATION:Unity Center DC\, 3655 Calvert St\, NW\, Washington\, DC\, 20007\, United States
CATEGORIES:Class
ATTACH;FMTTYPE=image/jpeg:https://www.unitycenterdc.org/wp-content/uploads/2018/12/Manger.jpg
GEO:38.9229551;-77.0719611
X-APPLE-STRUCTURED-LOCATION;VALUE=URI;X-ADDRESS=Unity Center DC 3655 Calvert St NW Washington DC 20007 United States;X-APPLE-RADIUS=500;X-TITLE=3655 Calvert St\, NW:geo:-77.0719611,38.9229551
END:VEVENT
BEGIN:VEVENT
DTSTART;TZID=America/New_York:20181104T093000
DTEND;TZID=America/New_York:20181104T103000
DTSTAMP:20260424T080809
CREATED:20180920T165250Z
LAST-MODIFIED:20180920T165250Z
UID:10000763-1541323800-1541327400@www.unitycenterdc.org
SUMMARY:The Science of God-Realization
DESCRIPTION:
URL:https://www.unitycenterdc.org/calendar/the-science-of-god-realization/2018-11-04/
LOCATION:Unity Center DC\, 3655 Calvert St\, NW\, Washington\, DC\, 20007\, United States
CATEGORIES:Class
ATTACH;FMTTYPE=image/jpeg:https://www.unitycenterdc.org/wp-content/uploads/2018/09/Science-of-God-Realization.jpg
GEO:38.9229551;-77.0719611
X-APPLE-STRUCTURED-LOCATION;VALUE=URI;X-ADDRESS=Unity Center DC 3655 Calvert St NW Washington DC 20007 United States;X-APPLE-RADIUS=500;X-TITLE=3655 Calvert St\, NW:geo:-77.0719611,38.9229551
END:VEVENT
BEGIN:VEVENT
DTSTART;TZID=America/New_York:20181028T093000
DTEND;TZID=America/New_York:20181028T103000
DTSTAMP:20260424T080809
CREATED:20180920T165250Z
LAST-MODIFIED:20180920T165250Z
UID:10000762-1540719000-1540722600@www.unitycenterdc.org
SUMMARY:The Science of God-Realization
DESCRIPTION:
URL:https://www.unitycenterdc.org/calendar/the-science-of-god-realization/2018-10-28/
LOCATION:Unity Center DC\, 3655 Calvert St\, NW\, Washington\, DC\, 20007\, United States
CATEGORIES:Class
ATTACH;FMTTYPE=image/jpeg:https://www.unitycenterdc.org/wp-content/uploads/2018/09/Science-of-God-Realization.jpg
GEO:38.9229551;-77.0719611
X-APPLE-STRUCTURED-LOCATION;VALUE=URI;X-ADDRESS=Unity Center DC 3655 Calvert St NW Washington DC 20007 United States;X-APPLE-RADIUS=500;X-TITLE=3655 Calvert St\, NW:geo:-77.0719611,38.9229551
END:VEVENT
BEGIN:VEVENT
DTSTART;TZID=America/New_York:20181021T093000
DTEND;TZID=America/New_York:20181021T103000
DTSTAMP:20260424T080809
CREATED:20180920T165250Z
LAST-MODIFIED:20180920T165250Z
UID:10000761-1540114200-1540117800@www.unitycenterdc.org
SUMMARY:The Science of God-Realization
DESCRIPTION:
URL:https://www.unitycenterdc.org/calendar/the-science-of-god-realization/2018-10-21/
LOCATION:Unity Center DC\, 3655 Calvert St\, NW\, Washington\, DC\, 20007\, United States
CATEGORIES:Class
ATTACH;FMTTYPE=image/jpeg:https://www.unitycenterdc.org/wp-content/uploads/2018/09/Science-of-God-Realization.jpg
GEO:38.9229551;-77.0719611
X-APPLE-STRUCTURED-LOCATION;VALUE=URI;X-ADDRESS=Unity Center DC 3655 Calvert St NW Washington DC 20007 United States;X-APPLE-RADIUS=500;X-TITLE=3655 Calvert St\, NW:geo:-77.0719611,38.9229551
END:VEVENT
BEGIN:VEVENT
DTSTART;TZID=America/New_York:20181014T093000
DTEND;TZID=America/New_York:20181014T103000
DTSTAMP:20260424T080809
CREATED:20180920T165250Z
LAST-MODIFIED:20180920T165250Z
UID:10000760-1539509400-1539513000@www.unitycenterdc.org
SUMMARY:The Science of God-Realization
DESCRIPTION:
URL:https://www.unitycenterdc.org/calendar/the-science-of-god-realization/2018-10-14/
LOCATION:Unity Center DC\, 3655 Calvert St\, NW\, Washington\, DC\, 20007\, United States
CATEGORIES:Class
ATTACH;FMTTYPE=image/jpeg:https://www.unitycenterdc.org/wp-content/uploads/2018/09/Science-of-God-Realization.jpg
GEO:38.9229551;-77.0719611
X-APPLE-STRUCTURED-LOCATION;VALUE=URI;X-ADDRESS=Unity Center DC 3655 Calvert St NW Washington DC 20007 United States;X-APPLE-RADIUS=500;X-TITLE=3655 Calvert St\, NW:geo:-77.0719611,38.9229551
END:VEVENT
BEGIN:VEVENT
DTSTART;TZID=America/New_York:20181007T093000
DTEND;TZID=America/New_York:20181007T103000
DTSTAMP:20260424T080809
CREATED:20180920T165250Z
LAST-MODIFIED:20180920T165250Z
UID:10000759-1538904600-1538908200@www.unitycenterdc.org
SUMMARY:The Science of God-Realization
DESCRIPTION:
URL:https://www.unitycenterdc.org/calendar/the-science-of-god-realization/2018-10-07/
LOCATION:Unity Center DC\, 3655 Calvert St\, NW\, Washington\, DC\, 20007\, United States
CATEGORIES:Class
ATTACH;FMTTYPE=image/jpeg:https://www.unitycenterdc.org/wp-content/uploads/2018/09/Science-of-God-Realization.jpg
GEO:38.9229551;-77.0719611
X-APPLE-STRUCTURED-LOCATION;VALUE=URI;X-ADDRESS=Unity Center DC 3655 Calvert St NW Washington DC 20007 United States;X-APPLE-RADIUS=500;X-TITLE=3655 Calvert St\, NW:geo:-77.0719611,38.9229551
END:VEVENT
BEGIN:VEVENT
DTSTART;TZID=America/New_York:20180930T093000
DTEND;TZID=America/New_York:20180930T103000
DTSTAMP:20260424T080809
CREATED:20180920T165250Z
LAST-MODIFIED:20180920T165250Z
UID:10000758-1538299800-1538303400@www.unitycenterdc.org
SUMMARY:The Science of God-Realization
DESCRIPTION:
URL:https://www.unitycenterdc.org/calendar/the-science-of-god-realization/2018-09-30/
LOCATION:Unity Center DC\, 3655 Calvert St\, NW\, Washington\, DC\, 20007\, United States
CATEGORIES:Class
ATTACH;FMTTYPE=image/jpeg:https://www.unitycenterdc.org/wp-content/uploads/2018/09/Science-of-God-Realization.jpg
GEO:38.9229551;-77.0719611
X-APPLE-STRUCTURED-LOCATION;VALUE=URI;X-ADDRESS=Unity Center DC 3655 Calvert St NW Washington DC 20007 United States;X-APPLE-RADIUS=500;X-TITLE=3655 Calvert St\, NW:geo:-77.0719611,38.9229551
END:VEVENT
BEGIN:VEVENT
DTSTART;TZID=America/New_York:20180923T093000
DTEND;TZID=America/New_York:20180923T103000
DTSTAMP:20260424T080809
CREATED:20180920T165250Z
LAST-MODIFIED:20180920T165250Z
UID:10000757-1537695000-1537698600@www.unitycenterdc.org
SUMMARY:The Science of God-Realization
DESCRIPTION:
URL:https://www.unitycenterdc.org/calendar/the-science-of-god-realization/2018-09-23/
LOCATION:Unity Center DC\, 3655 Calvert St\, NW\, Washington\, DC\, 20007\, United States
CATEGORIES:Class
ATTACH;FMTTYPE=image/jpeg:https://www.unitycenterdc.org/wp-content/uploads/2018/09/Science-of-God-Realization.jpg
GEO:38.9229551;-77.0719611
X-APPLE-STRUCTURED-LOCATION;VALUE=URI;X-ADDRESS=Unity Center DC 3655 Calvert St NW Washington DC 20007 United States;X-APPLE-RADIUS=500;X-TITLE=3655 Calvert St\, NW:geo:-77.0719611,38.9229551
END:VEVENT
BEGIN:VEVENT
DTSTART;TZID=America/New_York:20180916T093000
DTEND;TZID=America/New_York:20180916T103000
DTSTAMP:20260424T080809
CREATED:20180920T165250Z
LAST-MODIFIED:20180920T165250Z
UID:10000756-1537090200-1537093800@www.unitycenterdc.org
SUMMARY:The Science of God-Realization
DESCRIPTION:
URL:https://www.unitycenterdc.org/calendar/the-science-of-god-realization/2018-09-16/
LOCATION:Unity Center DC\, 3655 Calvert St\, NW\, Washington\, DC\, 20007\, United States
CATEGORIES:Class
ATTACH;FMTTYPE=image/jpeg:https://www.unitycenterdc.org/wp-content/uploads/2018/09/Science-of-God-Realization.jpg
GEO:38.9229551;-77.0719611
X-APPLE-STRUCTURED-LOCATION;VALUE=URI;X-ADDRESS=Unity Center DC 3655 Calvert St NW Washington DC 20007 United States;X-APPLE-RADIUS=500;X-TITLE=3655 Calvert St\, NW:geo:-77.0719611,38.9229551
END:VEVENT
BEGIN:VEVENT
DTSTART;TZID=America/New_York:20180913T180000
DTEND;TZID=America/New_York:20180913T190000
DTSTAMP:20260424T080809
CREATED:20180830T192720Z
LAST-MODIFIED:20180830T200212Z
UID:10000755-1536861600-1536865200@www.unitycenterdc.org
SUMMARY:World Day of Prayer 2018
DESCRIPTION:2018 World Day of Prayer\nSeptember 13\, 2018\n6:00 – 7:00 PM\, Sanctuary \nCourage to Heal\nI am a healing presence. \nJoin us for an hour of meditation. We will focus on: \nGuiding Prayer: \nAligning my mind and heart with the mind and heart of God\, I center myself in Pure Being. In a state of spiritual realization\, I remember I can never be broken\, limited\, or unworthy. Courageously\, I rise into my true spiritual nature in this moment of healing. I heal the whole of me as I accept that I am brave. I am bright. I am beautiful. \nAs I heal in body\, mind\, and spirit\, I support healing in my family\, my community\, the earth\, and the world. Centered in Pure Being\, I am a healing presence. \nWorld Day of Prayer is a 24-hour prayer vigil and meditation. September 13\, 2018\, marks the 25th anniversary of the event\, and thousands of individuals and communities around the world will come together to affirm and celebrate the true spiritual nature of healing. \nThe live event will be held at Unity World Headquarters at Unity Village and broadcast to Unity and New Thought communities and homes around the world. \nJoin us for prayer\, and meditation as we support and strengthen our courage to heal ourselves\, our communities\, and our world\, guided by the affirmation: I am a healing presence. 
URL:https://www.unitycenterdc.org/calendar/world-day-of-prayer-2018/
LOCATION:Unity Center DC\, 3655 Calvert St\, NW\, Washington\, DC\, 20007\, United States
CATEGORIES:Meditation,Prayer
ATTACH;FMTTYPE=image/png:https://www.unitycenterdc.org/wp-content/uploads/2018/08/Unity-WDoP-2018.png
GEO:38.9229551;-77.0719611
X-APPLE-STRUCTURED-LOCATION;VALUE=URI;X-ADDRESS=Unity Center DC 3655 Calvert St NW Washington DC 20007 United States;X-APPLE-RADIUS=500;X-TITLE=3655 Calvert St\, NW:geo:-77.0719611,38.9229551
END:VEVENT
BEGIN:VEVENT
DTSTART;TZID=America/New_York:20180623T100000
DTEND;TZID=America/New_York:20180623T120000
DTSTAMP:20260424T080809
CREATED:20180524T212856Z
LAST-MODIFIED:20180524T213544Z
UID:10000754-1529748000-1529755200@www.unitycenterdc.org
SUMMARY:Workshop: Praying with Anyone\, at Anytime\, for Anything
DESCRIPTION:Workshop: Praying with Anyone\, at Anytime\, for Anything \nJoin Paul Tenaglia for this fun and informative workshop where we will learn the Silent Unity Prayer Ministry form of prayer. Included in this session will be: \n\nWhat Prayer is—and isn’t\nThe missing element to successful prayer\nThe Most effective form of prayer (for self/others)\nHow to pray with someone without preparation\nHow to write a prayerful letter or note\nHow to deepen your prayer life daily\n\nBy Love Offering ($20 suggested or as led by your heart)
URL:https://www.unitycenterdc.org/calendar/workshop-praying-with-anyone-at-anytime-for-anything/
LOCATION:Unity Center DC\, 3655 Calvert St\, NW\, Washington\, DC\, 20007\, United States
CATEGORIES:Class
ATTACH;FMTTYPE=image/jpeg:https://www.unitycenterdc.org/wp-content/uploads/2018/05/SIlent-Unity.jpg
GEO:38.9229551;-77.0719611
X-APPLE-STRUCTURED-LOCATION;VALUE=URI;X-ADDRESS=Unity Center DC 3655 Calvert St NW Washington DC 20007 United States;X-APPLE-RADIUS=500;X-TITLE=3655 Calvert St\, NW:geo:-77.0719611,38.9229551
END:VEVENT
BEGIN:VEVENT
DTSTART;TZID=America/New_York:20180526T100000
DTEND;TZID=America/New_York:20180526T120000
DTSTAMP:20260424T080809
CREATED:20180409T161133Z
LAST-MODIFIED:20180419T170600Z
UID:10000700-1527328800-1527336000@www.unitycenterdc.org
SUMMARY:Class: Eric Butterworth’s Practical Metaphysics
DESCRIPTION:This two session class is recommended for everyone—especially newcomers to Unity. Based on the teachings of Eric Butterworth\, learn what it means to live from a deeper place of consciousness–live the abundant\, true life you desire.\nEric Butterworth\, author of Discover the Power Within You\, shares his profound insights on living metaphysically. Through lectures\, meditations\, and activities\, Butterworth’s Practical Metaphysics will awaken you to the centered place of your own truth and offer you paths to health\, love\, prosperity\, and peace of mind. \nIncrease your spiritual awareness and improve your life with this inspiring collection of lessons. Facilitated by Paul Tenaglia\, Senior Minister. Love Offering.
URL:https://www.unitycenterdc.org/calendar/class-eric-butterworths-practical-metaphysics/2018-05-26/
LOCATION:Unity Center DC\, 3655 Calvert St\, NW\, Washington\, DC\, 20007\, United States
CATEGORIES:Class
ATTACH;FMTTYPE=image/jpeg:https://www.unitycenterdc.org/wp-content/uploads/2018/04/Practical-Metaphysics.jpg
GEO:38.9229551;-77.0719611
X-APPLE-STRUCTURED-LOCATION;VALUE=URI;X-ADDRESS=Unity Center DC 3655 Calvert St NW Washington DC 20007 United States;X-APPLE-RADIUS=500;X-TITLE=3655 Calvert St\, NW:geo:-77.0719611,38.9229551
END:VEVENT
BEGIN:VEVENT
DTSTART;TZID=America/New_York:20180519T100000
DTEND;TZID=America/New_York:20180519T120000
DTSTAMP:20260424T080809
CREATED:20180409T161133Z
LAST-MODIFIED:20180419T170600Z
UID:10000699-1526724000-1526731200@www.unitycenterdc.org
SUMMARY:Class: Eric Butterworth’s Practical Metaphysics
DESCRIPTION:This two session class is recommended for everyone—especially newcomers to Unity. Based on the teachings of Eric Butterworth\, learn what it means to live from a deeper place of consciousness–live the abundant\, true life you desire.\nEric Butterworth\, author of Discover the Power Within You\, shares his profound insights on living metaphysically. Through lectures\, meditations\, and activities\, Butterworth’s Practical Metaphysics will awaken you to the centered place of your own truth and offer you paths to health\, love\, prosperity\, and peace of mind. \nIncrease your spiritual awareness and improve your life with this inspiring collection of lessons. Facilitated by Paul Tenaglia\, Senior Minister. Love Offering.
URL:https://www.unitycenterdc.org/calendar/class-eric-butterworths-practical-metaphysics/2018-05-19/
LOCATION:Unity Center DC\, 3655 Calvert St\, NW\, Washington\, DC\, 20007\, United States
CATEGORIES:Class
ATTACH;FMTTYPE=image/jpeg:https://www.unitycenterdc.org/wp-content/uploads/2018/04/Practical-Metaphysics.jpg
GEO:38.9229551;-77.0719611
X-APPLE-STRUCTURED-LOCATION;VALUE=URI;X-ADDRESS=Unity Center DC 3655 Calvert St NW Washington DC 20007 United States;X-APPLE-RADIUS=500;X-TITLE=3655 Calvert St\, NW:geo:-77.0719611,38.9229551
END:VEVENT
BEGIN:VEVENT
DTSTART;TZID=America/New_York:20180414T100000
DTEND;TZID=America/New_York:20180414T120000
DTSTAMP:20260424T080809
CREATED:20180409T160828Z
LAST-MODIFIED:20180409T160931Z
UID:10000698-1523700000-1523707200@www.unitycenterdc.org
SUMMARY:Workshop: Directing Your Own Life
DESCRIPTION:This workshop is a fun and informative look at the creative process for creating new good in our lives. Along with being a Unity minister for almost three decades\, Paul is also an actor and director. Utilizing the experiences he gained from his time in the theater\, he will share valuable tools to help us direct our own lives for abundance\, wholeness\, and success. $20 suggested love offering or as lead by your heart.
URL:https://www.unitycenterdc.org/calendar/workshop-directing-your-own-life/
LOCATION:Unity Center DC\, 3655 Calvert St\, NW\, Washington\, DC\, 20007\, United States
CATEGORIES:Class
ATTACH;FMTTYPE=image/jpeg:https://www.unitycenterdc.org/wp-content/uploads/2018/01/Paul-Tenaglia.jpg
GEO:38.9229551;-77.0719611
X-APPLE-STRUCTURED-LOCATION;VALUE=URI;X-ADDRESS=Unity Center DC 3655 Calvert St NW Washington DC 20007 United States;X-APPLE-RADIUS=500;X-TITLE=3655 Calvert St\, NW:geo:-77.0719611,38.9229551
END:VEVENT
END:VCALENDAR