BEGIN:VCALENDAR
VERSION:2.0
PRODID:-//Unity Center DC - ECPv6.15.20//NONSGML v1.0//EN
CALSCALE:GREGORIAN
METHOD:PUBLISH
X-ORIGINAL-URL:https://www.unitycenterdc.org
X-WR-CALDESC:Events for Unity Center DC
REFRESH-INTERVAL;VALUE=DURATION:PT1H
X-Robots-Tag:noindex
X-PUBLISHED-TTL:PT1H
BEGIN:VTIMEZONE
TZID:America/New_York
BEGIN:DAYLIGHT
TZOFFSETFROM:-0500
TZOFFSETTO:-0400
TZNAME:EDT
DTSTART:20210314T070000
END:DAYLIGHT
BEGIN:STANDARD
TZOFFSETFROM:-0400
TZOFFSETTO:-0500
TZNAME:EST
DTSTART:20211107T060000
END:STANDARD
BEGIN:DAYLIGHT
TZOFFSETFROM:-0500
TZOFFSETTO:-0400
TZNAME:EDT
DTSTART:20220313T070000
END:DAYLIGHT
BEGIN:STANDARD
TZOFFSETFROM:-0400
TZOFFSETTO:-0500
TZNAME:EST
DTSTART:20221106T060000
END:STANDARD
BEGIN:DAYLIGHT
TZOFFSETFROM:-0500
TZOFFSETTO:-0400
TZNAME:EDT
DTSTART:20230312T070000
END:DAYLIGHT
BEGIN:STANDARD
TZOFFSETFROM:-0400
TZOFFSETTO:-0500
TZNAME:EST
DTSTART:20231105T060000
END:STANDARD
BEGIN:DAYLIGHT
TZOFFSETFROM:-0500
TZOFFSETTO:-0400
TZNAME:EDT
DTSTART:20240310T070000
END:DAYLIGHT
BEGIN:STANDARD
TZOFFSETFROM:-0400
TZOFFSETTO:-0500
TZNAME:EST
DTSTART:20241103T060000
END:STANDARD
END:VTIMEZONE
BEGIN:VEVENT
DTSTART;TZID=America/New_York:20231014T100000
DTEND;TZID=America/New_York:20231014T113000
DTSTAMP:20260424T013950
CREATED:20230914T143100Z
LAST-MODIFIED:20231011T183332Z
UID:10001717-1697277600-1697283000@www.unitycenterdc.org
SUMMARY:Prayer Partner Workshop
DESCRIPTION:Kathleen Healy\, Prayer Chaplain\, is inviting everyone to a Prayer Partner Workshop\, in which we will learn about praying with a partner on a regular basis. This is where prayer partners call each other weekly (could be monthly or daily) and pray for each other. Our Board Members and Prayer Team members have used it and have found it very rewarding. It is a regular reminder\, while in union with another\, the importance of relying on God in all circumstances. \nZoom to Meeting\nMeeting ID: 863 2069 7057\nPasscode: 719802
URL:https://www.unitycenterdc.org/calendar/prayer-partner-workshop/
LOCATION:UCDC on Zoom\, DC
CATEGORIES:Class,Prayer
ATTACH;FMTTYPE=image/jpeg:https://www.unitycenterdc.org/wp-content/uploads/2023/09/PPP-Banner-Web.jpeg
GEO:38.9071923;-77.0368707
END:VEVENT
BEGIN:VEVENT
DTSTART;TZID=America/New_York:20221228T130000
DTEND;TZID=America/New_York:20221228T133000
DTSTAMP:20260424T013950
CREATED:20201209T184426Z
LAST-MODIFIED:20220308T192026Z
UID:10001095-1672232400-1672234200@www.unitycenterdc.org
SUMMARY:Guided Meditation
DESCRIPTION:Join Rev Karen Gray for a guided mid-day meditation. Visit our YouTube channel for records of past meditations. Subscribe for notifications of new postings. \nZoom Meeting id: 886 6139 1129\nPassword: meditation\nDirect link: https://us02web.zoom.us/j/88661391129?pwd=WWVOOWpEZEtXZzZGRHFaMUkzaGRYQT09
URL:https://www.unitycenterdc.org/calendar/guided-meditation-2020-12-09-2021-08-18-2/2022-12-28/
LOCATION:UCDC on Zoom\, DC
CATEGORIES:Meditation
ATTACH;FMTTYPE=image/jpeg:https://www.unitycenterdc.org/wp-content/uploads/2020/12/Karen-Gray-Meditation.jpg
GEO:38.9071923;-77.0368707
END:VEVENT
BEGIN:VEVENT
DTSTART;TZID=America/New_York:20221221T130000
DTEND;TZID=America/New_York:20221221T133000
DTSTAMP:20260424T013950
CREATED:20201209T184426Z
LAST-MODIFIED:20220308T192026Z
UID:10001094-1671627600-1671629400@www.unitycenterdc.org
SUMMARY:Guided Meditation
DESCRIPTION:Join Rev Karen Gray for a guided mid-day meditation. Visit our YouTube channel for records of past meditations. Subscribe for notifications of new postings. \nZoom Meeting id: 886 6139 1129\nPassword: meditation\nDirect link: https://us02web.zoom.us/j/88661391129?pwd=WWVOOWpEZEtXZzZGRHFaMUkzaGRYQT09
URL:https://www.unitycenterdc.org/calendar/guided-meditation-2020-12-09-2021-08-18-2/2022-12-21/
LOCATION:UCDC on Zoom\, DC
CATEGORIES:Meditation
ATTACH;FMTTYPE=image/jpeg:https://www.unitycenterdc.org/wp-content/uploads/2020/12/Karen-Gray-Meditation.jpg
GEO:38.9071923;-77.0368707
END:VEVENT
BEGIN:VEVENT
DTSTART;TZID=America/New_York:20221214T130000
DTEND;TZID=America/New_York:20221214T133000
DTSTAMP:20260424T013950
CREATED:20201209T184426Z
LAST-MODIFIED:20220308T192026Z
UID:10001093-1671022800-1671024600@www.unitycenterdc.org
SUMMARY:Guided Meditation
DESCRIPTION:Join Rev Karen Gray for a guided mid-day meditation. Visit our YouTube channel for records of past meditations. Subscribe for notifications of new postings. \nZoom Meeting id: 886 6139 1129\nPassword: meditation\nDirect link: https://us02web.zoom.us/j/88661391129?pwd=WWVOOWpEZEtXZzZGRHFaMUkzaGRYQT09
URL:https://www.unitycenterdc.org/calendar/guided-meditation-2020-12-09-2021-08-18-2/2022-12-14/
LOCATION:UCDC on Zoom\, DC
CATEGORIES:Meditation
ATTACH;FMTTYPE=image/jpeg:https://www.unitycenterdc.org/wp-content/uploads/2020/12/Karen-Gray-Meditation.jpg
GEO:38.9071923;-77.0368707
END:VEVENT
BEGIN:VEVENT
DTSTART;TZID=America/New_York:20221207T130000
DTEND;TZID=America/New_York:20221207T133000
DTSTAMP:20260424T013950
CREATED:20201209T184426Z
LAST-MODIFIED:20220308T192026Z
UID:10001092-1670418000-1670419800@www.unitycenterdc.org
SUMMARY:Guided Meditation
DESCRIPTION:Join Rev Karen Gray for a guided mid-day meditation. Visit our YouTube channel for records of past meditations. Subscribe for notifications of new postings. \nZoom Meeting id: 886 6139 1129\nPassword: meditation\nDirect link: https://us02web.zoom.us/j/88661391129?pwd=WWVOOWpEZEtXZzZGRHFaMUkzaGRYQT09
URL:https://www.unitycenterdc.org/calendar/guided-meditation-2020-12-09-2021-08-18-2/2022-12-07/
LOCATION:UCDC on Zoom\, DC
CATEGORIES:Meditation
ATTACH;FMTTYPE=image/jpeg:https://www.unitycenterdc.org/wp-content/uploads/2020/12/Karen-Gray-Meditation.jpg
GEO:38.9071923;-77.0368707
END:VEVENT
BEGIN:VEVENT
DTSTART;TZID=America/New_York:20221130T130000
DTEND;TZID=America/New_York:20221130T133000
DTSTAMP:20260424T013950
CREATED:20201209T184426Z
LAST-MODIFIED:20220308T192026Z
UID:10001091-1669813200-1669815000@www.unitycenterdc.org
SUMMARY:Guided Meditation
DESCRIPTION:Join Rev Karen Gray for a guided mid-day meditation. Visit our YouTube channel for records of past meditations. Subscribe for notifications of new postings. \nZoom Meeting id: 886 6139 1129\nPassword: meditation\nDirect link: https://us02web.zoom.us/j/88661391129?pwd=WWVOOWpEZEtXZzZGRHFaMUkzaGRYQT09
URL:https://www.unitycenterdc.org/calendar/guided-meditation-2020-12-09-2021-08-18-2/2022-11-30/
LOCATION:UCDC on Zoom\, DC
CATEGORIES:Meditation
ATTACH;FMTTYPE=image/jpeg:https://www.unitycenterdc.org/wp-content/uploads/2020/12/Karen-Gray-Meditation.jpg
GEO:38.9071923;-77.0368707
END:VEVENT
BEGIN:VEVENT
DTSTART;TZID=America/New_York:20221123T130000
DTEND;TZID=America/New_York:20221123T133000
DTSTAMP:20260424T013950
CREATED:20201209T184426Z
LAST-MODIFIED:20220308T192026Z
UID:10001090-1669208400-1669210200@www.unitycenterdc.org
SUMMARY:Guided Meditation
DESCRIPTION:Join Rev Karen Gray for a guided mid-day meditation. Visit our YouTube channel for records of past meditations. Subscribe for notifications of new postings. \nZoom Meeting id: 886 6139 1129\nPassword: meditation\nDirect link: https://us02web.zoom.us/j/88661391129?pwd=WWVOOWpEZEtXZzZGRHFaMUkzaGRYQT09
URL:https://www.unitycenterdc.org/calendar/guided-meditation-2020-12-09-2021-08-18-2/2022-11-23/
LOCATION:UCDC on Zoom\, DC
CATEGORIES:Meditation
ATTACH;FMTTYPE=image/jpeg:https://www.unitycenterdc.org/wp-content/uploads/2020/12/Karen-Gray-Meditation.jpg
GEO:38.9071923;-77.0368707
END:VEVENT
BEGIN:VEVENT
DTSTART;TZID=America/New_York:20221116T130000
DTEND;TZID=America/New_York:20221116T133000
DTSTAMP:20260424T013950
CREATED:20201209T184426Z
LAST-MODIFIED:20220308T192026Z
UID:10001089-1668603600-1668605400@www.unitycenterdc.org
SUMMARY:Guided Meditation
DESCRIPTION:Join Rev Karen Gray for a guided mid-day meditation. Visit our YouTube channel for records of past meditations. Subscribe for notifications of new postings. \nZoom Meeting id: 886 6139 1129\nPassword: meditation\nDirect link: https://us02web.zoom.us/j/88661391129?pwd=WWVOOWpEZEtXZzZGRHFaMUkzaGRYQT09
URL:https://www.unitycenterdc.org/calendar/guided-meditation-2020-12-09-2021-08-18-2/2022-11-16/
LOCATION:UCDC on Zoom\, DC
CATEGORIES:Meditation
ATTACH;FMTTYPE=image/jpeg:https://www.unitycenterdc.org/wp-content/uploads/2020/12/Karen-Gray-Meditation.jpg
GEO:38.9071923;-77.0368707
END:VEVENT
BEGIN:VEVENT
DTSTART;TZID=America/New_York:20221109T130000
DTEND;TZID=America/New_York:20221109T133000
DTSTAMP:20260424T013950
CREATED:20201209T184426Z
LAST-MODIFIED:20220308T192026Z
UID:10001088-1667998800-1668000600@www.unitycenterdc.org
SUMMARY:Guided Meditation
DESCRIPTION:Join Rev Karen Gray for a guided mid-day meditation. Visit our YouTube channel for records of past meditations. Subscribe for notifications of new postings. \nZoom Meeting id: 886 6139 1129\nPassword: meditation\nDirect link: https://us02web.zoom.us/j/88661391129?pwd=WWVOOWpEZEtXZzZGRHFaMUkzaGRYQT09
URL:https://www.unitycenterdc.org/calendar/guided-meditation-2020-12-09-2021-08-18-2/2022-11-09/
LOCATION:UCDC on Zoom\, DC
CATEGORIES:Meditation
ATTACH;FMTTYPE=image/jpeg:https://www.unitycenterdc.org/wp-content/uploads/2020/12/Karen-Gray-Meditation.jpg
GEO:38.9071923;-77.0368707
END:VEVENT
BEGIN:VEVENT
DTSTART;TZID=America/New_York:20221102T130000
DTEND;TZID=America/New_York:20221102T133000
DTSTAMP:20260424T013950
CREATED:20201209T184426Z
LAST-MODIFIED:20220308T192026Z
UID:10001087-1667394000-1667395800@www.unitycenterdc.org
SUMMARY:Guided Meditation
DESCRIPTION:Join Rev Karen Gray for a guided mid-day meditation. Visit our YouTube channel for records of past meditations. Subscribe for notifications of new postings. \nZoom Meeting id: 886 6139 1129\nPassword: meditation\nDirect link: https://us02web.zoom.us/j/88661391129?pwd=WWVOOWpEZEtXZzZGRHFaMUkzaGRYQT09
URL:https://www.unitycenterdc.org/calendar/guided-meditation-2020-12-09-2021-08-18-2/2022-11-02/
LOCATION:UCDC on Zoom\, DC
CATEGORIES:Meditation
ATTACH;FMTTYPE=image/jpeg:https://www.unitycenterdc.org/wp-content/uploads/2020/12/Karen-Gray-Meditation.jpg
GEO:38.9071923;-77.0368707
END:VEVENT
BEGIN:VEVENT
DTSTART;TZID=America/New_York:20221026T130000
DTEND;TZID=America/New_York:20221026T133000
DTSTAMP:20260424T013950
CREATED:20201209T184426Z
LAST-MODIFIED:20220308T192026Z
UID:10001086-1666789200-1666791000@www.unitycenterdc.org
SUMMARY:Guided Meditation
DESCRIPTION:Join Rev Karen Gray for a guided mid-day meditation. Visit our YouTube channel for records of past meditations. Subscribe for notifications of new postings. \nZoom Meeting id: 886 6139 1129\nPassword: meditation\nDirect link: https://us02web.zoom.us/j/88661391129?pwd=WWVOOWpEZEtXZzZGRHFaMUkzaGRYQT09
URL:https://www.unitycenterdc.org/calendar/guided-meditation-2020-12-09-2021-08-18-2/2022-10-26/
LOCATION:UCDC on Zoom\, DC
CATEGORIES:Meditation
ATTACH;FMTTYPE=image/jpeg:https://www.unitycenterdc.org/wp-content/uploads/2020/12/Karen-Gray-Meditation.jpg
GEO:38.9071923;-77.0368707
END:VEVENT
BEGIN:VEVENT
DTSTART;TZID=America/New_York:20221019T130000
DTEND;TZID=America/New_York:20221019T133000
DTSTAMP:20260424T013950
CREATED:20201209T184426Z
LAST-MODIFIED:20220308T192026Z
UID:10001085-1666184400-1666186200@www.unitycenterdc.org
SUMMARY:Guided Meditation
DESCRIPTION:Join Rev Karen Gray for a guided mid-day meditation. Visit our YouTube channel for records of past meditations. Subscribe for notifications of new postings. \nZoom Meeting id: 886 6139 1129\nPassword: meditation\nDirect link: https://us02web.zoom.us/j/88661391129?pwd=WWVOOWpEZEtXZzZGRHFaMUkzaGRYQT09
URL:https://www.unitycenterdc.org/calendar/guided-meditation-2020-12-09-2021-08-18-2/2022-10-19/
LOCATION:UCDC on Zoom\, DC
CATEGORIES:Meditation
ATTACH;FMTTYPE=image/jpeg:https://www.unitycenterdc.org/wp-content/uploads/2020/12/Karen-Gray-Meditation.jpg
GEO:38.9071923;-77.0368707
END:VEVENT
BEGIN:VEVENT
DTSTART;TZID=America/New_York:20221012T130000
DTEND;TZID=America/New_York:20221012T133000
DTSTAMP:20260424T013950
CREATED:20201209T184426Z
LAST-MODIFIED:20220308T192026Z
UID:10001084-1665579600-1665581400@www.unitycenterdc.org
SUMMARY:Guided Meditation
DESCRIPTION:Join Rev Karen Gray for a guided mid-day meditation. Visit our YouTube channel for records of past meditations. Subscribe for notifications of new postings. \nZoom Meeting id: 886 6139 1129\nPassword: meditation\nDirect link: https://us02web.zoom.us/j/88661391129?pwd=WWVOOWpEZEtXZzZGRHFaMUkzaGRYQT09
URL:https://www.unitycenterdc.org/calendar/guided-meditation-2020-12-09-2021-08-18-2/2022-10-12/
LOCATION:UCDC on Zoom\, DC
CATEGORIES:Meditation
ATTACH;FMTTYPE=image/jpeg:https://www.unitycenterdc.org/wp-content/uploads/2020/12/Karen-Gray-Meditation.jpg
GEO:38.9071923;-77.0368707
END:VEVENT
BEGIN:VEVENT
DTSTART;TZID=America/New_York:20221005T130000
DTEND;TZID=America/New_York:20221005T133000
DTSTAMP:20260424T013950
CREATED:20201209T184426Z
LAST-MODIFIED:20220308T192026Z
UID:10001083-1664974800-1664976600@www.unitycenterdc.org
SUMMARY:Guided Meditation
DESCRIPTION:Join Rev Karen Gray for a guided mid-day meditation. Visit our YouTube channel for records of past meditations. Subscribe for notifications of new postings. \nZoom Meeting id: 886 6139 1129\nPassword: meditation\nDirect link: https://us02web.zoom.us/j/88661391129?pwd=WWVOOWpEZEtXZzZGRHFaMUkzaGRYQT09
URL:https://www.unitycenterdc.org/calendar/guided-meditation-2020-12-09-2021-08-18-2/2022-10-05/
LOCATION:UCDC on Zoom\, DC
CATEGORIES:Meditation
ATTACH;FMTTYPE=image/jpeg:https://www.unitycenterdc.org/wp-content/uploads/2020/12/Karen-Gray-Meditation.jpg
GEO:38.9071923;-77.0368707
END:VEVENT
BEGIN:VEVENT
DTSTART;TZID=America/New_York:20220928T130000
DTEND;TZID=America/New_York:20220928T133000
DTSTAMP:20260424T013950
CREATED:20201209T184426Z
LAST-MODIFIED:20220308T192026Z
UID:10001082-1664370000-1664371800@www.unitycenterdc.org
SUMMARY:Guided Meditation
DESCRIPTION:Join Rev Karen Gray for a guided mid-day meditation. Visit our YouTube channel for records of past meditations. Subscribe for notifications of new postings. \nZoom Meeting id: 886 6139 1129\nPassword: meditation\nDirect link: https://us02web.zoom.us/j/88661391129?pwd=WWVOOWpEZEtXZzZGRHFaMUkzaGRYQT09
URL:https://www.unitycenterdc.org/calendar/guided-meditation-2020-12-09-2021-08-18-2/2022-09-28/
LOCATION:UCDC on Zoom\, DC
CATEGORIES:Meditation
ATTACH;FMTTYPE=image/jpeg:https://www.unitycenterdc.org/wp-content/uploads/2020/12/Karen-Gray-Meditation.jpg
GEO:38.9071923;-77.0368707
END:VEVENT
BEGIN:VEVENT
DTSTART;TZID=America/New_York:20220921T130000
DTEND;TZID=America/New_York:20220921T133000
DTSTAMP:20260424T013950
CREATED:20201209T184426Z
LAST-MODIFIED:20220308T192026Z
UID:10001081-1663765200-1663767000@www.unitycenterdc.org
SUMMARY:Guided Meditation
DESCRIPTION:Join Rev Karen Gray for a guided mid-day meditation. Visit our YouTube channel for records of past meditations. Subscribe for notifications of new postings. \nZoom Meeting id: 886 6139 1129\nPassword: meditation\nDirect link: https://us02web.zoom.us/j/88661391129?pwd=WWVOOWpEZEtXZzZGRHFaMUkzaGRYQT09
URL:https://www.unitycenterdc.org/calendar/guided-meditation-2020-12-09-2021-08-18-2/2022-09-21/
LOCATION:UCDC on Zoom\, DC
CATEGORIES:Meditation
ATTACH;FMTTYPE=image/jpeg:https://www.unitycenterdc.org/wp-content/uploads/2020/12/Karen-Gray-Meditation.jpg
GEO:38.9071923;-77.0368707
END:VEVENT
BEGIN:VEVENT
DTSTART;TZID=America/New_York:20220914T130000
DTEND;TZID=America/New_York:20220914T133000
DTSTAMP:20260424T013950
CREATED:20201209T184426Z
LAST-MODIFIED:20220308T192026Z
UID:10001080-1663160400-1663162200@www.unitycenterdc.org
SUMMARY:Guided Meditation
DESCRIPTION:Join Rev Karen Gray for a guided mid-day meditation. Visit our YouTube channel for records of past meditations. Subscribe for notifications of new postings. \nZoom Meeting id: 886 6139 1129\nPassword: meditation\nDirect link: https://us02web.zoom.us/j/88661391129?pwd=WWVOOWpEZEtXZzZGRHFaMUkzaGRYQT09
URL:https://www.unitycenterdc.org/calendar/guided-meditation-2020-12-09-2021-08-18-2/2022-09-14/
LOCATION:UCDC on Zoom\, DC
CATEGORIES:Meditation
ATTACH;FMTTYPE=image/jpeg:https://www.unitycenterdc.org/wp-content/uploads/2020/12/Karen-Gray-Meditation.jpg
GEO:38.9071923;-77.0368707
END:VEVENT
BEGIN:VEVENT
DTSTART;TZID=America/New_York:20220907T130000
DTEND;TZID=America/New_York:20220907T133000
DTSTAMP:20260424T013950
CREATED:20201209T184426Z
LAST-MODIFIED:20220308T192026Z
UID:10001079-1662555600-1662557400@www.unitycenterdc.org
SUMMARY:Guided Meditation
DESCRIPTION:Join Rev Karen Gray for a guided mid-day meditation. Visit our YouTube channel for records of past meditations. Subscribe for notifications of new postings. \nZoom Meeting id: 886 6139 1129\nPassword: meditation\nDirect link: https://us02web.zoom.us/j/88661391129?pwd=WWVOOWpEZEtXZzZGRHFaMUkzaGRYQT09
URL:https://www.unitycenterdc.org/calendar/guided-meditation-2020-12-09-2021-08-18-2/2022-09-07/
LOCATION:UCDC on Zoom\, DC
CATEGORIES:Meditation
ATTACH;FMTTYPE=image/jpeg:https://www.unitycenterdc.org/wp-content/uploads/2020/12/Karen-Gray-Meditation.jpg
GEO:38.9071923;-77.0368707
END:VEVENT
BEGIN:VEVENT
DTSTART;TZID=America/New_York:20220831T130000
DTEND;TZID=America/New_York:20220831T133000
DTSTAMP:20260424T013950
CREATED:20201209T184426Z
LAST-MODIFIED:20220308T192026Z
UID:10001078-1661950800-1661952600@www.unitycenterdc.org
SUMMARY:Guided Meditation
DESCRIPTION:Join Rev Karen Gray for a guided mid-day meditation. Visit our YouTube channel for records of past meditations. Subscribe for notifications of new postings. \nZoom Meeting id: 886 6139 1129\nPassword: meditation\nDirect link: https://us02web.zoom.us/j/88661391129?pwd=WWVOOWpEZEtXZzZGRHFaMUkzaGRYQT09
URL:https://www.unitycenterdc.org/calendar/guided-meditation-2020-12-09-2021-08-18-2/2022-08-31/
LOCATION:UCDC on Zoom\, DC
CATEGORIES:Meditation
ATTACH;FMTTYPE=image/jpeg:https://www.unitycenterdc.org/wp-content/uploads/2020/12/Karen-Gray-Meditation.jpg
GEO:38.9071923;-77.0368707
END:VEVENT
BEGIN:VEVENT
DTSTART;TZID=America/New_York:20220824T130000
DTEND;TZID=America/New_York:20220824T133000
DTSTAMP:20260424T013950
CREATED:20201209T184426Z
LAST-MODIFIED:20220308T192026Z
UID:10001077-1661346000-1661347800@www.unitycenterdc.org
SUMMARY:Guided Meditation
DESCRIPTION:Join Rev Karen Gray for a guided mid-day meditation. Visit our YouTube channel for records of past meditations. Subscribe for notifications of new postings. \nZoom Meeting id: 886 6139 1129\nPassword: meditation\nDirect link: https://us02web.zoom.us/j/88661391129?pwd=WWVOOWpEZEtXZzZGRHFaMUkzaGRYQT09
URL:https://www.unitycenterdc.org/calendar/guided-meditation-2020-12-09-2021-08-18-2/2022-08-24/
LOCATION:UCDC on Zoom\, DC
CATEGORIES:Meditation
ATTACH;FMTTYPE=image/jpeg:https://www.unitycenterdc.org/wp-content/uploads/2020/12/Karen-Gray-Meditation.jpg
GEO:38.9071923;-77.0368707
END:VEVENT
BEGIN:VEVENT
DTSTART;TZID=America/New_York:20220817T130000
DTEND;TZID=America/New_York:20220817T133000
DTSTAMP:20260424T013950
CREATED:20201209T184426Z
LAST-MODIFIED:20220308T192026Z
UID:10001076-1660741200-1660743000@www.unitycenterdc.org
SUMMARY:Guided Meditation
DESCRIPTION:Join Rev Karen Gray for a guided mid-day meditation. Visit our YouTube channel for records of past meditations. Subscribe for notifications of new postings. \nZoom Meeting id: 886 6139 1129\nPassword: meditation\nDirect link: https://us02web.zoom.us/j/88661391129?pwd=WWVOOWpEZEtXZzZGRHFaMUkzaGRYQT09
URL:https://www.unitycenterdc.org/calendar/guided-meditation-2020-12-09-2021-08-18-2/2022-08-17/
LOCATION:UCDC on Zoom\, DC
CATEGORIES:Meditation
ATTACH;FMTTYPE=image/jpeg:https://www.unitycenterdc.org/wp-content/uploads/2020/12/Karen-Gray-Meditation.jpg
GEO:38.9071923;-77.0368707
END:VEVENT
BEGIN:VEVENT
DTSTART;TZID=America/New_York:20220810T130000
DTEND;TZID=America/New_York:20220810T133000
DTSTAMP:20260424T013950
CREATED:20201209T184426Z
LAST-MODIFIED:20220308T192026Z
UID:10001075-1660136400-1660138200@www.unitycenterdc.org
SUMMARY:Guided Meditation
DESCRIPTION:Join Rev Karen Gray for a guided mid-day meditation. Visit our YouTube channel for records of past meditations. Subscribe for notifications of new postings. \nZoom Meeting id: 886 6139 1129\nPassword: meditation\nDirect link: https://us02web.zoom.us/j/88661391129?pwd=WWVOOWpEZEtXZzZGRHFaMUkzaGRYQT09
URL:https://www.unitycenterdc.org/calendar/guided-meditation-2020-12-09-2021-08-18-2/2022-08-10/
LOCATION:UCDC on Zoom\, DC
CATEGORIES:Meditation
ATTACH;FMTTYPE=image/jpeg:https://www.unitycenterdc.org/wp-content/uploads/2020/12/Karen-Gray-Meditation.jpg
GEO:38.9071923;-77.0368707
END:VEVENT
BEGIN:VEVENT
DTSTART;TZID=America/New_York:20220803T130000
DTEND;TZID=America/New_York:20220803T133000
DTSTAMP:20260424T013950
CREATED:20201209T184426Z
LAST-MODIFIED:20220308T192026Z
UID:10001074-1659531600-1659533400@www.unitycenterdc.org
SUMMARY:Guided Meditation
DESCRIPTION:Join Rev Karen Gray for a guided mid-day meditation. Visit our YouTube channel for records of past meditations. Subscribe for notifications of new postings. \nZoom Meeting id: 886 6139 1129\nPassword: meditation\nDirect link: https://us02web.zoom.us/j/88661391129?pwd=WWVOOWpEZEtXZzZGRHFaMUkzaGRYQT09
URL:https://www.unitycenterdc.org/calendar/guided-meditation-2020-12-09-2021-08-18-2/2022-08-03/
LOCATION:UCDC on Zoom\, DC
CATEGORIES:Meditation
ATTACH;FMTTYPE=image/jpeg:https://www.unitycenterdc.org/wp-content/uploads/2020/12/Karen-Gray-Meditation.jpg
GEO:38.9071923;-77.0368707
END:VEVENT
BEGIN:VEVENT
DTSTART;TZID=America/New_York:20220727T130000
DTEND;TZID=America/New_York:20220727T133000
DTSTAMP:20260424T013950
CREATED:20201209T184426Z
LAST-MODIFIED:20220308T192026Z
UID:10001073-1658926800-1658928600@www.unitycenterdc.org
SUMMARY:Guided Meditation
DESCRIPTION:Join Rev Karen Gray for a guided mid-day meditation. Visit our YouTube channel for records of past meditations. Subscribe for notifications of new postings. \nZoom Meeting id: 886 6139 1129\nPassword: meditation\nDirect link: https://us02web.zoom.us/j/88661391129?pwd=WWVOOWpEZEtXZzZGRHFaMUkzaGRYQT09
URL:https://www.unitycenterdc.org/calendar/guided-meditation-2020-12-09-2021-08-18-2/2022-07-27/
LOCATION:UCDC on Zoom\, DC
CATEGORIES:Meditation
ATTACH;FMTTYPE=image/jpeg:https://www.unitycenterdc.org/wp-content/uploads/2020/12/Karen-Gray-Meditation.jpg
GEO:38.9071923;-77.0368707
END:VEVENT
BEGIN:VEVENT
DTSTART;TZID=America/New_York:20220720T130000
DTEND;TZID=America/New_York:20220720T133000
DTSTAMP:20260424T013950
CREATED:20201209T184426Z
LAST-MODIFIED:20220308T192026Z
UID:10001072-1658322000-1658323800@www.unitycenterdc.org
SUMMARY:Guided Meditation
DESCRIPTION:Join Rev Karen Gray for a guided mid-day meditation. Visit our YouTube channel for records of past meditations. Subscribe for notifications of new postings. \nZoom Meeting id: 886 6139 1129\nPassword: meditation\nDirect link: https://us02web.zoom.us/j/88661391129?pwd=WWVOOWpEZEtXZzZGRHFaMUkzaGRYQT09
URL:https://www.unitycenterdc.org/calendar/guided-meditation-2020-12-09-2021-08-18-2/2022-07-20/
LOCATION:UCDC on Zoom\, DC
CATEGORIES:Meditation
ATTACH;FMTTYPE=image/jpeg:https://www.unitycenterdc.org/wp-content/uploads/2020/12/Karen-Gray-Meditation.jpg
GEO:38.9071923;-77.0368707
END:VEVENT
BEGIN:VEVENT
DTSTART;TZID=America/New_York:20220713T130000
DTEND;TZID=America/New_York:20220713T133000
DTSTAMP:20260424T013950
CREATED:20201209T184426Z
LAST-MODIFIED:20220308T192026Z
UID:10001071-1657717200-1657719000@www.unitycenterdc.org
SUMMARY:Guided Meditation
DESCRIPTION:Join Rev Karen Gray for a guided mid-day meditation. Visit our YouTube channel for records of past meditations. Subscribe for notifications of new postings. \nZoom Meeting id: 886 6139 1129\nPassword: meditation\nDirect link: https://us02web.zoom.us/j/88661391129?pwd=WWVOOWpEZEtXZzZGRHFaMUkzaGRYQT09
URL:https://www.unitycenterdc.org/calendar/guided-meditation-2020-12-09-2021-08-18-2/2022-07-13/
LOCATION:UCDC on Zoom\, DC
CATEGORIES:Meditation
ATTACH;FMTTYPE=image/jpeg:https://www.unitycenterdc.org/wp-content/uploads/2020/12/Karen-Gray-Meditation.jpg
GEO:38.9071923;-77.0368707
END:VEVENT
BEGIN:VEVENT
DTSTART;TZID=America/New_York:20220706T130000
DTEND;TZID=America/New_York:20220706T133000
DTSTAMP:20260424T013950
CREATED:20201209T184426Z
LAST-MODIFIED:20220308T192026Z
UID:10001070-1657112400-1657114200@www.unitycenterdc.org
SUMMARY:Guided Meditation
DESCRIPTION:Join Rev Karen Gray for a guided mid-day meditation. Visit our YouTube channel for records of past meditations. Subscribe for notifications of new postings. \nZoom Meeting id: 886 6139 1129\nPassword: meditation\nDirect link: https://us02web.zoom.us/j/88661391129?pwd=WWVOOWpEZEtXZzZGRHFaMUkzaGRYQT09
URL:https://www.unitycenterdc.org/calendar/guided-meditation-2020-12-09-2021-08-18-2/2022-07-06/
LOCATION:UCDC on Zoom\, DC
CATEGORIES:Meditation
ATTACH;FMTTYPE=image/jpeg:https://www.unitycenterdc.org/wp-content/uploads/2020/12/Karen-Gray-Meditation.jpg
GEO:38.9071923;-77.0368707
END:VEVENT
BEGIN:VEVENT
DTSTART;TZID=America/New_York:20220629T130000
DTEND;TZID=America/New_York:20220629T133000
DTSTAMP:20260424T013950
CREATED:20201209T184426Z
LAST-MODIFIED:20220308T192026Z
UID:10001069-1656507600-1656509400@www.unitycenterdc.org
SUMMARY:Guided Meditation
DESCRIPTION:Join Rev Karen Gray for a guided mid-day meditation. Visit our YouTube channel for records of past meditations. Subscribe for notifications of new postings. \nZoom Meeting id: 886 6139 1129\nPassword: meditation\nDirect link: https://us02web.zoom.us/j/88661391129?pwd=WWVOOWpEZEtXZzZGRHFaMUkzaGRYQT09
URL:https://www.unitycenterdc.org/calendar/guided-meditation-2020-12-09-2021-08-18-2/2022-06-29/
LOCATION:UCDC on Zoom\, DC
CATEGORIES:Meditation
ATTACH;FMTTYPE=image/jpeg:https://www.unitycenterdc.org/wp-content/uploads/2020/12/Karen-Gray-Meditation.jpg
GEO:38.9071923;-77.0368707
END:VEVENT
BEGIN:VEVENT
DTSTART;TZID=America/New_York:20220622T130000
DTEND;TZID=America/New_York:20220622T133000
DTSTAMP:20260424T013950
CREATED:20201209T184426Z
LAST-MODIFIED:20220308T192026Z
UID:10001068-1655902800-1655904600@www.unitycenterdc.org
SUMMARY:Guided Meditation
DESCRIPTION:Join Rev Karen Gray for a guided mid-day meditation. Visit our YouTube channel for records of past meditations. Subscribe for notifications of new postings. \nZoom Meeting id: 886 6139 1129\nPassword: meditation\nDirect link: https://us02web.zoom.us/j/88661391129?pwd=WWVOOWpEZEtXZzZGRHFaMUkzaGRYQT09
URL:https://www.unitycenterdc.org/calendar/guided-meditation-2020-12-09-2021-08-18-2/2022-06-22/
LOCATION:UCDC on Zoom\, DC
CATEGORIES:Meditation
ATTACH;FMTTYPE=image/jpeg:https://www.unitycenterdc.org/wp-content/uploads/2020/12/Karen-Gray-Meditation.jpg
GEO:38.9071923;-77.0368707
END:VEVENT
BEGIN:VEVENT
DTSTART;TZID=America/New_York:20220615T130000
DTEND;TZID=America/New_York:20220615T133000
DTSTAMP:20260424T013950
CREATED:20201209T184426Z
LAST-MODIFIED:20220308T192026Z
UID:10001067-1655298000-1655299800@www.unitycenterdc.org
SUMMARY:Guided Meditation
DESCRIPTION:Join Rev Karen Gray for a guided mid-day meditation. Visit our YouTube channel for records of past meditations. Subscribe for notifications of new postings. \nZoom Meeting id: 886 6139 1129\nPassword: meditation\nDirect link: https://us02web.zoom.us/j/88661391129?pwd=WWVOOWpEZEtXZzZGRHFaMUkzaGRYQT09
URL:https://www.unitycenterdc.org/calendar/guided-meditation-2020-12-09-2021-08-18-2/2022-06-15/
LOCATION:UCDC on Zoom\, DC
CATEGORIES:Meditation
ATTACH;FMTTYPE=image/jpeg:https://www.unitycenterdc.org/wp-content/uploads/2020/12/Karen-Gray-Meditation.jpg
GEO:38.9071923;-77.0368707
END:VEVENT
END:VCALENDAR