BEGIN:VCALENDAR
VERSION:2.0
PRODID:-//Unity Center DC - ECPv6.15.20//NONSGML v1.0//EN
CALSCALE:GREGORIAN
METHOD:PUBLISH
X-WR-CALNAME:Unity Center DC
X-ORIGINAL-URL:https://www.unitycenterdc.org
X-WR-CALDESC:Events for Unity Center DC
REFRESH-INTERVAL;VALUE=DURATION:PT1H
X-Robots-Tag:noindex
X-PUBLISHED-TTL:PT1H
BEGIN:VTIMEZONE
TZID:America/New_York
BEGIN:DAYLIGHT
TZOFFSETFROM:-0500
TZOFFSETTO:-0400
TZNAME:EDT
DTSTART:20200308T070000
END:DAYLIGHT
BEGIN:STANDARD
TZOFFSETFROM:-0400
TZOFFSETTO:-0500
TZNAME:EST
DTSTART:20201101T060000
END:STANDARD
BEGIN:DAYLIGHT
TZOFFSETFROM:-0500
TZOFFSETTO:-0400
TZNAME:EDT
DTSTART:20210314T070000
END:DAYLIGHT
BEGIN:STANDARD
TZOFFSETFROM:-0400
TZOFFSETTO:-0500
TZNAME:EST
DTSTART:20211107T060000
END:STANDARD
BEGIN:DAYLIGHT
TZOFFSETFROM:-0500
TZOFFSETTO:-0400
TZNAME:EDT
DTSTART:20220313T070000
END:DAYLIGHT
BEGIN:STANDARD
TZOFFSETFROM:-0400
TZOFFSETTO:-0500
TZNAME:EST
DTSTART:20221106T060000
END:STANDARD
BEGIN:DAYLIGHT
TZOFFSETFROM:-0500
TZOFFSETTO:-0400
TZNAME:EDT
DTSTART:20230312T070000
END:DAYLIGHT
BEGIN:STANDARD
TZOFFSETFROM:-0400
TZOFFSETTO:-0500
TZNAME:EST
DTSTART:20231105T060000
END:STANDARD
END:VTIMEZONE
BEGIN:VEVENT
DTSTART;TZID=America/New_York:20220330T130000
DTEND;TZID=America/New_York:20220330T133000
DTSTAMP:20260424T051805
CREATED:20201209T184426Z
LAST-MODIFIED:20220308T192026Z
UID:10001056-1648645200-1648647000@www.unitycenterdc.org
SUMMARY:Guided Meditation
DESCRIPTION:Join Rev Karen Gray for a guided mid-day meditation. Visit our YouTube channel for records of past meditations. Subscribe for notifications of new postings. \nZoom Meeting id: 886 6139 1129\nPassword: meditation\nDirect link: https://us02web.zoom.us/j/88661391129?pwd=WWVOOWpEZEtXZzZGRHFaMUkzaGRYQT09
URL:https://www.unitycenterdc.org/calendar/guided-meditation-2020-12-09-2021-08-18-2/2022-03-30/
LOCATION:UCDC on Zoom\, DC
CATEGORIES:Meditation
ATTACH;FMTTYPE=image/jpeg:https://www.unitycenterdc.org/wp-content/uploads/2020/12/Karen-Gray-Meditation.jpg
GEO:38.9071923;-77.0368707
END:VEVENT
BEGIN:VEVENT
DTSTART;TZID=America/New_York:20220323T130000
DTEND;TZID=America/New_York:20220323T133000
DTSTAMP:20260424T051805
CREATED:20201209T184426Z
LAST-MODIFIED:20220308T192026Z
UID:10001055-1648040400-1648042200@www.unitycenterdc.org
SUMMARY:Guided Meditation
DESCRIPTION:Join Rev Karen Gray for a guided mid-day meditation. Visit our YouTube channel for records of past meditations. Subscribe for notifications of new postings. \nZoom Meeting id: 886 6139 1129\nPassword: meditation\nDirect link: https://us02web.zoom.us/j/88661391129?pwd=WWVOOWpEZEtXZzZGRHFaMUkzaGRYQT09
URL:https://www.unitycenterdc.org/calendar/guided-meditation-2020-12-09-2021-08-18-2/2022-03-23/
LOCATION:UCDC on Zoom\, DC
CATEGORIES:Meditation
ATTACH;FMTTYPE=image/jpeg:https://www.unitycenterdc.org/wp-content/uploads/2020/12/Karen-Gray-Meditation.jpg
GEO:38.9071923;-77.0368707
END:VEVENT
BEGIN:VEVENT
DTSTART;TZID=America/New_York:20220316T130000
DTEND;TZID=America/New_York:20220316T133000
DTSTAMP:20260424T051805
CREATED:20201209T184426Z
LAST-MODIFIED:20220308T192026Z
UID:10001054-1647435600-1647437400@www.unitycenterdc.org
SUMMARY:Guided Meditation
DESCRIPTION:Join Rev Karen Gray for a guided mid-day meditation. Visit our YouTube channel for records of past meditations. Subscribe for notifications of new postings. \nZoom Meeting id: 886 6139 1129\nPassword: meditation\nDirect link: https://us02web.zoom.us/j/88661391129?pwd=WWVOOWpEZEtXZzZGRHFaMUkzaGRYQT09
URL:https://www.unitycenterdc.org/calendar/guided-meditation-2020-12-09-2021-08-18-2/2022-03-16/
LOCATION:UCDC on Zoom\, DC
CATEGORIES:Meditation
ATTACH;FMTTYPE=image/jpeg:https://www.unitycenterdc.org/wp-content/uploads/2020/12/Karen-Gray-Meditation.jpg
GEO:38.9071923;-77.0368707
END:VEVENT
BEGIN:VEVENT
DTSTART;TZID=America/New_York:20220309T130000
DTEND;TZID=America/New_York:20220309T133000
DTSTAMP:20260424T051805
CREATED:20201209T184426Z
LAST-MODIFIED:20220308T192026Z
UID:10001053-1646830800-1646832600@www.unitycenterdc.org
SUMMARY:Guided Meditation
DESCRIPTION:Join Rev Karen Gray for a guided mid-day meditation. Visit our YouTube channel for records of past meditations. Subscribe for notifications of new postings. \nZoom Meeting id: 886 6139 1129\nPassword: meditation\nDirect link: https://us02web.zoom.us/j/88661391129?pwd=WWVOOWpEZEtXZzZGRHFaMUkzaGRYQT09
URL:https://www.unitycenterdc.org/calendar/guided-meditation-2020-12-09-2021-08-18-2/2022-03-09/
LOCATION:UCDC on Zoom\, DC
CATEGORIES:Meditation
ATTACH;FMTTYPE=image/jpeg:https://www.unitycenterdc.org/wp-content/uploads/2020/12/Karen-Gray-Meditation.jpg
GEO:38.9071923;-77.0368707
END:VEVENT
BEGIN:VEVENT
DTSTART;TZID=America/New_York:20220302T130000
DTEND;TZID=America/New_York:20220302T133000
DTSTAMP:20260424T051805
CREATED:20201209T184426Z
LAST-MODIFIED:20220308T192026Z
UID:10001052-1646226000-1646227800@www.unitycenterdc.org
SUMMARY:Guided Meditation
DESCRIPTION:Join Rev Karen Gray for a guided mid-day meditation. Visit our YouTube channel for records of past meditations. Subscribe for notifications of new postings. \nZoom Meeting id: 886 6139 1129\nPassword: meditation\nDirect link: https://us02web.zoom.us/j/88661391129?pwd=WWVOOWpEZEtXZzZGRHFaMUkzaGRYQT09
URL:https://www.unitycenterdc.org/calendar/guided-meditation-2020-12-09-2021-08-18-2/2022-03-02/
LOCATION:UCDC on Zoom\, DC
CATEGORIES:Meditation
ATTACH;FMTTYPE=image/jpeg:https://www.unitycenterdc.org/wp-content/uploads/2020/12/Karen-Gray-Meditation.jpg
GEO:38.9071923;-77.0368707
END:VEVENT
BEGIN:VEVENT
DTSTART;TZID=America/New_York:20220223T130000
DTEND;TZID=America/New_York:20220223T133000
DTSTAMP:20260424T051805
CREATED:20201209T184426Z
LAST-MODIFIED:20220308T192026Z
UID:10001051-1645621200-1645623000@www.unitycenterdc.org
SUMMARY:Guided Meditation
DESCRIPTION:Join Rev Karen Gray for a guided mid-day meditation. Visit our YouTube channel for records of past meditations. Subscribe for notifications of new postings. \nZoom Meeting id: 886 6139 1129\nPassword: meditation\nDirect link: https://us02web.zoom.us/j/88661391129?pwd=WWVOOWpEZEtXZzZGRHFaMUkzaGRYQT09
URL:https://www.unitycenterdc.org/calendar/guided-meditation-2020-12-09-2021-08-18-2/2022-02-23/
LOCATION:UCDC on Zoom\, DC
CATEGORIES:Meditation
ATTACH;FMTTYPE=image/jpeg:https://www.unitycenterdc.org/wp-content/uploads/2020/12/Karen-Gray-Meditation.jpg
GEO:38.9071923;-77.0368707
END:VEVENT
BEGIN:VEVENT
DTSTART;TZID=America/New_York:20220216T130000
DTEND;TZID=America/New_York:20220216T133000
DTSTAMP:20260424T051805
CREATED:20201209T184426Z
LAST-MODIFIED:20220308T192026Z
UID:10001050-1645016400-1645018200@www.unitycenterdc.org
SUMMARY:Guided Meditation
DESCRIPTION:Join Rev Karen Gray for a guided mid-day meditation. Visit our YouTube channel for records of past meditations. Subscribe for notifications of new postings. \nZoom Meeting id: 886 6139 1129\nPassword: meditation\nDirect link: https://us02web.zoom.us/j/88661391129?pwd=WWVOOWpEZEtXZzZGRHFaMUkzaGRYQT09
URL:https://www.unitycenterdc.org/calendar/guided-meditation-2020-12-09-2021-08-18-2/2022-02-16/
LOCATION:UCDC on Zoom\, DC
CATEGORIES:Meditation
ATTACH;FMTTYPE=image/jpeg:https://www.unitycenterdc.org/wp-content/uploads/2020/12/Karen-Gray-Meditation.jpg
GEO:38.9071923;-77.0368707
END:VEVENT
BEGIN:VEVENT
DTSTART;TZID=America/New_York:20220209T130000
DTEND;TZID=America/New_York:20220209T133000
DTSTAMP:20260424T051805
CREATED:20201209T184426Z
LAST-MODIFIED:20220308T192026Z
UID:10001049-1644411600-1644413400@www.unitycenterdc.org
SUMMARY:Guided Meditation
DESCRIPTION:Join Rev Karen Gray for a guided mid-day meditation. Visit our YouTube channel for records of past meditations. Subscribe for notifications of new postings. \nZoom Meeting id: 886 6139 1129\nPassword: meditation\nDirect link: https://us02web.zoom.us/j/88661391129?pwd=WWVOOWpEZEtXZzZGRHFaMUkzaGRYQT09
URL:https://www.unitycenterdc.org/calendar/guided-meditation-2020-12-09-2021-08-18-2/2022-02-09/
LOCATION:UCDC on Zoom\, DC
CATEGORIES:Meditation
ATTACH;FMTTYPE=image/jpeg:https://www.unitycenterdc.org/wp-content/uploads/2020/12/Karen-Gray-Meditation.jpg
GEO:38.9071923;-77.0368707
END:VEVENT
BEGIN:VEVENT
DTSTART;TZID=America/New_York:20220202T130000
DTEND;TZID=America/New_York:20220202T133000
DTSTAMP:20260424T051805
CREATED:20201209T184426Z
LAST-MODIFIED:20220308T192026Z
UID:10001048-1643806800-1643808600@www.unitycenterdc.org
SUMMARY:Guided Meditation
DESCRIPTION:Join Rev Karen Gray for a guided mid-day meditation. Visit our YouTube channel for records of past meditations. Subscribe for notifications of new postings. \nZoom Meeting id: 886 6139 1129\nPassword: meditation\nDirect link: https://us02web.zoom.us/j/88661391129?pwd=WWVOOWpEZEtXZzZGRHFaMUkzaGRYQT09
URL:https://www.unitycenterdc.org/calendar/guided-meditation-2020-12-09-2021-08-18-2/2022-02-02/
LOCATION:UCDC on Zoom\, DC
CATEGORIES:Meditation
ATTACH;FMTTYPE=image/jpeg:https://www.unitycenterdc.org/wp-content/uploads/2020/12/Karen-Gray-Meditation.jpg
GEO:38.9071923;-77.0368707
END:VEVENT
BEGIN:VEVENT
DTSTART;TZID=America/New_York:20220126T130000
DTEND;TZID=America/New_York:20220126T133000
DTSTAMP:20260424T051805
CREATED:20201209T184426Z
LAST-MODIFIED:20220308T192026Z
UID:10001047-1643202000-1643203800@www.unitycenterdc.org
SUMMARY:Guided Meditation
DESCRIPTION:Join Rev Karen Gray for a guided mid-day meditation. Visit our YouTube channel for records of past meditations. Subscribe for notifications of new postings. \nZoom Meeting id: 886 6139 1129\nPassword: meditation\nDirect link: https://us02web.zoom.us/j/88661391129?pwd=WWVOOWpEZEtXZzZGRHFaMUkzaGRYQT09
URL:https://www.unitycenterdc.org/calendar/guided-meditation-2020-12-09-2021-08-18-2/2022-01-26/
LOCATION:UCDC on Zoom\, DC
CATEGORIES:Meditation
ATTACH;FMTTYPE=image/jpeg:https://www.unitycenterdc.org/wp-content/uploads/2020/12/Karen-Gray-Meditation.jpg
GEO:38.9071923;-77.0368707
END:VEVENT
BEGIN:VEVENT
DTSTART;TZID=America/New_York:20220119T130000
DTEND;TZID=America/New_York:20220119T133000
DTSTAMP:20260424T051805
CREATED:20201209T184426Z
LAST-MODIFIED:20220308T192026Z
UID:10001046-1642597200-1642599000@www.unitycenterdc.org
SUMMARY:Guided Meditation
DESCRIPTION:Join Rev Karen Gray for a guided mid-day meditation. Visit our YouTube channel for records of past meditations. Subscribe for notifications of new postings. \nZoom Meeting id: 886 6139 1129\nPassword: meditation\nDirect link: https://us02web.zoom.us/j/88661391129?pwd=WWVOOWpEZEtXZzZGRHFaMUkzaGRYQT09
URL:https://www.unitycenterdc.org/calendar/guided-meditation-2020-12-09-2021-08-18-2/2022-01-19/
LOCATION:UCDC on Zoom\, DC
CATEGORIES:Meditation
ATTACH;FMTTYPE=image/jpeg:https://www.unitycenterdc.org/wp-content/uploads/2020/12/Karen-Gray-Meditation.jpg
GEO:38.9071923;-77.0368707
END:VEVENT
BEGIN:VEVENT
DTSTART;TZID=America/New_York:20220112T130000
DTEND;TZID=America/New_York:20220112T133000
DTSTAMP:20260424T051805
CREATED:20201209T184426Z
LAST-MODIFIED:20220308T192026Z
UID:10001045-1641992400-1641994200@www.unitycenterdc.org
SUMMARY:Guided Meditation
DESCRIPTION:Join Rev Karen Gray for a guided mid-day meditation. Visit our YouTube channel for records of past meditations. Subscribe for notifications of new postings. \nZoom Meeting id: 886 6139 1129\nPassword: meditation\nDirect link: https://us02web.zoom.us/j/88661391129?pwd=WWVOOWpEZEtXZzZGRHFaMUkzaGRYQT09
URL:https://www.unitycenterdc.org/calendar/guided-meditation-2020-12-09-2021-08-18-2/2022-01-12/
LOCATION:UCDC on Zoom\, DC
CATEGORIES:Meditation
ATTACH;FMTTYPE=image/jpeg:https://www.unitycenterdc.org/wp-content/uploads/2020/12/Karen-Gray-Meditation.jpg
GEO:38.9071923;-77.0368707
END:VEVENT
BEGIN:VEVENT
DTSTART;TZID=America/New_York:20220105T130000
DTEND;TZID=America/New_York:20220105T133000
DTSTAMP:20260424T051805
CREATED:20201209T184426Z
LAST-MODIFIED:20220308T192026Z
UID:10001044-1641387600-1641389400@www.unitycenterdc.org
SUMMARY:Guided Meditation
DESCRIPTION:Join Rev Karen Gray for a guided mid-day meditation. Visit our YouTube channel for records of past meditations. Subscribe for notifications of new postings. \nZoom Meeting id: 886 6139 1129\nPassword: meditation\nDirect link: https://us02web.zoom.us/j/88661391129?pwd=WWVOOWpEZEtXZzZGRHFaMUkzaGRYQT09
URL:https://www.unitycenterdc.org/calendar/guided-meditation-2020-12-09-2021-08-18-2/2022-01-05/
LOCATION:UCDC on Zoom\, DC
CATEGORIES:Meditation
ATTACH;FMTTYPE=image/jpeg:https://www.unitycenterdc.org/wp-content/uploads/2020/12/Karen-Gray-Meditation.jpg
GEO:38.9071923;-77.0368707
END:VEVENT
BEGIN:VEVENT
DTSTART;TZID=America/New_York:20211229T130000
DTEND;TZID=America/New_York:20211229T133000
DTSTAMP:20260424T051805
CREATED:20201209T184426Z
LAST-MODIFIED:20220308T192026Z
UID:10001043-1640782800-1640784600@www.unitycenterdc.org
SUMMARY:Guided Meditation
DESCRIPTION:Join Rev Karen Gray for a guided mid-day meditation. Visit our YouTube channel for records of past meditations. Subscribe for notifications of new postings. \nZoom Meeting id: 886 6139 1129\nPassword: meditation\nDirect link: https://us02web.zoom.us/j/88661391129?pwd=WWVOOWpEZEtXZzZGRHFaMUkzaGRYQT09
URL:https://www.unitycenterdc.org/calendar/guided-meditation-2020-12-09-2021-08-18-2/2021-12-29/
LOCATION:UCDC on Zoom\, DC
CATEGORIES:Meditation
ATTACH;FMTTYPE=image/jpeg:https://www.unitycenterdc.org/wp-content/uploads/2020/12/Karen-Gray-Meditation.jpg
GEO:38.9071923;-77.0368707
END:VEVENT
BEGIN:VEVENT
DTSTART;TZID=America/New_York:20211222T130000
DTEND;TZID=America/New_York:20211222T133000
DTSTAMP:20260424T051805
CREATED:20201209T184426Z
LAST-MODIFIED:20220308T192026Z
UID:10001042-1640178000-1640179800@www.unitycenterdc.org
SUMMARY:Guided Meditation
DESCRIPTION:Join Rev Karen Gray for a guided mid-day meditation. Visit our YouTube channel for records of past meditations. Subscribe for notifications of new postings. \nZoom Meeting id: 886 6139 1129\nPassword: meditation\nDirect link: https://us02web.zoom.us/j/88661391129?pwd=WWVOOWpEZEtXZzZGRHFaMUkzaGRYQT09
URL:https://www.unitycenterdc.org/calendar/guided-meditation-2020-12-09-2021-08-18-2/2021-12-22/
LOCATION:UCDC on Zoom\, DC
CATEGORIES:Meditation
ATTACH;FMTTYPE=image/jpeg:https://www.unitycenterdc.org/wp-content/uploads/2020/12/Karen-Gray-Meditation.jpg
GEO:38.9071923;-77.0368707
END:VEVENT
BEGIN:VEVENT
DTSTART;TZID=America/New_York:20211215T130000
DTEND;TZID=America/New_York:20211215T133000
DTSTAMP:20260424T051805
CREATED:20201209T184426Z
LAST-MODIFIED:20220308T192026Z
UID:10001041-1639573200-1639575000@www.unitycenterdc.org
SUMMARY:Guided Meditation
DESCRIPTION:Join Rev Karen Gray for a guided mid-day meditation. Visit our YouTube channel for records of past meditations. Subscribe for notifications of new postings. \nZoom Meeting id: 886 6139 1129\nPassword: meditation\nDirect link: https://us02web.zoom.us/j/88661391129?pwd=WWVOOWpEZEtXZzZGRHFaMUkzaGRYQT09
URL:https://www.unitycenterdc.org/calendar/guided-meditation-2020-12-09-2021-08-18-2/2021-12-15/
LOCATION:UCDC on Zoom\, DC
CATEGORIES:Meditation
ATTACH;FMTTYPE=image/jpeg:https://www.unitycenterdc.org/wp-content/uploads/2020/12/Karen-Gray-Meditation.jpg
GEO:38.9071923;-77.0368707
END:VEVENT
BEGIN:VEVENT
DTSTART;TZID=America/New_York:20211208T130000
DTEND;TZID=America/New_York:20211208T133000
DTSTAMP:20260424T051805
CREATED:20201209T184426Z
LAST-MODIFIED:20220308T192026Z
UID:10001040-1638968400-1638970200@www.unitycenterdc.org
SUMMARY:Guided Meditation
DESCRIPTION:Join Rev Karen Gray for a guided mid-day meditation. Visit our YouTube channel for records of past meditations. Subscribe for notifications of new postings. \nZoom Meeting id: 886 6139 1129\nPassword: meditation\nDirect link: https://us02web.zoom.us/j/88661391129?pwd=WWVOOWpEZEtXZzZGRHFaMUkzaGRYQT09
URL:https://www.unitycenterdc.org/calendar/guided-meditation-2020-12-09-2021-08-18-2/2021-12-08/
LOCATION:UCDC on Zoom\, DC
CATEGORIES:Meditation
ATTACH;FMTTYPE=image/jpeg:https://www.unitycenterdc.org/wp-content/uploads/2020/12/Karen-Gray-Meditation.jpg
GEO:38.9071923;-77.0368707
END:VEVENT
BEGIN:VEVENT
DTSTART;TZID=America/New_York:20211201T130000
DTEND;TZID=America/New_York:20211201T133000
DTSTAMP:20260424T051805
CREATED:20201209T184426Z
LAST-MODIFIED:20220308T192026Z
UID:10001039-1638363600-1638365400@www.unitycenterdc.org
SUMMARY:Guided Meditation
DESCRIPTION:Join Rev Karen Gray for a guided mid-day meditation. Visit our YouTube channel for records of past meditations. Subscribe for notifications of new postings. \nZoom Meeting id: 886 6139 1129\nPassword: meditation\nDirect link: https://us02web.zoom.us/j/88661391129?pwd=WWVOOWpEZEtXZzZGRHFaMUkzaGRYQT09
URL:https://www.unitycenterdc.org/calendar/guided-meditation-2020-12-09-2021-08-18-2/2021-12-01/
LOCATION:UCDC on Zoom\, DC
CATEGORIES:Meditation
ATTACH;FMTTYPE=image/jpeg:https://www.unitycenterdc.org/wp-content/uploads/2020/12/Karen-Gray-Meditation.jpg
GEO:38.9071923;-77.0368707
END:VEVENT
BEGIN:VEVENT
DTSTART;TZID=America/New_York:20211124T130000
DTEND;TZID=America/New_York:20211124T133000
DTSTAMP:20260424T051805
CREATED:20201209T184426Z
LAST-MODIFIED:20220308T192026Z
UID:10001038-1637758800-1637760600@www.unitycenterdc.org
SUMMARY:Guided Meditation
DESCRIPTION:Join Rev Karen Gray for a guided mid-day meditation. Visit our YouTube channel for records of past meditations. Subscribe for notifications of new postings. \nZoom Meeting id: 886 6139 1129\nPassword: meditation\nDirect link: https://us02web.zoom.us/j/88661391129?pwd=WWVOOWpEZEtXZzZGRHFaMUkzaGRYQT09
URL:https://www.unitycenterdc.org/calendar/guided-meditation-2020-12-09-2021-08-18-2/2021-11-24/
LOCATION:UCDC on Zoom\, DC
CATEGORIES:Meditation
ATTACH;FMTTYPE=image/jpeg:https://www.unitycenterdc.org/wp-content/uploads/2020/12/Karen-Gray-Meditation.jpg
GEO:38.9071923;-77.0368707
END:VEVENT
BEGIN:VEVENT
DTSTART;TZID=America/New_York:20211117T130000
DTEND;TZID=America/New_York:20211117T133000
DTSTAMP:20260424T051805
CREATED:20201209T184426Z
LAST-MODIFIED:20220308T192026Z
UID:10001037-1637154000-1637155800@www.unitycenterdc.org
SUMMARY:Guided Meditation
DESCRIPTION:Join Rev Karen Gray for a guided mid-day meditation. Visit our YouTube channel for records of past meditations. Subscribe for notifications of new postings. \nZoom Meeting id: 886 6139 1129\nPassword: meditation\nDirect link: https://us02web.zoom.us/j/88661391129?pwd=WWVOOWpEZEtXZzZGRHFaMUkzaGRYQT09
URL:https://www.unitycenterdc.org/calendar/guided-meditation-2020-12-09-2021-08-18-2/2021-11-17/
LOCATION:UCDC on Zoom\, DC
CATEGORIES:Meditation
ATTACH;FMTTYPE=image/jpeg:https://www.unitycenterdc.org/wp-content/uploads/2020/12/Karen-Gray-Meditation.jpg
GEO:38.9071923;-77.0368707
END:VEVENT
BEGIN:VEVENT
DTSTART;TZID=America/New_York:20211110T130000
DTEND;TZID=America/New_York:20211110T133000
DTSTAMP:20260424T051805
CREATED:20201209T184426Z
LAST-MODIFIED:20220308T192026Z
UID:10001036-1636549200-1636551000@www.unitycenterdc.org
SUMMARY:Guided Meditation
DESCRIPTION:Join Rev Karen Gray for a guided mid-day meditation. Visit our YouTube channel for records of past meditations. Subscribe for notifications of new postings. \nZoom Meeting id: 886 6139 1129\nPassword: meditation\nDirect link: https://us02web.zoom.us/j/88661391129?pwd=WWVOOWpEZEtXZzZGRHFaMUkzaGRYQT09
URL:https://www.unitycenterdc.org/calendar/guided-meditation-2020-12-09-2021-08-18-2/2021-11-10/
LOCATION:UCDC on Zoom\, DC
CATEGORIES:Meditation
ATTACH;FMTTYPE=image/jpeg:https://www.unitycenterdc.org/wp-content/uploads/2020/12/Karen-Gray-Meditation.jpg
GEO:38.9071923;-77.0368707
END:VEVENT
BEGIN:VEVENT
DTSTART;TZID=America/New_York:20211103T130000
DTEND;TZID=America/New_York:20211103T133000
DTSTAMP:20260424T051805
CREATED:20201209T184426Z
LAST-MODIFIED:20220308T192026Z
UID:10001035-1635944400-1635946200@www.unitycenterdc.org
SUMMARY:Guided Meditation
DESCRIPTION:Join Rev Karen Gray for a guided mid-day meditation. Visit our YouTube channel for records of past meditations. Subscribe for notifications of new postings. \nZoom Meeting id: 886 6139 1129\nPassword: meditation\nDirect link: https://us02web.zoom.us/j/88661391129?pwd=WWVOOWpEZEtXZzZGRHFaMUkzaGRYQT09
URL:https://www.unitycenterdc.org/calendar/guided-meditation-2020-12-09-2021-08-18-2/2021-11-03/
LOCATION:UCDC on Zoom\, DC
CATEGORIES:Meditation
ATTACH;FMTTYPE=image/jpeg:https://www.unitycenterdc.org/wp-content/uploads/2020/12/Karen-Gray-Meditation.jpg
GEO:38.9071923;-77.0368707
END:VEVENT
BEGIN:VEVENT
DTSTART;TZID=America/New_York:20211027T130000
DTEND;TZID=America/New_York:20211027T133000
DTSTAMP:20260424T051805
CREATED:20201209T184426Z
LAST-MODIFIED:20220308T192026Z
UID:10001034-1635339600-1635341400@www.unitycenterdc.org
SUMMARY:Guided Meditation
DESCRIPTION:Join Rev Karen Gray for a guided mid-day meditation. Visit our YouTube channel for records of past meditations. Subscribe for notifications of new postings. \nZoom Meeting id: 886 6139 1129\nPassword: meditation\nDirect link: https://us02web.zoom.us/j/88661391129?pwd=WWVOOWpEZEtXZzZGRHFaMUkzaGRYQT09
URL:https://www.unitycenterdc.org/calendar/guided-meditation-2020-12-09-2021-08-18-2/2021-10-27/
LOCATION:UCDC on Zoom\, DC
CATEGORIES:Meditation
ATTACH;FMTTYPE=image/jpeg:https://www.unitycenterdc.org/wp-content/uploads/2020/12/Karen-Gray-Meditation.jpg
GEO:38.9071923;-77.0368707
END:VEVENT
BEGIN:VEVENT
DTSTART;TZID=America/New_York:20211020T130000
DTEND;TZID=America/New_York:20211020T133000
DTSTAMP:20260424T051805
CREATED:20201209T184426Z
LAST-MODIFIED:20220308T192026Z
UID:10001033-1634734800-1634736600@www.unitycenterdc.org
SUMMARY:Guided Meditation
DESCRIPTION:Join Rev Karen Gray for a guided mid-day meditation. Visit our YouTube channel for records of past meditations. Subscribe for notifications of new postings. \nZoom Meeting id: 886 6139 1129\nPassword: meditation\nDirect link: https://us02web.zoom.us/j/88661391129?pwd=WWVOOWpEZEtXZzZGRHFaMUkzaGRYQT09
URL:https://www.unitycenterdc.org/calendar/guided-meditation-2020-12-09-2021-08-18-2/2021-10-20/
LOCATION:UCDC on Zoom\, DC
CATEGORIES:Meditation
ATTACH;FMTTYPE=image/jpeg:https://www.unitycenterdc.org/wp-content/uploads/2020/12/Karen-Gray-Meditation.jpg
GEO:38.9071923;-77.0368707
END:VEVENT
BEGIN:VEVENT
DTSTART;TZID=America/New_York:20211013T130000
DTEND;TZID=America/New_York:20211013T133000
DTSTAMP:20260424T051805
CREATED:20201209T184426Z
LAST-MODIFIED:20220308T192026Z
UID:10001032-1634130000-1634131800@www.unitycenterdc.org
SUMMARY:Guided Meditation
DESCRIPTION:Join Rev Karen Gray for a guided mid-day meditation. Visit our YouTube channel for records of past meditations. Subscribe for notifications of new postings. \nZoom Meeting id: 886 6139 1129\nPassword: meditation\nDirect link: https://us02web.zoom.us/j/88661391129?pwd=WWVOOWpEZEtXZzZGRHFaMUkzaGRYQT09
URL:https://www.unitycenterdc.org/calendar/guided-meditation-2020-12-09-2021-08-18-2/2021-10-13/
LOCATION:UCDC on Zoom\, DC
CATEGORIES:Meditation
ATTACH;FMTTYPE=image/jpeg:https://www.unitycenterdc.org/wp-content/uploads/2020/12/Karen-Gray-Meditation.jpg
GEO:38.9071923;-77.0368707
END:VEVENT
BEGIN:VEVENT
DTSTART;TZID=America/New_York:20211006T130000
DTEND;TZID=America/New_York:20211006T133000
DTSTAMP:20260424T051805
CREATED:20201209T184426Z
LAST-MODIFIED:20220308T192026Z
UID:10001031-1633525200-1633527000@www.unitycenterdc.org
SUMMARY:Guided Meditation
DESCRIPTION:Join Rev Karen Gray for a guided mid-day meditation. Visit our YouTube channel for records of past meditations. Subscribe for notifications of new postings. \nZoom Meeting id: 886 6139 1129\nPassword: meditation\nDirect link: https://us02web.zoom.us/j/88661391129?pwd=WWVOOWpEZEtXZzZGRHFaMUkzaGRYQT09
URL:https://www.unitycenterdc.org/calendar/guided-meditation-2020-12-09-2021-08-18-2/2021-10-06/
LOCATION:UCDC on Zoom\, DC
CATEGORIES:Meditation
ATTACH;FMTTYPE=image/jpeg:https://www.unitycenterdc.org/wp-content/uploads/2020/12/Karen-Gray-Meditation.jpg
GEO:38.9071923;-77.0368707
END:VEVENT
BEGIN:VEVENT
DTSTART;TZID=America/New_York:20210929T130000
DTEND;TZID=America/New_York:20210929T133000
DTSTAMP:20260424T051805
CREATED:20201209T184426Z
LAST-MODIFIED:20220308T192026Z
UID:10001030-1632920400-1632922200@www.unitycenterdc.org
SUMMARY:Guided Meditation
DESCRIPTION:Join Rev Karen Gray for a guided mid-day meditation. Visit our YouTube channel for records of past meditations. Subscribe for notifications of new postings. \nZoom Meeting id: 886 6139 1129\nPassword: meditation\nDirect link: https://us02web.zoom.us/j/88661391129?pwd=WWVOOWpEZEtXZzZGRHFaMUkzaGRYQT09
URL:https://www.unitycenterdc.org/calendar/guided-meditation-2020-12-09-2021-08-18-2/2021-09-29/
LOCATION:UCDC on Zoom\, DC
CATEGORIES:Meditation
ATTACH;FMTTYPE=image/jpeg:https://www.unitycenterdc.org/wp-content/uploads/2020/12/Karen-Gray-Meditation.jpg
GEO:38.9071923;-77.0368707
END:VEVENT
BEGIN:VEVENT
DTSTART;TZID=America/New_York:20210922T130000
DTEND;TZID=America/New_York:20210922T133000
DTSTAMP:20260424T051805
CREATED:20201209T184426Z
LAST-MODIFIED:20220308T192026Z
UID:10001029-1632315600-1632317400@www.unitycenterdc.org
SUMMARY:Guided Meditation
DESCRIPTION:Join Rev Karen Gray for a guided mid-day meditation. Visit our YouTube channel for records of past meditations. Subscribe for notifications of new postings. \nZoom Meeting id: 886 6139 1129\nPassword: meditation\nDirect link: https://us02web.zoom.us/j/88661391129?pwd=WWVOOWpEZEtXZzZGRHFaMUkzaGRYQT09
URL:https://www.unitycenterdc.org/calendar/guided-meditation-2020-12-09-2021-08-18-2/2021-09-22/
LOCATION:UCDC on Zoom\, DC
CATEGORIES:Meditation
ATTACH;FMTTYPE=image/jpeg:https://www.unitycenterdc.org/wp-content/uploads/2020/12/Karen-Gray-Meditation.jpg
GEO:38.9071923;-77.0368707
END:VEVENT
BEGIN:VEVENT
DTSTART;TZID=America/New_York:20210915T130000
DTEND;TZID=America/New_York:20210915T133000
DTSTAMP:20260424T051805
CREATED:20201209T184426Z
LAST-MODIFIED:20220308T192026Z
UID:10001028-1631710800-1631712600@www.unitycenterdc.org
SUMMARY:Guided Meditation
DESCRIPTION:Join Rev Karen Gray for a guided mid-day meditation. Visit our YouTube channel for records of past meditations. Subscribe for notifications of new postings. \nZoom Meeting id: 886 6139 1129\nPassword: meditation\nDirect link: https://us02web.zoom.us/j/88661391129?pwd=WWVOOWpEZEtXZzZGRHFaMUkzaGRYQT09
URL:https://www.unitycenterdc.org/calendar/guided-meditation-2020-12-09-2021-08-18-2/2021-09-15/
LOCATION:UCDC on Zoom\, DC
CATEGORIES:Meditation
ATTACH;FMTTYPE=image/jpeg:https://www.unitycenterdc.org/wp-content/uploads/2020/12/Karen-Gray-Meditation.jpg
GEO:38.9071923;-77.0368707
END:VEVENT
BEGIN:VEVENT
DTSTART;TZID=America/New_York:20210908T130000
DTEND;TZID=America/New_York:20210908T133000
DTSTAMP:20260424T051805
CREATED:20201209T184426Z
LAST-MODIFIED:20220308T192026Z
UID:10001027-1631106000-1631107800@www.unitycenterdc.org
SUMMARY:Guided Meditation
DESCRIPTION:Join Rev Karen Gray for a guided mid-day meditation. Visit our YouTube channel for records of past meditations. Subscribe for notifications of new postings. \nZoom Meeting id: 886 6139 1129\nPassword: meditation\nDirect link: https://us02web.zoom.us/j/88661391129?pwd=WWVOOWpEZEtXZzZGRHFaMUkzaGRYQT09
URL:https://www.unitycenterdc.org/calendar/guided-meditation-2020-12-09-2021-08-18-2/2021-09-08/
LOCATION:UCDC on Zoom\, DC
CATEGORIES:Meditation
ATTACH;FMTTYPE=image/jpeg:https://www.unitycenterdc.org/wp-content/uploads/2020/12/Karen-Gray-Meditation.jpg
GEO:38.9071923;-77.0368707
END:VEVENT
END:VCALENDAR